| Back to Multiple platform build/check report for BioC 3.16: simplified long |
|
This page was generated on 2023-04-12 11:05:27 -0400 (Wed, 12 Apr 2023).
| Hostname | OS | Arch (*) | R version | Installed pkgs |
|---|---|---|---|---|
| nebbiolo2 | Linux (Ubuntu 20.04.5 LTS) | x86_64 | 4.2.3 (2023-03-15) -- "Shortstop Beagle" | 4502 |
| palomino4 | Windows Server 2022 Datacenter | x64 | 4.2.3 (2023-03-15 ucrt) -- "Shortstop Beagle" | 4282 |
| lconway | macOS 12.5.1 Monterey | x86_64 | 4.2.3 (2023-03-15) -- "Shortstop Beagle" | 4310 |
| Click on any hostname to see more info about the system (e.g. compilers) (*) as reported by 'uname -p', except on Windows and Mac OS X | ||||
|
To the developers/maintainers of the CAGEfightR package: - Please allow up to 24 hours (and sometimes 48 hours) for your latest push to git@git.bioconductor.org:packages/CAGEfightR.git to reflect on this report. See How and When does the builder pull? When will my changes propagate? for more information. - Make sure to use the following settings in order to reproduce any error or warning you see on this page. |
| Package 244/2183 | Hostname | OS / Arch | INSTALL | BUILD | CHECK | BUILD BIN | ||||||||
| CAGEfightR 1.18.0 (landing page) Malte Thodberg
| nebbiolo2 | Linux (Ubuntu 20.04.5 LTS) / x86_64 | OK | OK | OK | |||||||||
| palomino4 | Windows Server 2022 Datacenter / x64 | OK | OK | OK | OK | |||||||||
| lconway | macOS 12.5.1 Monterey / x86_64 | OK | OK | OK | OK | |||||||||
| Package: CAGEfightR |
| Version: 1.18.0 |
| Command: F:\biocbuild\bbs-3.16-bioc\R\bin\R.exe CMD check --no-multiarch --install=check:CAGEfightR.install-out.txt --library=F:\biocbuild\bbs-3.16-bioc\R\library --no-vignettes --timings CAGEfightR_1.18.0.tar.gz |
| StartedAt: 2023-04-10 23:35:26 -0400 (Mon, 10 Apr 2023) |
| EndedAt: 2023-04-10 23:42:08 -0400 (Mon, 10 Apr 2023) |
| EllapsedTime: 401.9 seconds |
| RetCode: 0 |
| Status: OK |
| CheckDir: CAGEfightR.Rcheck |
| Warnings: 0 |
##############################################################################
##############################################################################
###
### Running command:
###
### F:\biocbuild\bbs-3.16-bioc\R\bin\R.exe CMD check --no-multiarch --install=check:CAGEfightR.install-out.txt --library=F:\biocbuild\bbs-3.16-bioc\R\library --no-vignettes --timings CAGEfightR_1.18.0.tar.gz
###
##############################################################################
##############################################################################
* using log directory 'F:/biocbuild/bbs-3.16-bioc/meat/CAGEfightR.Rcheck'
* using R version 4.2.3 (2023-03-15 ucrt)
* using platform: x86_64-w64-mingw32 (64-bit)
* using session charset: UTF-8
* using option '--no-vignettes'
* checking for file 'CAGEfightR/DESCRIPTION' ... OK
* checking extension type ... Package
* this is package 'CAGEfightR' version '1.18.0'
* package encoding: UTF-8
* checking package namespace information ... OK
* checking package dependencies ... OK
* checking if this is a source package ... OK
* checking if there is a namespace ... OK
* checking for hidden files and directories ... OK
* checking for portable file names ... OK
* checking whether package 'CAGEfightR' can be installed ... OK
* checking installed package size ... OK
* checking package directory ... OK
* checking 'build' directory ... OK
* checking DESCRIPTION meta-information ... OK
* checking top-level files ... OK
* checking for left-over files ... OK
* checking index information ... OK
* checking package subdirectories ... OK
* checking R files for non-ASCII characters ... OK
* checking R files for syntax errors ... OK
* checking whether the package can be loaded ... OK
* checking whether the package can be loaded with stated dependencies ... OK
* checking whether the package can be unloaded cleanly ... OK
* checking whether the namespace can be loaded with stated dependencies ... OK
* checking whether the namespace can be unloaded cleanly ... OK
* checking dependencies in R code ... OK
* checking S3 generic/method consistency ... OK
* checking replacement functions ... OK
* checking foreign function calls ... OK
* checking R code for possible problems ... OK
* checking Rd files ... OK
* checking Rd metadata ... OK
* checking Rd cross-references ... OK
* checking for missing documentation entries ... OK
* checking for code/documentation mismatches ... OK
* checking Rd \usage sections ... OK
* checking Rd contents ... OK
* checking for unstated dependencies in examples ... OK
* checking contents of 'data' directory ... OK
* checking data for non-ASCII characters ... OK
* checking LazyData ... OK
* checking data for ASCII and uncompressed saves ... OK
* checking files in 'vignettes' ... OK
* checking examples ... OK
Examples with CPU (user + system) or elapsed time > 5s
user system elapsed
findLinks 5.44 0.11 43.45
trackLinks 1.92 0.08 21.25
* checking for unstated dependencies in vignettes ... OK
* checking package vignettes in 'inst/doc' ... OK
* checking running R code from vignettes ... SKIPPED
* checking re-building of vignette outputs ... SKIPPED
* checking PDF version of manual ... OK
* DONE
Status: OK
CAGEfightR.Rcheck/00install.out
############################################################################## ############################################################################## ### ### Running command: ### ### F:\biocbuild\bbs-3.16-bioc\R\bin\R.exe CMD INSTALL CAGEfightR ### ############################################################################## ############################################################################## * installing to library 'F:/biocbuild/bbs-3.16-bioc/R/library' * installing *source* package 'CAGEfightR' ... ** using staged installation ** R ** data *** moving datasets to lazyload DB ** inst ** byte-compile and prepare package for lazy loading ** help *** installing help indices ** building package indices ** installing vignettes ** testing if installed package can be loaded from temporary location ** testing if installed package can be loaded from final location ** testing if installed package keeps a record of temporary installation path * DONE (CAGEfightR)
CAGEfightR.Rcheck/CAGEfightR-Ex.timings
| name | user | system | elapsed | |
| assignGeneID | 3.71 | 0.07 | 3.79 | |
| assignMissingID | 1.18 | 0.00 | 1.19 | |
| assignTxID | 0.73 | 0.04 | 0.78 | |
| assignTxType | 0 | 0 | 0 | |
| balanceBC | 0 | 0 | 0 | |
| balanceD | 0 | 0 | 0 | |
| bwCommonGenome | 0 | 0 | 0 | |
| bwGenomeCompatibility | 0 | 0 | 0 | |
| bwValid | 0.00 | 0.03 | 0.03 | |
| calcBidirectionality | 1.32 | 0.00 | 1.31 | |
| calcComposition | 1.56 | 0.02 | 1.58 | |
| calcPooled | 0.11 | 0.00 | 0.11 | |
| calcShape | 2.56 | 0.12 | 2.69 | |
| calcSupport | 0.16 | 0.02 | 0.17 | |
| calcTPM | 0.15 | 0.02 | 0.17 | |
| calcTotalTags | 0.08 | 0.00 | 0.08 | |
| checkCTSSs | 0 | 0 | 0 | |
| checkPeaked | 0.06 | 0.00 | 0.06 | |
| checkPooled | 0.05 | 0.01 | 0.06 | |
| clusterBidirectionally | 0.02 | 0.00 | 0.00 | |
| clusterUnidirectionally | 1.56 | 0.03 | 1.59 | |
| combineClusters | 0.87 | 0.02 | 0.89 | |
| convertBAM2BigWig | 0 | 0 | 0 | |
| convertBED2BigWig | 0 | 0 | 0 | |
| convertGRanges2GPos | 0.14 | 0.00 | 0.15 | |
| exampleDesign | 0.00 | 0.03 | 0.03 | |
| findLinks | 5.44 | 0.11 | 43.45 | |
| findStretches | 0.33 | 0.00 | 0.32 | |
| quantifyCTSSs | 0 | 0 | 0 | |
| quantifyCTSSs2 | 0 | 0 | 0 | |
| quantifyClusters | 0.37 | 0.00 | 0.37 | |
| quantifyGenes | 1.13 | 0.06 | 1.19 | |
| quickEnhancers | 0 | 0 | 0 | |
| quickGenes | 0 | 0 | 0 | |
| quickTSSs | 0 | 0 | 0 | |
| shapeEntropy | 0 | 0 | 0 | |
| shapeIQR | 0 | 0 | 0 | |
| shapeMean | 0 | 0 | 0 | |
| shapeMultimodality | 0 | 0 | 0 | |
| subsetByBidirectionality | 0.35 | 0.00 | 0.36 | |
| subsetByComposition | 1.13 | 0.03 | 1.15 | |
| subsetBySupport | 0.12 | 0.00 | 0.12 | |
| swapRanges | 0.17 | 0.00 | 0.18 | |
| swapScores | 0.10 | 0.02 | 0.10 | |
| trackBalance | 0 | 0 | 0 | |
| trackCTSS | 3.04 | 0.04 | 3.08 | |
| trackClusters | 2.19 | 0.03 | 2.22 | |
| trackLinks | 1.92 | 0.08 | 21.25 | |
| trimToPeak | 1.00 | 0.01 | 1.01 | |
| trimToPercentiles | 1.67 | 0.05 | 1.72 | |
| tuneTagClustering | 0 | 0 | 0 | |
| utilsAggregateRows | 0.55 | 0.25 | 0.80 | |
| utilsDeStrand | 0.17 | 0.00 | 0.17 | |
| utilsScoreOverlaps | 0.10 | 0.00 | 0.09 | |
| utilsSimplifyTxDb | 0 | 0 | 0 | |