| Back to Multiple platform build/check report for BioC 3.15 |
|
This page was generated on 2022-03-18 11:08:58 -0400 (Fri, 18 Mar 2022).
| Hostname | OS | Arch (*) | R version | Installed pkgs |
|---|---|---|---|---|
| nebbiolo1 | Linux (Ubuntu 20.04.4 LTS) | x86_64 | R Under development (unstable) (2022-02-17 r81757) -- "Unsuffered Consequences" | 4334 |
| riesling1 | Windows Server 2019 Standard | x64 | R Under development (unstable) (2021-11-21 r81221) -- "Unsuffered Consequences" | 4097 |
| palomino3 | Windows Server 2022 Datacenter | x64 | R Under development (unstable) (2022-02-17 r81757 ucrt) -- "Unsuffered Consequences" | 4083 |
| merida1 | macOS 10.14.6 Mojave | x86_64 | R Under development (unstable) (2022-03-02 r81842) -- "Unsuffered Consequences" | 4134 |
| Click on any hostname to see more info about the system (e.g. compilers) (*) as reported by 'uname -p', except on Windows and Mac OS X | ||||
|
To the developers/maintainers of the vissE package: - Please allow up to 24 hours (and sometimes 48 hours) for your latest push to git@git.bioconductor.org:packages/vissE.git to reflect on this report. See How and When does the builder pull? When will my changes propagate? here for more information. - Make sure to use the following settings in order to reproduce any error or warning you see on this page. |
| Package 2060/2090 | Hostname | OS / Arch | INSTALL | BUILD | CHECK | BUILD BIN | ||||||||
| vissE 1.3.11 (landing page) Dharmesh D. Bhuva
| nebbiolo1 | Linux (Ubuntu 20.04.4 LTS) / x86_64 | OK | OK | OK | |||||||||
| riesling1 | Windows Server 2019 Standard / x64 | OK | OK | OK | OK | |||||||||
| palomino3 | Windows Server 2022 Datacenter / x64 | OK | ERROR | skipped | skipped | |||||||||
| merida1 | macOS 10.14.6 Mojave / x86_64 | OK | OK | OK | OK | |||||||||
| Package: vissE |
| Version: 1.3.11 |
| Command: D:\biocbuild\bbs-3.15-bioc\R\bin\R.exe CMD check --no-multiarch --install=check:vissE.install-out.txt --library=D:\biocbuild\bbs-3.15-bioc\R\library --no-vignettes --timings vissE_1.3.11.tar.gz |
| StartedAt: 2022-03-17 20:35:41 -0400 (Thu, 17 Mar 2022) |
| EndedAt: 2022-03-17 20:37:26 -0400 (Thu, 17 Mar 2022) |
| EllapsedTime: 105.8 seconds |
| RetCode: 0 |
| Status: OK |
| CheckDir: vissE.Rcheck |
| Warnings: 0 |
##############################################################################
##############################################################################
###
### Running command:
###
### D:\biocbuild\bbs-3.15-bioc\R\bin\R.exe CMD check --no-multiarch --install=check:vissE.install-out.txt --library=D:\biocbuild\bbs-3.15-bioc\R\library --no-vignettes --timings vissE_1.3.11.tar.gz
###
##############################################################################
##############################################################################
* using log directory 'D:/biocbuild/bbs-3.15-bioc/meat/vissE.Rcheck'
* using R Under development (unstable) (2021-11-21 r81221)
* using platform: x86_64-w64-mingw32 (64-bit)
* using session charset: ISO8859-1
* using option '--no-vignettes'
* checking for file 'vissE/DESCRIPTION' ... OK
* this is package 'vissE' version '1.3.11'
* package encoding: UTF-8
* checking package namespace information ... OK
* checking package dependencies ... OK
* checking if this is a source package ... OK
* checking if there is a namespace ... OK
* checking for hidden files and directories ... OK
* checking for portable file names ... OK
* checking whether package 'vissE' can be installed ... OK
* checking installed package size ... OK
* checking package directory ... OK
* checking 'build' directory ... OK
* checking DESCRIPTION meta-information ... OK
* checking top-level files ... OK
* checking for left-over files ... OK
* checking index information ... OK
* checking package subdirectories ... OK
* checking R files for non-ASCII characters ... OK
* checking R files for syntax errors ... OK
* checking whether the package can be loaded ... OK
* checking whether the package can be loaded with stated dependencies ... OK
* checking whether the package can be unloaded cleanly ... OK
* checking whether the namespace can be loaded with stated dependencies ... OK
* checking whether the namespace can be unloaded cleanly ... OK
* checking dependencies in R code ... OK
* checking S3 generic/method consistency ... OK
* checking replacement functions ... OK
* checking foreign function calls ... OK
* checking R code for possible problems ... NOTE
plotGeneStats: no visible binding for global variable 'Count'
plotGeneStats: no visible binding for global variable 'GeneStat'
plotGeneStats: no visible binding for global variable 'Gene'
plotMsigNetwork: no visible binding for global variable 'Size'
plotMsigNetwork: no visible binding for global variable 'Category'
plotMsigNetwork: no visible binding for global variable 'x'
plotMsigNetwork: no visible binding for global variable 'y'
plotMsigNetwork: no visible binding for global variable 'NodeGroup'
plotMsigPPI: no visible binding for global variable 'weight'
plotMsigPPI: no visible binding for global variable 'Degree'
plotMsigPPI: no visible binding for global variable 'label'
plotMsigPPI: no visible binding for global variable 'Label'
plotMsigWordcloud: no visible binding for global variable 'word'
plotMsigWordcloud: no visible binding for global variable 'freq'
plotMsigWordcloud: no visible binding for global variable 'angle'
Undefined global functions or variables:
Category Count Degree Gene GeneStat Label NodeGroup Size angle freq
label weight word x y
* checking Rd files ... OK
* checking Rd metadata ... OK
* checking Rd cross-references ... OK
* checking for missing documentation entries ... OK
* checking for code/documentation mismatches ... OK
* checking Rd \usage sections ... OK
* checking Rd contents ... OK
* checking for unstated dependencies in examples ... OK
* checking contents of 'data' directory ... OK
* checking data for non-ASCII characters ... OK
* checking LazyData ... NOTE
'LazyDataCompression' is specified without 'LazyData'
* checking data for ASCII and uncompressed saves ... OK
* checking R/sysdata.rda ... OK
* checking files in 'vignettes' ... OK
* checking examples ... OK
Examples with CPU (user + system) or elapsed time > 5s
user system elapsed
plotMsigPPI 9.6 1.28 12.31
* checking for unstated dependencies in 'tests' ... OK
* checking tests ...
Running 'testthat.R'
OK
* checking for unstated dependencies in vignettes ... OK
* checking package vignettes in 'inst/doc' ... OK
* checking running R code from vignettes ... SKIPPED
* checking re-building of vignette outputs ... SKIPPED
* checking PDF version of manual ... OK
* DONE
Status: 2 NOTEs
See
'D:/biocbuild/bbs-3.15-bioc/meat/vissE.Rcheck/00check.log'
for details.
vissE.Rcheck/00install.out
##############################################################################
##############################################################################
###
### Running command:
###
### D:\biocbuild\bbs-3.15-bioc\R\bin\R.exe CMD INSTALL vissE
###
##############################################################################
##############################################################################
* installing to library 'D:/biocbuild/bbs-3.15-bioc/R/library'
* installing *source* package 'vissE' ...
** using staged installation
** R
** data
** inst
** byte-compile and prepare package for lazy loading
** help
*** installing help indices
converting help for package 'vissE'
finding HTML links ... done
bhuvad_theme html
characteriseGeneset html
computeMsigNetwork html
computeMsigOverlap html
computeMsigWordFreq html
findMsigClusters html
getMsigBlacklist html
hgsc html
plotGeneStats html
plotMsigNetwork html
plotMsigPPI html
plotMsigWordcloud html
vissE-package html
** building package indices
** installing vignettes
** testing if installed package can be loaded from temporary location
** testing if installed package can be loaded from final location
** testing if installed package keeps a record of temporary installation path
* DONE (vissE)
Making 'packages.html' ... done
vissE.Rcheck/tests/testthat.Rout
R Under development (unstable) (2021-11-21 r81221) -- "Unsuffered Consequences"
Copyright (C) 2021 The R Foundation for Statistical Computing
Platform: x86_64-w64-mingw32/x64 (64-bit)
R is free software and comes with ABSOLUTELY NO WARRANTY.
You are welcome to redistribute it under certain conditions.
Type 'license()' or 'licence()' for distribution details.
R is a collaborative project with many contributors.
Type 'contributors()' for more information and
'citation()' on how to cite R or R packages in publications.
Type 'demo()' for some demos, 'help()' for on-line help, or
'help.start()' for an HTML browser interface to help.
Type 'q()' to quit R.
> library(testthat)
> library(vissE)
>
> test_check("vissE")
[ FAIL 0 | WARN 7 | SKIP 0 | PASS 70 ]
[ FAIL 0 | WARN 7 | SKIP 0 | PASS 70 ]
>
> proc.time()
user system elapsed
22.64 2.89 27.37
vissE.Rcheck/vissE-Ex.timings
| name | user | system | elapsed | |
| bhuvad_theme | 0.06 | 0.00 | 0.07 | |
| characteriseGeneset | 3.12 | 0.29 | 3.42 | |
| computeMsigNetwork | 0.03 | 0.07 | 0.09 | |
| computeMsigOverlap | 0.00 | 0.04 | 0.05 | |
| computeMsigWordFreq | 1.80 | 0.07 | 1.86 | |
| findMsigClusters | 0.03 | 0.04 | 0.08 | |
| getMsigBlacklist | 0 | 0 | 0 | |
| plotGeneStats | 0.77 | 0.08 | 0.84 | |
| plotMsigNetwork | 0.59 | 0.08 | 0.67 | |
| plotMsigPPI | 9.60 | 1.28 | 12.31 | |
| plotMsigWordcloud | 0.95 | 0.13 | 1.46 | |