| Back to Multiple platform build/check report for BioC 3.15 |
|
This page was generated on 2022-10-19 13:21:00 -0400 (Wed, 19 Oct 2022).
| Hostname | OS | Arch (*) | R version | Installed pkgs |
|---|---|---|---|---|
| nebbiolo1 | Linux (Ubuntu 20.04.5 LTS) | x86_64 | 4.2.1 (2022-06-23) -- "Funny-Looking Kid" | 4386 |
| palomino3 | Windows Server 2022 Datacenter | x64 | 4.2.1 (2022-06-23 ucrt) -- "Funny-Looking Kid" | 4138 |
| merida1 | macOS 10.14.6 Mojave | x86_64 | 4.2.1 (2022-06-23) -- "Funny-Looking Kid" | 4205 |
| Click on any hostname to see more info about the system (e.g. compilers) (*) as reported by 'uname -p', except on Windows and Mac OS X | ||||
|
To the developers/maintainers of the trio package: - Please allow up to 24 hours (and sometimes 48 hours) for your latest push to git@git.bioconductor.org:packages/trio.git to reflect on this report. See How and When does the builder pull? When will my changes propagate? for more information. - Make sure to use the following settings in order to reproduce any error or warning you see on this page. |
| Package 2057/2140 | Hostname | OS / Arch | INSTALL | BUILD | CHECK | BUILD BIN | ||||||||
| trio 3.34.0 (landing page) Holger Schwender
| nebbiolo1 | Linux (Ubuntu 20.04.5 LTS) / x86_64 | OK | OK | OK | |||||||||
| palomino3 | Windows Server 2022 Datacenter / x64 | OK | OK | OK | OK | |||||||||
| merida1 | macOS 10.14.6 Mojave / x86_64 | OK | OK | OK | OK | |||||||||
| Package: trio |
| Version: 3.34.0 |
| Command: /home/biocbuild/bbs-3.15-bioc/R/bin/R CMD check --install=check:trio.install-out.txt --library=/home/biocbuild/bbs-3.15-bioc/R/library --no-vignettes --timings trio_3.34.0.tar.gz |
| StartedAt: 2022-10-18 22:14:24 -0400 (Tue, 18 Oct 2022) |
| EndedAt: 2022-10-18 22:17:04 -0400 (Tue, 18 Oct 2022) |
| EllapsedTime: 160.0 seconds |
| RetCode: 0 |
| Status: OK |
| CheckDir: trio.Rcheck |
| Warnings: 0 |
##############################################################################
##############################################################################
###
### Running command:
###
### /home/biocbuild/bbs-3.15-bioc/R/bin/R CMD check --install=check:trio.install-out.txt --library=/home/biocbuild/bbs-3.15-bioc/R/library --no-vignettes --timings trio_3.34.0.tar.gz
###
##############################################################################
##############################################################################
* using log directory ‘/home/biocbuild/bbs-3.15-bioc/meat/trio.Rcheck’
* using R version 4.2.1 (2022-06-23)
* using platform: x86_64-pc-linux-gnu (64-bit)
* using session charset: UTF-8
* using option ‘--no-vignettes’
* checking for file ‘trio/DESCRIPTION’ ... OK
* checking extension type ... Package
* this is package ‘trio’ version ‘3.34.0’
* checking package namespace information ... OK
* checking package dependencies ... OK
* checking if this is a source package ... OK
* checking if there is a namespace ... OK
* checking for hidden files and directories ... OK
* checking for portable file names ... OK
* checking for sufficient/correct file permissions ... OK
* checking whether package ‘trio’ can be installed ... OK
* checking installed package size ... OK
* checking package directory ... OK
* checking ‘build’ directory ... OK
* checking DESCRIPTION meta-information ... OK
* checking top-level files ... OK
* checking for left-over files ... OK
* checking index information ... OK
* checking package subdirectories ... OK
* checking R files for non-ASCII characters ... OK
* checking R files for syntax errors ... OK
* checking whether the package can be loaded ... OK
* checking whether the package can be loaded with stated dependencies ... OK
* checking whether the package can be unloaded cleanly ... OK
* checking whether the namespace can be loaded with stated dependencies ... OK
* checking whether the namespace can be unloaded cleanly ... OK
* checking dependencies in R code ... OK
* checking S3 generic/method consistency ... OK
* checking replacement functions ... OK
* checking foreign function calls ... NOTE
Foreign function call to a different package:
.C("clogreg", ..., PACKAGE = "LogicReg")
See chapter ‘System and foreign language interfaces’ in the ‘Writing R
Extensions’ manual.
* checking R code for possible problems ... OK
* checking Rd files ... OK
* checking Rd metadata ... OK
* checking Rd cross-references ... OK
* checking for missing documentation entries ... OK
* checking for code/documentation mismatches ... OK
* checking Rd \usage sections ... OK
* checking Rd contents ... OK
* checking for unstated dependencies in examples ... OK
* checking contents of ‘data’ directory ... OK
* checking data for non-ASCII characters ... OK
* checking data for ASCII and uncompressed saves ... OK
* checking installed files from ‘inst/doc’ ... OK
* checking files in ‘vignettes’ ... OK
* checking examples ... OK
Examples with CPU (user + system) or elapsed time > 5s
user system elapsed
print.trioFS 6.205 0.251 6.954
trio.permTest 6.255 0.148 6.427
print.trioLR 4.239 0.119 5.655
* checking for unstated dependencies in vignettes ... OK
* checking package vignettes in ‘inst/doc’ ... OK
* checking running R code from vignettes ... SKIPPED
* checking re-building of vignette outputs ... SKIPPED
* checking PDF version of manual ... OK
* DONE
Status: 1 NOTE
See
‘/home/biocbuild/bbs-3.15-bioc/meat/trio.Rcheck/00check.log’
for details.
trio.Rcheck/00install.out
############################################################################## ############################################################################## ### ### Running command: ### ### /home/biocbuild/bbs-3.15-bioc/R/bin/R CMD INSTALL trio ### ############################################################################## ############################################################################## * installing to library ‘/home/biocbuild/bbs-3.15-bioc/R/library’ * installing *source* package ‘trio’ ... ** using staged installation ** R ** data ** inst ** byte-compile and prepare package for lazy loading ** help *** installing help indices ** building package indices ** installing vignettes ** testing if installed package can be loaded from temporary location ** testing if installed package can be loaded from final location ** testing if installed package keeps a record of temporary installation path * DONE (trio)
trio.Rcheck/trio-Ex.timings
| name | user | system | elapsed | |
| allelicTDT | 0.021 | 0.005 | 0.025 | |
| colEMlrt | 0.087 | 0.006 | 0.093 | |
| colGxE | 0.009 | 0.000 | 0.008 | |
| colGxGPerms | 4.855 | 0.020 | 4.875 | |
| colPOlrt | 0.008 | 0.008 | 0.016 | |
| colTDTmaxTest | 0.045 | 0.004 | 0.048 | |
| colTDTsam | 0.037 | 0.000 | 0.038 | |
| findLDblocks | 0.018 | 0.004 | 0.022 | |
| getLD | 0.024 | 0.000 | 0.024 | |
| getMatPseudo | 0.008 | 0.000 | 0.009 | |
| lrControl | 0.001 | 0.000 | 0.000 | |
| ped2geno | 0.001 | 0.000 | 0.000 | |
| plot.LDblocks | 0.051 | 0.000 | 0.051 | |
| plot.getLD | 0.036 | 0.000 | 0.036 | |
| plot.trioLR | 3.865 | 0.316 | 4.184 | |
| poly4root | 0.000 | 0.001 | 0.001 | |
| print.colGxE | 0.047 | 0.002 | 0.049 | |
| print.trioFS | 6.205 | 0.251 | 6.954 | |
| print.trioLR | 4.239 | 0.119 | 5.655 | |
| probTDT | 0.052 | 0.032 | 0.115 | |
| read.pedfile | 0.001 | 0.000 | 0.000 | |
| removeSNPs | 0.006 | 0.004 | 0.011 | |
| scoreTDT | 0.017 | 0.000 | 0.017 | |
| tdt | 0.040 | 0.000 | 0.072 | |
| tdtGxG | 3.084 | 0.103 | 4.134 | |
| trio.check | 1.082 | 0.060 | 1.142 | |
| trio.data | 0.006 | 0.004 | 0.010 | |
| trio.permTest | 6.255 | 0.148 | 6.427 | |
| trio.power | 0.011 | 0.000 | 0.012 | |
| trio.prepare | 2.022 | 0.030 | 2.166 | |
| trio.sim | 0.365 | 0.037 | 0.403 | |
| trioFS | 4.616 | 0.104 | 4.720 | |
| trioLR | 2.091 | 0.020 | 2.111 | |