| Back to Multiple platform build/check report for BioC 3.15 |
|
This page was generated on 2022-03-18 11:08:49 -0400 (Fri, 18 Mar 2022).
| Hostname | OS | Arch (*) | R version | Installed pkgs |
|---|---|---|---|---|
| nebbiolo1 | Linux (Ubuntu 20.04.4 LTS) | x86_64 | R Under development (unstable) (2022-02-17 r81757) -- "Unsuffered Consequences" | 4334 |
| riesling1 | Windows Server 2019 Standard | x64 | R Under development (unstable) (2021-11-21 r81221) -- "Unsuffered Consequences" | 4097 |
| palomino3 | Windows Server 2022 Datacenter | x64 | R Under development (unstable) (2022-02-17 r81757 ucrt) -- "Unsuffered Consequences" | 4083 |
| merida1 | macOS 10.14.6 Mojave | x86_64 | R Under development (unstable) (2022-03-02 r81842) -- "Unsuffered Consequences" | 4134 |
| Click on any hostname to see more info about the system (e.g. compilers) (*) as reported by 'uname -p', except on Windows and Mac OS X | ||||
|
To the developers/maintainers of the sva package: - Please allow up to 24 hours (and sometimes 48 hours) for your latest push to git@git.bioconductor.org:packages/sva.git to reflect on this report. See How and When does the builder pull? When will my changes propagate? here for more information. - Make sure to use the following settings in order to reproduce any error or warning you see on this page. |
| Package 1915/2090 | Hostname | OS / Arch | INSTALL | BUILD | CHECK | BUILD BIN | ||||||||
| sva 3.43.0 (landing page) Jeffrey T. Leek
| nebbiolo1 | Linux (Ubuntu 20.04.4 LTS) / x86_64 | OK | OK | OK | |||||||||
| riesling1 | Windows Server 2019 Standard / x64 | OK | OK | OK | OK | |||||||||
| palomino3 | Windows Server 2022 Datacenter / x64 | OK | OK | OK | OK | |||||||||
| merida1 | macOS 10.14.6 Mojave / x86_64 | OK | OK | OK | OK | |||||||||
| Package: sva |
| Version: 3.43.0 |
| Command: D:\biocbuild\bbs-3.15-bioc\R\bin\R.exe CMD check --no-multiarch --install=check:sva.install-out.txt --library=D:\biocbuild\bbs-3.15-bioc\R\library --no-vignettes --timings sva_3.43.0.tar.gz |
| StartedAt: 2022-03-17 20:25:47 -0400 (Thu, 17 Mar 2022) |
| EndedAt: 2022-03-17 20:29:07 -0400 (Thu, 17 Mar 2022) |
| EllapsedTime: 200.4 seconds |
| RetCode: 0 |
| Status: OK |
| CheckDir: sva.Rcheck |
| Warnings: 0 |
##############################################################################
##############################################################################
###
### Running command:
###
### D:\biocbuild\bbs-3.15-bioc\R\bin\R.exe CMD check --no-multiarch --install=check:sva.install-out.txt --library=D:\biocbuild\bbs-3.15-bioc\R\library --no-vignettes --timings sva_3.43.0.tar.gz
###
##############################################################################
##############################################################################
* using log directory 'D:/biocbuild/bbs-3.15-bioc/meat/sva.Rcheck'
* using R Under development (unstable) (2021-11-21 r81221)
* using platform: x86_64-w64-mingw32 (64-bit)
* using session charset: ISO8859-1
* using option '--no-vignettes'
* checking for file 'sva/DESCRIPTION' ... OK
* this is package 'sva' version '3.43.0'
* checking package namespace information ... OK
* checking package dependencies ... OK
* checking if this is a source package ... OK
* checking if there is a namespace ... OK
* checking for hidden files and directories ... OK
* checking for portable file names ... OK
* checking whether package 'sva' can be installed ... OK
* checking installed package size ... OK
* checking package directory ... OK
* checking 'build' directory ... OK
* checking DESCRIPTION meta-information ... OK
* checking top-level files ... OK
* checking for left-over files ... OK
* checking index information ... OK
* checking package subdirectories ... OK
* checking R files for non-ASCII characters ... OK
* checking R files for syntax errors ... OK
* checking whether the package can be loaded ... OK
* checking whether the package can be loaded with stated dependencies ... OK
* checking whether the package can be unloaded cleanly ... OK
* checking whether the namespace can be loaded with stated dependencies ... OK
* checking whether the namespace can be unloaded cleanly ... OK
* checking dependencies in R code ... OK
* checking S3 generic/method consistency ... OK
* checking replacement functions ... OK
* checking foreign function calls ... OK
* checking R code for possible problems ... OK
* checking Rd files ... OK
* checking Rd metadata ... OK
* checking Rd cross-references ... OK
* checking for missing documentation entries ... OK
* checking for code/documentation mismatches ... OK
* checking Rd \usage sections ... OK
* checking Rd contents ... OK
* checking for unstated dependencies in examples ... OK
* checking line endings in C/C++/Fortran sources/headers ... OK
* checking compiled code ... OK
* checking files in 'vignettes' ... OK
* checking examples ... OK
Examples with CPU (user + system) or elapsed time > 5s
user system elapsed
sva_network 8.26 0.64 8.91
sva.check 6.55 0.73 7.28
* checking for unstated dependencies in 'tests' ... OK
* checking tests ...
Running 'testthat.R'
OK
* checking for unstated dependencies in vignettes ... OK
* checking package vignettes in 'inst/doc' ... OK
* checking running R code from vignettes ... SKIPPED
* checking re-building of vignette outputs ... SKIPPED
* checking PDF version of manual ... OK
* DONE
Status: OK
sva.Rcheck/00install.out
##############################################################################
##############################################################################
###
### Running command:
###
### D:\biocbuild\bbs-3.15-bioc\R\bin\R.exe CMD INSTALL sva
###
##############################################################################
##############################################################################
* installing to library 'D:/biocbuild/bbs-3.15-bioc/R/library'
* installing *source* package 'sva' ...
** using staged installation
** libs
"C:/rtools40/mingw64/bin/"gcc -I"D:/biocbuild/bbs-3.15-bioc/R/include" -DNDEBUG -I"C:/extsoft/include" -O2 -Wall -std=gnu99 -mfpmath=sse -msse2 -mstackrealign -fno-reorder-blocks-and-partition -c sva.c -o sva.o
sva.c:27:34: warning: missing braces around initializer [-Wmissing-braces]
R_CallMethodDef callMethods[] = {
^
C:/rtools40/mingw64/bin/gcc -shared -s -static-libgcc -o sva.dll tmp.def sva.o -LC:/extsoft/lib/x64 -LC:/extsoft/lib -LD:/biocbuild/bbs-3.15-bioc/R/bin/x64 -lR
installing to D:/biocbuild/bbs-3.15-bioc/R/library/00LOCK-sva/00new/sva/libs/x64
** R
** inst
** byte-compile and prepare package for lazy loading
** help
*** installing help indices
converting help for package 'sva'
finding HTML links ... done
ComBat html
ComBat_seq html
empirical.controls html
f.pvalue html
fstats html
fsva html
irwsva.build html
num.sv html
psva html
qsva html
read.degradation.matrix html
ssva html
sva html
sva.check html
sva_network html
svaseq html
twostepsva.build html
** building package indices
** installing vignettes
** testing if installed package can be loaded from temporary location
** testing if installed package can be loaded from final location
** testing if installed package keeps a record of temporary installation path
* DONE (sva)
Making 'packages.html' ... done
sva.Rcheck/tests/testthat.Rout
R Under development (unstable) (2021-11-21 r81221) -- "Unsuffered Consequences"
Copyright (C) 2021 The R Foundation for Statistical Computing
Platform: x86_64-w64-mingw32/x64 (64-bit)
R is free software and comes with ABSOLUTELY NO WARRANTY.
You are welcome to redistribute it under certain conditions.
Type 'license()' or 'licence()' for distribution details.
R is a collaborative project with many contributors.
Type 'contributors()' for more information and
'citation()' on how to cite R or R packages in publications.
Type 'demo()' for some demos, 'help()' for on-line help, or
'help.start()' for an HTML browser interface to help.
Type 'q()' to quit R.
> library(testthat)
> library(sva)
Loading required package: mgcv
Loading required package: nlme
This is mgcv 1.8-39. For overview type 'help("mgcv-package")'.
Loading required package: genefilter
Loading required package: BiocParallel
>
> test_check("sva")
Found 2 batches
Using full model in ComBat-seq.
Adjusting for 1 covariate(s) or covariate level(s)
[ FAIL 0 | WARN 1 | SKIP 0 | PASS 33 ]
[ FAIL 0 | WARN 1 | SKIP 0 | PASS 33 ]
>
> proc.time()
user system elapsed
41.90 5.75 47.64
sva.Rcheck/sva-Ex.timings
| name | user | system | elapsed | |
| ComBat | 1.36 | 0.02 | 1.37 | |
| ComBat_seq | 0.11 | 0.01 | 0.13 | |
| empirical.controls | 0.98 | 0.16 | 1.14 | |
| f.pvalue | 0.21 | 0.01 | 0.22 | |
| fstats | 0.18 | 0.03 | 0.22 | |
| fsva | 0.46 | 0.02 | 0.47 | |
| irwsva.build | 1.89 | 0.15 | 2.05 | |
| num.sv | 0.57 | 0.02 | 0.59 | |
| psva | 0.25 | 0.00 | 0.25 | |
| qsva | 0.66 | 0.09 | 2.08 | |
| read.degradation.matrix | 0.92 | 0.03 | 3.98 | |
| ssva | 0.61 | 0.07 | 0.67 | |
| sva | 1.23 | 0.20 | 1.44 | |
| sva.check | 6.55 | 0.73 | 7.28 | |
| sva_network | 8.26 | 0.64 | 8.91 | |
| svaseq | 0.63 | 0.11 | 0.73 | |
| twostepsva.build | 2.50 | 0.42 | 2.92 | |