| Back to Multiple platform build/check report for BioC 3.15 | 
  | 
This page was generated on 2022-03-18 11:08:45 -0400 (Fri, 18 Mar 2022).
| Hostname | OS | Arch (*) | R version | Installed pkgs | 
|---|---|---|---|---|
| nebbiolo1 | Linux (Ubuntu 20.04.4 LTS) | x86_64 | R Under development (unstable) (2022-02-17 r81757) -- "Unsuffered Consequences" | 4334 | 
| riesling1 | Windows Server 2019 Standard | x64 | R Under development (unstable) (2021-11-21 r81221) -- "Unsuffered Consequences" | 4097 | 
| palomino3 | Windows Server 2022 Datacenter | x64 | R Under development (unstable) (2022-02-17 r81757 ucrt) -- "Unsuffered Consequences" | 4083 | 
| merida1 | macOS 10.14.6 Mojave | x86_64 | R Under development (unstable) (2022-03-02 r81842) -- "Unsuffered Consequences" | 4134 | 
| Click on any hostname to see more info about the system (e.g. compilers) (*) as reported by 'uname -p', except on Windows and Mac OS X | ||||
| 
To the developers/maintainers of the spatzie package: - Please allow up to 24 hours (and sometimes 48 hours) for your latest push to git@git.bioconductor.org:packages/spatzie.git to reflect on this report. See How and When does the builder pull? When will my changes propagate? here for more information. - Make sure to use the following settings in order to reproduce any error or warning you see on this page.  | 
| Package 1856/2090 | Hostname | OS / Arch | INSTALL | BUILD | CHECK | BUILD BIN | ||||||||
| spatzie 1.1.1  (landing page) Jennifer Hammelman 
  | nebbiolo1 | Linux (Ubuntu 20.04.4 LTS) / x86_64 | OK | OK | OK | |||||||||
| riesling1 | Windows Server 2019 Standard / x64 | OK | OK | OK | OK | |||||||||
| palomino3 | Windows Server 2022 Datacenter / x64 | OK | OK | OK | OK | |||||||||
| merida1 | macOS 10.14.6 Mojave / x86_64 | OK | OK | OK | OK | |||||||||
| Package: spatzie | 
| Version: 1.1.1 | 
| Command: rm -rf spatzie.buildbin-libdir && mkdir spatzie.buildbin-libdir && D:\biocbuild\bbs-3.15-bioc\R\bin\R.exe CMD INSTALL --build --library=spatzie.buildbin-libdir spatzie_1.1.1.tar.gz | 
| StartedAt: 2022-03-17 21:41:47 -0400 (Thu, 17 Mar 2022) | 
| EndedAt: 2022-03-17 21:43:14 -0400 (Thu, 17 Mar 2022) | 
| EllapsedTime: 86.1 seconds | 
| RetCode: 0 | 
| Status: OK | 
| PackageFile: spatzie_1.1.1.zip | 
| PackageFileSize: 2.557 MiB | 
##############################################################################
##############################################################################
###
### Running command:
###
###   rm -rf spatzie.buildbin-libdir && mkdir spatzie.buildbin-libdir && D:\biocbuild\bbs-3.15-bioc\R\bin\R.exe CMD INSTALL --build --library=spatzie.buildbin-libdir spatzie_1.1.1.tar.gz
###
##############################################################################
##############################################################################
* installing *source* package 'spatzie' ...
** using staged installation
** R
** data
*** moving datasets to lazyload DB
** inst
** byte-compile and prepare package for lazy loading
** help
*** installing help indices
  converting help for package 'spatzie'
    finding HTML links ... done
    anchor_pair_enrich                      html  
    anchor_pair_example_count               html  
    anchor_pair_example_match               html  
    anchor_pair_example_score               html  
    compare_motif_pairs                     html  
    compare_pairs_example                   html  
    filter_motifs                           html  
    filter_pair_motifs                      html  
    filter_pairs_example                    html  
    find_ep_coenrichment                    html  
    get_specific_interactions               html  
    int_data_k562                           html  
    int_data_mslcl                          html  
    int_data_yy1                            html  
    interactions_yy1                        html  
    interactions_yy1_enhancer               html  
    interactions_yy1_ep                     html  
    interactions_yy1_promoter               html  
    plot_motif_occurrence                   html  
    scan_interactions_example               html  
    scan_interactions_example_filtered      html  
    scan_motifs                             html  
    spatzie                                 html  
** building package indices
** installing vignettes
** testing if installed package can be loaded from temporary location
** testing if installed package can be loaded from final location
** testing if installed package keeps a record of temporary installation path
* MD5 sums
packaged installation of 'spatzie' as spatzie_1.1.1.zip
* DONE (spatzie)