| Back to Multiple platform build/check report for BioC 3.15 |
|
This page was generated on 2022-03-18 11:08:42 -0400 (Fri, 18 Mar 2022).
| Hostname | OS | Arch (*) | R version | Installed pkgs |
|---|---|---|---|---|
| nebbiolo1 | Linux (Ubuntu 20.04.4 LTS) | x86_64 | R Under development (unstable) (2022-02-17 r81757) -- "Unsuffered Consequences" | 4334 |
| riesling1 | Windows Server 2019 Standard | x64 | R Under development (unstable) (2021-11-21 r81221) -- "Unsuffered Consequences" | 4097 |
| palomino3 | Windows Server 2022 Datacenter | x64 | R Under development (unstable) (2022-02-17 r81757 ucrt) -- "Unsuffered Consequences" | 4083 |
| merida1 | macOS 10.14.6 Mojave | x86_64 | R Under development (unstable) (2022-03-02 r81842) -- "Unsuffered Consequences" | 4134 |
| Click on any hostname to see more info about the system (e.g. compilers) (*) as reported by 'uname -p', except on Windows and Mac OS X | ||||
|
To the developers/maintainers of the signatureSearch package: - Please allow up to 24 hours (and sometimes 48 hours) for your latest push to git@git.bioconductor.org:packages/signatureSearch.git to reflect on this report. See How and When does the builder pull? When will my changes propagate? here for more information. - Make sure to use the following settings in order to reproduce any error or warning you see on this page. |
| Package 1799/2090 | Hostname | OS / Arch | INSTALL | BUILD | CHECK | BUILD BIN | ||||||||
| signatureSearch 1.9.7 (landing page) Brendan Gongol
| nebbiolo1 | Linux (Ubuntu 20.04.4 LTS) / x86_64 | OK | OK | OK | |||||||||
| riesling1 | Windows Server 2019 Standard / x64 | OK | OK | OK | OK | |||||||||
| palomino3 | Windows Server 2022 Datacenter / x64 | OK | OK | OK | OK | |||||||||
| merida1 | macOS 10.14.6 Mojave / x86_64 | OK | OK | OK | OK | |||||||||
| Package: signatureSearch |
| Version: 1.9.7 |
| Command: rm -rf signatureSearch.buildbin-libdir && mkdir signatureSearch.buildbin-libdir && D:\biocbuild\bbs-3.15-bioc\R\bin\R.exe CMD INSTALL --build --library=signatureSearch.buildbin-libdir signatureSearch_1.9.7.tar.gz |
| StartedAt: 2022-03-17 21:40:17 -0400 (Thu, 17 Mar 2022) |
| EndedAt: 2022-03-17 21:43:02 -0400 (Thu, 17 Mar 2022) |
| EllapsedTime: 164.8 seconds |
| RetCode: 0 |
| Status: OK |
| PackageFile: signatureSearch_1.9.7.zip |
| PackageFileSize: 87.88 MiB |
##############################################################################
##############################################################################
###
### Running command:
###
### rm -rf signatureSearch.buildbin-libdir && mkdir signatureSearch.buildbin-libdir && D:\biocbuild\bbs-3.15-bioc\R\bin\R.exe CMD INSTALL --build --library=signatureSearch.buildbin-libdir signatureSearch_1.9.7.tar.gz
###
##############################################################################
##############################################################################
* installing *source* package 'signatureSearch' ...
** using staged installation
** libs
"C:/rtools40/mingw64/bin/"g++ -std=gnu++11 -I"D:/biocbuild/bbs-3.15-bioc/R/include" -DNDEBUG -I'D:/biocbuild/bbs-3.15-bioc/R/library/Rcpp/include' -I"C:/extsoft/include" -O2 -Wall -mfpmath=sse -msse2 -mstackrealign -fno-reorder-blocks-and-partition -c RcppExports.cpp -o RcppExports.o
"C:/rtools40/mingw64/bin/"g++ -std=gnu++11 -I"D:/biocbuild/bbs-3.15-bioc/R/include" -DNDEBUG -I'D:/biocbuild/bbs-3.15-bioc/R/library/Rcpp/include' -I"C:/extsoft/include" -O2 -Wall -mfpmath=sse -msse2 -mstackrealign -fno-reorder-blocks-and-partition -c fastGSEA.cpp -o fastGSEA.o
fastGSEA.cpp: In function 'Rcpp::NumericVector calcGseaStatBatchCpp(const NumericVector&, const List&, const IntegerVector&)':
fastGSEA.cpp:444:27: warning: comparison of integer expressions of different signedness: 'int' and 'std::vector<int>::size_type' {aka 'long long unsigned int'} [-Wsign-compare]
for (int j = 0; j < S.size(); ++j) {
~~^~~~~~~~~~
"C:/rtools40/mingw64/bin/"gcc -I"D:/biocbuild/bbs-3.15-bioc/R/include" -DNDEBUG -I'D:/biocbuild/bbs-3.15-bioc/R/library/Rcpp/include' -I"C:/extsoft/include" -O2 -Wall -std=gnu99 -mfpmath=sse -msse2 -mstackrealign -fno-reorder-blocks-and-partition -c fgsea_init.c -o fgsea_init.o
C:/rtools40/mingw64/bin/g++ -shared -s -static-libgcc -o signatureSearch.dll tmp.def RcppExports.o fastGSEA.o fgsea_init.o -LC:/extsoft/lib/x64 -LC:/extsoft/lib -LD:/biocbuild/bbs-3.15-bioc/R/bin/x64 -lR
installing to D:/biocbuild/bbs-3.15-bioc/meat/signatureSearch.buildbin-libdir/00LOCK-signatureSearch/00new/signatureSearch/libs/x64
** R
** data
*** moving datasets to lazyload DB
** inst
** byte-compile and prepare package for lazy loading
** help
*** installing help indices
converting help for package 'signatureSearch'
finding HTML links ... done
GCT-object html
addGESSannot html
addMOA html
add_pcid html
append2H5 html
build_custom_db html
calcGseaStatBatchCpp html
cellNtestPlot html
cell_info html
cell_info2 html
chembl_moa_list html
clue_moa_list html
comp_fea_res html
create_empty_h5 html
dim-methods html
drug_cell_ranks html
drugs-methods html
drugs10 html
dtnetplot html
enrichGO2 html
enrichKEGG2 html
enrichMOA html
enrichReactome html
fea html
feaResult-class html
feaResult html
gctx2h5 html
gess html
gessResult-class html
gessResult html
gess_res_vis html
getALLEG html
getDb html
getSig html
getTreats html
get_targets html
gmt2h5 html
gseGO2 html
gseKEGG2 html
gseReactome html
head-methods html
lincs_expr_inst_info html
lincs_pert_info html
lincs_pert_info2 html
lincs_sig_info html
list2df html
list_rev html
mabsGO html
mabsKEGG html
mabsReactome html
matrix2h5 html
meanExpr2h5 html
moa_conn html
parse_gctx html
qSig-class html
qSig html
rand_query_ES html
read_gmt html
result-methods html
runWF html
set_readable html
show-methods html
signatureSearch-package html
sim_score_grp html
tail-methods html
tarReduce html
targetList html
vec_char_redu html
** building package indices
** installing vignettes
** testing if installed package can be loaded from temporary location
** testing if installed package can be loaded from final location
** testing if installed package keeps a record of temporary installation path
* MD5 sums
packaged installation of 'signatureSearch' as signatureSearch_1.9.7.zip
* DONE (signatureSearch)