| Back to Multiple platform build/check report for BioC 3.15 | 
 | 
This page was generated on 2022-01-04 11:06:49 -0500 (Tue, 04 Jan 2022).
| Hostname | OS | Arch (*) | R version | Installed pkgs | 
|---|---|---|---|---|
| nebbiolo1 | Linux (Ubuntu 20.04.4 LTS) | x86_64 | R Under development (unstable) (2021-11-10 r81171) -- "Unsuffered Consequences" | 4307 | 
| riesling1 | Windows Server 2019 Standard | x64 | R Under development (unstable) (2021-11-21 r81221) -- "Unsuffered Consequences" | 4044 | 
| merida1 | macOS 10.14.6 Mojave | x86_64 | R Under development (unstable) (2021-11-01 r81125) -- "Unsuffered Consequences" | 4122 | 
| Click on any hostname to see more info about the system (e.g. compilers) (*) as reported by 'uname -p', except on Windows and Mac OS X | ||||
| To the developers/maintainers of the scMerge package: - Please allow up to 24 hours (and sometimes 48 hours) for your latest push to git@git.bioconductor.org:packages/scMerge.git to reflect on this report. See How and When does the builder pull? When will my changes propagate? here for more information. - Make sure to use the following settings in order to reproduce any error or warning you see on this page. | 
| Package 1722/2072 | Hostname | OS / Arch | INSTALL | BUILD | CHECK | BUILD BIN | ||||||||
| scMerge 1.11.0  (landing page) Yingxin Lin 
 | nebbiolo1 | Linux (Ubuntu 20.04.4 LTS) / x86_64 | OK | OK | OK |  | ||||||||
| riesling1 | Windows Server 2019 Standard / x64 | OK | OK | OK | OK | |||||||||
| merida1 | macOS 10.14.6 Mojave / x86_64 | OK | OK | OK | OK |  | ||||||||
| Package: scMerge | 
| Version: 1.11.0 | 
| Command: rm -rf scMerge.buildbin-libdir && mkdir scMerge.buildbin-libdir && D:\biocbuild\bbs-3.15-bioc\R\bin\R.exe CMD INSTALL --build --library=scMerge.buildbin-libdir scMerge_1.11.0.tar.gz | 
| StartedAt: 2022-01-03 21:19:13 -0500 (Mon, 03 Jan 2022) | 
| EndedAt: 2022-01-03 21:20:21 -0500 (Mon, 03 Jan 2022) | 
| EllapsedTime: 68.2 seconds | 
| RetCode: 0 | 
| Status: OK | 
| PackageFile: scMerge_1.11.0.zip | 
| PackageFileSize: 2.226 MiB | 
##############################################################################
##############################################################################
###
### Running command:
###
###   rm -rf scMerge.buildbin-libdir && mkdir scMerge.buildbin-libdir && D:\biocbuild\bbs-3.15-bioc\R\bin\R.exe CMD INSTALL --build --library=scMerge.buildbin-libdir scMerge_1.11.0.tar.gz
###
##############################################################################
##############################################################################
* installing *source* package 'scMerge' ...
** using staged installation
** R
** data
** inst
** byte-compile and prepare package for lazy loading
** help
*** installing help indices
  converting help for package 'scMerge'
    finding HTML links ... done
    example_sce                             html  
    fastRUVIII                              html  
    ruvSimulate                             html  
    scMerge                                 html  
    scRUVIII                                html  
    scRUVg                                  html  
    scReplicate                             html  
    scSEGIndex                              html  
    sce_cbind                               html  
    segList                                 html  
    segList_ensemblGeneID                   html  
** building package indices
** installing vignettes
** testing if installed package can be loaded from temporary location
** testing if installed package can be loaded from final location
** testing if installed package keeps a record of temporary installation path
* MD5 sums
packaged installation of 'scMerge' as scMerge_1.11.0.zip
* DONE (scMerge)