| Back to Multiple platform build/check report for BioC 3.15 |
|
This page was generated on 2022-05-05 12:48:50 -0400 (Thu, 05 May 2022).
| Hostname | OS | Arch (*) | R version | Installed pkgs |
|---|---|---|---|---|
| nebbiolo1 | Linux (Ubuntu 20.04.4 LTS) | x86_64 | 4.2.0 RC (2022-04-19 r82224) -- "Vigorous Calisthenics" | 4383 |
| palomino3 | Windows Server 2022 Datacenter | x64 | 4.2.0 RC (2022-04-19 r82224 ucrt) -- "Vigorous Calisthenics" | 4157 |
| merida1 | macOS 10.14.6 Mojave | x86_64 | 4.2.0 RC (2022-04-19 r82224) -- "Vigorous Calisthenics" | 4223 |
| Click on any hostname to see more info about the system (e.g. compilers) (*) as reported by 'uname -p', except on Windows and Mac OS X | ||||
|
To the developers/maintainers of the scMAGeCK package: - Please allow up to 24 hours (and sometimes 48 hours) for your latest push to git@git.bioconductor.org:packages/scMAGeCK.git to reflect on this report. See How and When does the builder pull? When will my changes propagate? for more information. - Make sure to use the following settings in order to reproduce any error or warning you see on this page. |
| Package 1775/2140 | Hostname | OS / Arch | INSTALL | BUILD | CHECK | BUILD BIN | ||||||||
| scMAGeCK 1.8.0 (landing page) Xiaolong Cheng
| nebbiolo1 | Linux (Ubuntu 20.04.4 LTS) / x86_64 | OK | OK | WARNINGS | |||||||||
| palomino3 | Windows Server 2022 Datacenter / x64 | OK | OK | WARNINGS | OK | |||||||||
| merida1 | macOS 10.14.6 Mojave / x86_64 | OK | OK | WARNINGS | OK | |||||||||
| Package: scMAGeCK |
| Version: 1.8.0 |
| Command: rm -rf scMAGeCK.buildbin-libdir && mkdir scMAGeCK.buildbin-libdir && /Users/biocbuild/BBS/utils/build-universal.sh scMAGeCK_1.8.0.tar.gz /Library/Frameworks/R.framework/Resources/bin/R scMAGeCK.buildbin-libdir |
| StartedAt: 2022-05-05 10:38:08 -0400 (Thu, 05 May 2022) |
| EndedAt: 2022-05-05 10:38:43 -0400 (Thu, 05 May 2022) |
| EllapsedTime: 34.9 seconds |
| RetCode: 0 |
| Status: OK |
| PackageFile: scMAGeCK_1.8.0.tgz |
| PackageFileSize: 3.078 MiB |
############################################################################## ############################################################################## ### ### Running command: ### ### rm -rf scMAGeCK.buildbin-libdir && mkdir scMAGeCK.buildbin-libdir && /Users/biocbuild/BBS/utils/build-universal.sh scMAGeCK_1.8.0.tar.gz /Library/Frameworks/R.framework/Resources/bin/R scMAGeCK.buildbin-libdir ### ############################################################################## ############################################################################## >>>>>>> >>>>>>> INSTALLATION WITH 'R CMD INSTALL --preclean --no-multiarch --library=scMAGeCK.buildbin-libdir scMAGeCK_1.8.0.tar.gz' >>>>>>> * installing *source* package ‘scMAGeCK’ ... ** using staged installation ** R ** inst ** byte-compile and prepare package for lazy loading ** help *** installing help indices ** building package indices ** installing vignettes ** testing if installed package can be loaded from temporary location ** testing if installed package can be loaded from final location ** testing if installed package keeps a record of temporary installation path * DONE (scMAGeCK)