| Back to Multiple platform build/check report for BioC 3.15 |
|
This page was generated on 2022-03-17 11:08:46 -0400 (Thu, 17 Mar 2022).
| Hostname | OS | Arch (*) | R version | Installed pkgs |
|---|---|---|---|---|
| nebbiolo1 | Linux (Ubuntu 20.04.4 LTS) | x86_64 | R Under development (unstable) (2022-02-17 r81757) -- "Unsuffered Consequences" | 4334 |
| riesling1 | Windows Server 2019 Standard | x64 | R Under development (unstable) (2021-11-21 r81221) -- "Unsuffered Consequences" | 4060 |
| palomino3 | Windows Server 2022 Datacenter | x64 | R Under development (unstable) (2022-02-17 r81757 ucrt) -- "Unsuffered Consequences" | 4083 |
| merida1 | macOS 10.14.6 Mojave | x86_64 | R Under development (unstable) (2022-03-02 r81842) -- "Unsuffered Consequences" | 4134 |
| Click on any hostname to see more info about the system (e.g. compilers) (*) as reported by 'uname -p', except on Windows and Mac OS X | ||||
|
To the developers/maintainers of the sangeranalyseR package: - Please allow up to 24 hours (and sometimes 48 hours) for your latest push to git@git.bioconductor.org:packages/sangeranalyseR.git to reflect on this report. See How and When does the builder pull? When will my changes propagate? here for more information. - Make sure to use the following settings in order to reproduce any error or warning you see on this page. |
| Package 1699/2090 | Hostname | OS / Arch | INSTALL | BUILD | CHECK | BUILD BIN | ||||||||
| sangeranalyseR 1.5.1 (landing page) Kuan-Hao Chao
| nebbiolo1 | Linux (Ubuntu 20.04.4 LTS) / x86_64 | OK | OK | WARNINGS | |||||||||
| riesling1 | Windows Server 2019 Standard / x64 | OK | OK | WARNINGS | OK | |||||||||
| palomino3 | Windows Server 2022 Datacenter / x64 | OK | OK | WARNINGS | OK | |||||||||
| merida1 | macOS 10.14.6 Mojave / x86_64 | OK | OK | WARNINGS | OK | |||||||||
| Package: sangeranalyseR |
| Version: 1.5.1 |
| Command: rm -rf sangeranalyseR.buildbin-libdir && mkdir sangeranalyseR.buildbin-libdir && D:\biocbuild\bbs-3.15-bioc\R\bin\R.exe CMD INSTALL --build --library=sangeranalyseR.buildbin-libdir sangeranalyseR_1.5.1.tar.gz |
| StartedAt: 2022-03-16 21:26:43 -0400 (Wed, 16 Mar 2022) |
| EndedAt: 2022-03-16 21:28:10 -0400 (Wed, 16 Mar 2022) |
| EllapsedTime: 87.1 seconds |
| RetCode: 0 |
| Status: OK |
| PackageFile: sangeranalyseR_1.5.1.zip |
| PackageFileSize: 6.037 MiB |
##############################################################################
##############################################################################
###
### Running command:
###
### rm -rf sangeranalyseR.buildbin-libdir && mkdir sangeranalyseR.buildbin-libdir && D:\biocbuild\bbs-3.15-bioc\R\bin\R.exe CMD INSTALL --build --library=sangeranalyseR.buildbin-libdir sangeranalyseR_1.5.1.tar.gz
###
##############################################################################
##############################################################################
* installing *source* package 'sangeranalyseR' ...
** using staged installation
** R
** data
** inst
** byte-compile and prepare package for lazy loading
Note: wrong number of arguments to '=='
** help
*** installing help indices
converting help for package 'sangeranalyseR'
finding HTML links ... done
ChromatogramParam-class html
MakeBaseCalls-methods html
ObjectResults-class html
QualityReport-class-qualityBasePlot html
QualityReport-class-updateQualityParam
html
QualityReport-class html
SangerAlignment-class-generateReportSA
html
SangerAlignment-class-launchAppSA html
SangerAlignment-class-updateQualityParam
html
SangerAlignment-class-writeFastaSA html
SangerAlignment-class html
SangerAlignment html
SangerContig-class-generateReportSC html
SangerContig-class-launchAppSC html
SangerContig-class-readTable html
SangerContig-class-updateQualityParam html
SangerContig-class-writeFastaSC html
SangerContig-class html
SangerContig html
SangerRead-class-MakeBaseCalls html
SangerRead-class-generateReportSR html
SangerRead-class-qualityBasePlot html
SangerRead-class-readTable html
SangerRead-class-updateQualityParam html
SangerRead-class-writeFastaSR html
SangerRead-class html
SangerRead html
generateReport html
generateReportSA-methods html
generateReportSC-methods html
generateReportSR-methods html
launchApp html
launchAppSA-methods html
launchAppSC-methods html
qualityBasePlot-methods html
qualityReportData html
readTable-methods html
sangerAlignmentData html
sangerContigData html
sangerReadFData html
sangeranalyseR html
updateQualityParam-methods html
writeFasta html
writeFastaSA-methods html
writeFastaSC-methods html
writeFastaSR-methods html
** building package indices
** installing vignettes
** testing if installed package can be loaded from temporary location
** testing if installed package can be loaded from final location
** testing if installed package keeps a record of temporary installation path
* MD5 sums
packaged installation of 'sangeranalyseR' as sangeranalyseR_1.5.1.zip
* DONE (sangeranalyseR)