| Back to Multiple platform build/check report for BioC 3.15 |
|
This page was generated on 2022-10-19 13:20:56 -0400 (Wed, 19 Oct 2022).
| Hostname | OS | Arch (*) | R version | Installed pkgs |
|---|---|---|---|---|
| nebbiolo1 | Linux (Ubuntu 20.04.5 LTS) | x86_64 | 4.2.1 (2022-06-23) -- "Funny-Looking Kid" | 4386 |
| palomino3 | Windows Server 2022 Datacenter | x64 | 4.2.1 (2022-06-23 ucrt) -- "Funny-Looking Kid" | 4138 |
| merida1 | macOS 10.14.6 Mojave | x86_64 | 4.2.1 (2022-06-23) -- "Funny-Looking Kid" | 4205 |
| Click on any hostname to see more info about the system (e.g. compilers) (*) as reported by 'uname -p', except on Windows and Mac OS X | ||||
|
To the developers/maintainers of the sSNAPPY package: - Please allow up to 24 hours (and sometimes 48 hours) for your latest push to git@git.bioconductor.org:packages/sSNAPPY.git to reflect on this report. See How and When does the builder pull? When will my changes propagate? for more information. - Make sure to use the following settings in order to reproduce any error or warning you see on this page. |
| Package 1928/2140 | Hostname | OS / Arch | INSTALL | BUILD | CHECK | BUILD BIN | ||||||||
| sSNAPPY 1.0.2 (landing page) Wenjun Liu
| nebbiolo1 | Linux (Ubuntu 20.04.5 LTS) / x86_64 | OK | OK | OK | |||||||||
| palomino3 | Windows Server 2022 Datacenter / x64 | OK | OK | OK | OK | |||||||||
| merida1 | macOS 10.14.6 Mojave / x86_64 | OK | OK | OK | OK | |||||||||
| Package: sSNAPPY |
| Version: 1.0.2 |
| Command: /home/biocbuild/bbs-3.15-bioc/R/bin/R CMD INSTALL sSNAPPY |
| StartedAt: 2022-10-18 15:29:15 -0400 (Tue, 18 Oct 2022) |
| EndedAt: 2022-10-18 15:30:14 -0400 (Tue, 18 Oct 2022) |
| EllapsedTime: 58.5 seconds |
| RetCode: 0 |
| Status: OK |
##############################################################################
##############################################################################
###
### Running command:
###
### /home/biocbuild/bbs-3.15-bioc/R/bin/R CMD INSTALL sSNAPPY
###
##############################################################################
##############################################################################
* installing to library ‘/home/biocbuild/bbs-3.15-bioc/R/library’
* installing *source* package ‘sSNAPPY’ ...
** using staged installation
** libs
g++ -std=gnu++11 -I"/home/biocbuild/bbs-3.15-bioc/R/include" -DNDEBUG -I'/home/biocbuild/bbs-3.15-bioc/R/library/Rcpp/include' -I'/home/biocbuild/bbs-3.15-bioc/R/library/RcppArmadillo/include' -I/usr/local/include -fopenmp -fpic -g -O2 -Wall -c RcppExports.cpp -o RcppExports.o
g++ -std=gnu++11 -I"/home/biocbuild/bbs-3.15-bioc/R/include" -DNDEBUG -I'/home/biocbuild/bbs-3.15-bioc/R/library/Rcpp/include' -I'/home/biocbuild/bbs-3.15-bioc/R/library/RcppArmadillo/include' -I/usr/local/include -fopenmp -fpic -g -O2 -Wall -c code.cpp -o code.o
g++ -std=gnu++11 -I"/home/biocbuild/bbs-3.15-bioc/R/include" -DNDEBUG -I'/home/biocbuild/bbs-3.15-bioc/R/library/Rcpp/include' -I'/home/biocbuild/bbs-3.15-bioc/R/library/RcppArmadillo/include' -I/usr/local/include -fopenmp -fpic -g -O2 -Wall -c normaliseByPermutation.cpp -o normaliseByPermutation.o
In file included from /home/biocbuild/bbs-3.15-bioc/R/library/RcppArmadillo/include/armadillo:22,
from /home/biocbuild/bbs-3.15-bioc/R/library/RcppArmadillo/include/RcppArmadilloForward.h:56,
from /home/biocbuild/bbs-3.15-bioc/R/library/RcppArmadillo/include/RcppArmadillo.h:29,
from normaliseByPermutation.cpp:2:
/home/biocbuild/bbs-3.15-bioc/R/library/RcppArmadillo/include/armadillo_bits/config.hpp:333:86: note: #pragma message: INFO: support for ARMA_DONT_PRINT_ERRORS option has been removed
333 | #pragma message ("INFO: support for ARMA_DONT_PRINT_ERRORS option has been removed")
| ^
/home/biocbuild/bbs-3.15-bioc/R/library/RcppArmadillo/include/armadillo_bits/config.hpp:338:75: note: #pragma message: INFO: suggest to use ARMA_WARN_LEVEL option instead
338 | #pragma message ("INFO: suggest to use ARMA_WARN_LEVEL option instead")
| ^
/home/biocbuild/bbs-3.15-bioc/R/library/RcppArmadillo/include/armadillo_bits/config.hpp:341:61: note: #pragma message: INFO: see the documentation for details
341 | #pragma message ("INFO: see the documentation for details")
| ^
g++ -std=gnu++11 -I"/home/biocbuild/bbs-3.15-bioc/R/include" -DNDEBUG -I'/home/biocbuild/bbs-3.15-bioc/R/library/Rcpp/include' -I'/home/biocbuild/bbs-3.15-bioc/R/library/RcppArmadillo/include' -I/usr/local/include -fopenmp -fpic -g -O2 -Wall -c ssPertScore.cpp -o ssPertScore.o
In file included from /home/biocbuild/bbs-3.15-bioc/R/library/RcppArmadillo/include/armadillo:22,
from /home/biocbuild/bbs-3.15-bioc/R/library/RcppArmadillo/include/RcppArmadilloForward.h:56,
from /home/biocbuild/bbs-3.15-bioc/R/library/RcppArmadillo/include/RcppArmadillo.h:29,
from ssPertScore.cpp:2:
/home/biocbuild/bbs-3.15-bioc/R/library/RcppArmadillo/include/armadillo_bits/config.hpp:333:86: note: #pragma message: INFO: support for ARMA_DONT_PRINT_ERRORS option has been removed
333 | #pragma message ("INFO: support for ARMA_DONT_PRINT_ERRORS option has been removed")
| ^
/home/biocbuild/bbs-3.15-bioc/R/library/RcppArmadillo/include/armadillo_bits/config.hpp:338:75: note: #pragma message: INFO: suggest to use ARMA_WARN_LEVEL option instead
338 | #pragma message ("INFO: suggest to use ARMA_WARN_LEVEL option instead")
| ^
/home/biocbuild/bbs-3.15-bioc/R/library/RcppArmadillo/include/armadillo_bits/config.hpp:341:61: note: #pragma message: INFO: see the documentation for details
341 | #pragma message ("INFO: see the documentation for details")
| ^
g++ -std=gnu++11 -shared -L/home/biocbuild/bbs-3.15-bioc/R/lib -L/usr/local/lib -o sSNAPPY.so RcppExports.o code.o normaliseByPermutation.o ssPertScore.o -fopenmp -L/home/biocbuild/bbs-3.15-bioc/R/lib -lRlapack -L/home/biocbuild/bbs-3.15-bioc/R/lib -lRblas -lgfortran -lm -lquadmath -L/home/biocbuild/bbs-3.15-bioc/R/lib -lR
installing to /home/biocbuild/bbs-3.15-bioc/R/library/00LOCK-sSNAPPY/00new/sSNAPPY/libs
** R
** data
** inst
** byte-compile and prepare package for lazy loading
** help
*** installing help indices
** building package indices
** installing vignettes
** testing if installed package can be loaded from temporary location
** checking absolute paths in shared objects and dynamic libraries
** testing if installed package can be loaded from final location
** testing if installed package keeps a record of temporary installation path
* DONE (sSNAPPY)