| Back to Multiple platform build/check report for BioC 3.15 |
|
This page was generated on 2022-03-18 11:08:32 -0400 (Fri, 18 Mar 2022).
| Hostname | OS | Arch (*) | R version | Installed pkgs |
|---|---|---|---|---|
| nebbiolo1 | Linux (Ubuntu 20.04.4 LTS) | x86_64 | R Under development (unstable) (2022-02-17 r81757) -- "Unsuffered Consequences" | 4334 |
| riesling1 | Windows Server 2019 Standard | x64 | R Under development (unstable) (2021-11-21 r81221) -- "Unsuffered Consequences" | 4097 |
| palomino3 | Windows Server 2022 Datacenter | x64 | R Under development (unstable) (2022-02-17 r81757 ucrt) -- "Unsuffered Consequences" | 4083 |
| merida1 | macOS 10.14.6 Mojave | x86_64 | R Under development (unstable) (2022-03-02 r81842) -- "Unsuffered Consequences" | 4134 |
| Click on any hostname to see more info about the system (e.g. compilers) (*) as reported by 'uname -p', except on Windows and Mac OS X | ||||
|
To the developers/maintainers of the rqubic package: - Please allow up to 24 hours (and sometimes 48 hours) for your latest push to git@git.bioconductor.org:packages/rqubic.git to reflect on this report. See How and When does the builder pull? When will my changes propagate? here for more information. - Make sure to use the following settings in order to reproduce any error or warning you see on this page. |
| Package 1663/2090 | Hostname | OS / Arch | INSTALL | BUILD | CHECK | BUILD BIN | ||||||||
| rqubic 1.41.0 (landing page) Jitao David Zhang
| nebbiolo1 | Linux (Ubuntu 20.04.4 LTS) / x86_64 | OK | OK | WARNINGS | |||||||||
| riesling1 | Windows Server 2019 Standard / x64 | OK | OK | WARNINGS | OK | |||||||||
| palomino3 | Windows Server 2022 Datacenter / x64 | OK | OK | WARNINGS | OK | |||||||||
| merida1 | macOS 10.14.6 Mojave / x86_64 | OK | OK | OK | OK | |||||||||
| Package: rqubic |
| Version: 1.41.0 |
| Command: rm -rf rqubic.buildbin-libdir && mkdir rqubic.buildbin-libdir && D:\biocbuild\bbs-3.15-bioc\R\bin\R.exe CMD INSTALL --build --library=rqubic.buildbin-libdir rqubic_1.41.0.tar.gz |
| StartedAt: 2022-03-17 21:35:25 -0400 (Thu, 17 Mar 2022) |
| EndedAt: 2022-03-17 21:37:01 -0400 (Thu, 17 Mar 2022) |
| EllapsedTime: 96.3 seconds |
| RetCode: 0 |
| Status: OK |
| PackageFile: rqubic_1.41.0.zip |
| PackageFileSize: 508.6 KiB |
##############################################################################
##############################################################################
###
### Running command:
###
### rm -rf rqubic.buildbin-libdir && mkdir rqubic.buildbin-libdir && D:\biocbuild\bbs-3.15-bioc\R\bin\R.exe CMD INSTALL --build --library=rqubic.buildbin-libdir rqubic_1.41.0.tar.gz
###
##############################################################################
##############################################################################
* installing *source* package 'rqubic' ...
** using staged installation
** libs
"C:/rtools40/mingw64/bin/"gcc -I"D:/biocbuild/bbs-3.15-bioc/R/include" -DNDEBUG -I"C:/extsoft/include" -O2 -Wall -std=gnu99 -mfpmath=sse -msse2 -mstackrealign -fno-reorder-blocks-and-partition -c bicluster.c -o bicluster.o
bicluster.c: In function 'seed_intersect_r':
bicluster.c:354:11: warning: suggest parentheses around assignment used as truth value [-Wparentheses]
if (flag=ss) (*m_cnt)++;
^~~~
"C:/rtools40/mingw64/bin/"gcc -I"D:/biocbuild/bbs-3.15-bioc/R/include" -DNDEBUG -I"C:/extsoft/include" -O2 -Wall -std=gnu99 -mfpmath=sse -msse2 -mstackrealign -fno-reorder-blocks-and-partition -c discretize.c -o discretize.o
In file included from discretize.c:9:
rqubic.h:62:20: warning: 'MINCOL_ATT_NAME' defined but not used [-Wunused-variable]
static const char *MINCOL_ATT_NAME="minimumCol";
^~~~~~~~~~~~~~~
rqubic.h:61:20: warning: 'EDGELIST_ATT_NAME' defined but not used [-Wunused-variable]
static const char *EDGELIST_ATT_NAME="edgelist";
^~~~~~~~~~~~~~~~~
"C:/rtools40/mingw64/bin/"gcc -I"D:/biocbuild/bbs-3.15-bioc/R/include" -DNDEBUG -I"C:/extsoft/include" -O2 -Wall -std=gnu99 -mfpmath=sse -msse2 -mstackrealign -fno-reorder-blocks-and-partition -c fib.c -o fib.o
In file included from fib.c:35:
rqubic.h:62:20: warning: 'MINCOL_ATT_NAME' defined but not used [-Wunused-variable]
static const char *MINCOL_ATT_NAME="minimumCol";
^~~~~~~~~~~~~~~
rqubic.h:61:20: warning: 'EDGELIST_ATT_NAME' defined but not used [-Wunused-variable]
static const char *EDGELIST_ATT_NAME="edgelist";
^~~~~~~~~~~~~~~~~
"C:/rtools40/mingw64/bin/"gcc -I"D:/biocbuild/bbs-3.15-bioc/R/include" -DNDEBUG -I"C:/extsoft/include" -O2 -Wall -std=gnu99 -mfpmath=sse -msse2 -mstackrealign -fno-reorder-blocks-and-partition -c graph.c -o graph.o
"C:/rtools40/mingw64/bin/"gcc -I"D:/biocbuild/bbs-3.15-bioc/R/include" -DNDEBUG -I"C:/extsoft/include" -O2 -Wall -std=gnu99 -mfpmath=sse -msse2 -mstackrealign -fno-reorder-blocks-and-partition -c rqubic.c -o rqubic.o
In file included from rqubic.c:5:
rqubic.h:62:20: warning: 'MINCOL_ATT_NAME' defined but not used [-Wunused-variable]
static const char *MINCOL_ATT_NAME="minimumCol";
^~~~~~~~~~~~~~~
rqubic.h:61:20: warning: 'EDGELIST_ATT_NAME' defined but not used [-Wunused-variable]
static const char *EDGELIST_ATT_NAME="edgelist";
^~~~~~~~~~~~~~~~~
C:/rtools40/mingw64/bin/gcc -shared -s -static-libgcc -o rqubic.dll tmp.def bicluster.o discretize.o fib.o graph.o rqubic.o -LC:/extsoft/lib/x64 -LC:/extsoft/lib -LD:/biocbuild/bbs-3.15-bioc/R/bin/x64 -lR
installing to D:/biocbuild/bbs-3.15-bioc/meat/rqubic.buildbin-libdir/00LOCK-rqubic/00new/rqubic/libs/x64
** R
** inst
** byte-compile and prepare package for lazy loading
** help
*** installing help indices
converting help for package 'rqubic'
finding HTML links ... done
QUBICBiclusterSet-class html
finding level-2 HTML links ... done
combineBiclusts-methods html
discretize html
eSetDimName html
fcFilter-methods html
fcFilter html
features-methods html
generateSeeds-methods html
parseQubicBlocks html
quBicluster html
readBiclusterResults html
rqubic-package html
writeQubicInputFile html
** building package indices
** installing vignettes
** testing if installed package can be loaded from temporary location
** testing if installed package can be loaded from final location
** testing if installed package keeps a record of temporary installation path
* MD5 sums
packaged installation of 'rqubic' as rqubic_1.41.0.zip
* DONE (rqubic)