| Back to Multiple platform build/check report for BioC 3.15 |
|
This page was generated on 2022-03-18 11:08:32 -0400 (Fri, 18 Mar 2022).
| Hostname | OS | Arch (*) | R version | Installed pkgs |
|---|---|---|---|---|
| nebbiolo1 | Linux (Ubuntu 20.04.4 LTS) | x86_64 | R Under development (unstable) (2022-02-17 r81757) -- "Unsuffered Consequences" | 4334 |
| riesling1 | Windows Server 2019 Standard | x64 | R Under development (unstable) (2021-11-21 r81221) -- "Unsuffered Consequences" | 4097 |
| palomino3 | Windows Server 2022 Datacenter | x64 | R Under development (unstable) (2022-02-17 r81757 ucrt) -- "Unsuffered Consequences" | 4083 |
| merida1 | macOS 10.14.6 Mojave | x86_64 | R Under development (unstable) (2022-03-02 r81842) -- "Unsuffered Consequences" | 4134 |
| Click on any hostname to see more info about the system (e.g. compilers) (*) as reported by 'uname -p', except on Windows and Mac OS X | ||||
|
To the developers/maintainers of the ropls package: - Please allow up to 24 hours (and sometimes 48 hours) for your latest push to git@git.bioconductor.org:packages/ropls.git to reflect on this report. See How and When does the builder pull? When will my changes propagate? here for more information. - Make sure to use the following settings in order to reproduce any error or warning you see on this page. |
| Package 1653/2090 | Hostname | OS / Arch | INSTALL | BUILD | CHECK | BUILD BIN | ||||||||
| ropls 1.27.6 (landing page) Etienne A. Thevenot
| nebbiolo1 | Linux (Ubuntu 20.04.4 LTS) / x86_64 | OK | OK | OK | |||||||||
| riesling1 | Windows Server 2019 Standard / x64 | OK | OK | OK | OK | |||||||||
| palomino3 | Windows Server 2022 Datacenter / x64 | OK | OK | OK | OK | |||||||||
| merida1 | macOS 10.14.6 Mojave / x86_64 | OK | OK | OK | OK | |||||||||
| Package: ropls |
| Version: 1.27.6 |
| Command: D:\biocbuild\bbs-3.15-bioc\R\bin\R.exe CMD check --no-multiarch --install=check:ropls.install-out.txt --library=D:\biocbuild\bbs-3.15-bioc\R\library --no-vignettes --timings ropls_1.27.6.tar.gz |
| StartedAt: 2022-03-17 20:06:58 -0400 (Thu, 17 Mar 2022) |
| EndedAt: 2022-03-17 20:08:00 -0400 (Thu, 17 Mar 2022) |
| EllapsedTime: 61.9 seconds |
| RetCode: 0 |
| Status: OK |
| CheckDir: ropls.Rcheck |
| Warnings: 0 |
############################################################################## ############################################################################## ### ### Running command: ### ### D:\biocbuild\bbs-3.15-bioc\R\bin\R.exe CMD check --no-multiarch --install=check:ropls.install-out.txt --library=D:\biocbuild\bbs-3.15-bioc\R\library --no-vignettes --timings ropls_1.27.6.tar.gz ### ############################################################################## ############################################################################## * using log directory 'D:/biocbuild/bbs-3.15-bioc/meat/ropls.Rcheck' * using R Under development (unstable) (2021-11-21 r81221) * using platform: x86_64-w64-mingw32 (64-bit) * using session charset: ISO8859-1 * using option '--no-vignettes' * checking for file 'ropls/DESCRIPTION' ... OK * checking extension type ... Package * this is package 'ropls' version '1.27.6' * package encoding: UTF-8 * checking package namespace information ... OK * checking package dependencies ... OK * checking if this is a source package ... OK * checking if there is a namespace ... OK * checking for hidden files and directories ... OK * checking for portable file names ... OK * checking whether package 'ropls' can be installed ... OK * checking installed package size ... OK * checking package directory ... OK * checking 'build' directory ... OK * checking DESCRIPTION meta-information ... OK * checking top-level files ... OK * checking for left-over files ... OK * checking index information ... OK * checking package subdirectories ... OK * checking R files for non-ASCII characters ... OK * checking R files for syntax errors ... OK * checking whether the package can be loaded ... OK * checking whether the package can be loaded with stated dependencies ... OK * checking whether the package can be unloaded cleanly ... OK * checking whether the namespace can be loaded with stated dependencies ... OK * checking whether the namespace can be unloaded cleanly ... OK * checking dependencies in R code ... NOTE Namespace in Imports field not imported from: 'MultiDataSet' All declared Imports should be used. * checking S3 generic/method consistency ... OK * checking replacement functions ... OK * checking foreign function calls ... OK * checking R code for possible problems ... OK * checking Rd files ... OK * checking Rd metadata ... OK * checking Rd cross-references ... OK * checking for missing documentation entries ... OK * checking for code/documentation mismatches ... OK * checking Rd \usage sections ... OK * checking Rd contents ... OK * checking for unstated dependencies in examples ... OK * checking contents of 'data' directory ... OK * checking data for non-ASCII characters ... OK * checking data for ASCII and uncompressed saves ... OK * checking files in 'vignettes' ... OK * checking examples ... OK * checking for unstated dependencies in vignettes ... OK * checking package vignettes in 'inst/doc' ... OK * checking running R code from vignettes ... SKIPPED * checking re-building of vignette outputs ... SKIPPED * checking PDF version of manual ... OK * DONE Status: 1 NOTE See 'D:/biocbuild/bbs-3.15-bioc/meat/ropls.Rcheck/00check.log' for details.
ropls.Rcheck/00install.out
##############################################################################
##############################################################################
###
### Running command:
###
### D:\biocbuild\bbs-3.15-bioc\R\bin\R.exe CMD INSTALL ropls
###
##############################################################################
##############################################################################
* installing to library 'D:/biocbuild/bbs-3.15-bioc/R/library'
* installing *source* package 'ropls' ...
** using staged installation
** R
** data
** inst
** byte-compile and prepare package for lazy loading
in method for 'opls' with signature 'x="MultiDataSet"': no definition for class "MultiDataSet"
** help
*** installing help indices
converting help for package 'ropls'
finding HTML links ... done
aminoacids html
cellulose html
checkW4M html
coef html
cornell html
fitted html
foods html
fromW4M html
getEset html
getLoadingMN html
getMset html
getPcaVarVn html
getScoreMN html
getSubsetVi html
getSummaryDF html
getVipVn html
getWeightMN html
linnerud html
lowarp html
mark html
opls-class html
opls html
oplsMultiDataSet-class html
plot html
predict html
print html
residuals html
ropls-package html
sacurine html
show html
tested html
toW4M html
view html
** building package indices
** installing vignettes
** testing if installed package can be loaded from temporary location
** testing if installed package can be loaded from final location
** testing if installed package keeps a record of temporary installation path
* DONE (ropls)
Making 'packages.html' ...Warning in packageDescription(i, lib.loc = lib, fields = "Title", encoding = "UTF-8") :
DESCRIPTION file of package 'BiocIO' is missing or broken
done
ropls.Rcheck/ropls-Ex.timings
| name | user | system | elapsed | |
| checkW4M | 0.10 | 0.00 | 0.11 | |
| coef | 0.61 | 0.15 | 0.77 | |
| fitted | 1.14 | 0.10 | 1.24 | |
| fromW4M | 0.14 | 0.00 | 0.14 | |
| getEset | 0.61 | 0.12 | 0.74 | |
| getLoadingMN | 0.46 | 0.14 | 0.61 | |
| getMset | 4.49 | 0.28 | 4.76 | |
| getPcaVarVn | 0.06 | 0.02 | 0.08 | |
| getScoreMN | 0.45 | 0.00 | 0.45 | |
| getSubsetVi | 0.07 | 0.00 | 0.06 | |
| getSummaryDF | 0.48 | 0.00 | 0.49 | |
| getVipVn | 0.44 | 0.00 | 0.44 | |
| getWeightMN | 0.44 | 0.00 | 0.43 | |
| opls-class | 1.57 | 0.06 | 1.64 | |
| opls | 2.69 | 0.02 | 2.72 | |
| oplsMultiDataSet-class | 0 | 0 | 0 | |
| plot | 2.35 | 0.01 | 2.36 | |
| predict | 0.04 | 0.00 | 0.05 | |
| 0.44 | 0.00 | 0.44 | ||
| residuals | 0.27 | 0.00 | 0.26 | |
| ropls-package | 1.73 | 0.00 | 1.74 | |
| show | 0.44 | 0.00 | 0.43 | |
| tested | 0.06 | 0.00 | 0.07 | |
| toW4M | 0.11 | 0.00 | 0.11 | |
| view | 0.48 | 0.03 | 0.51 | |