| Back to Multiple platform build/check report for BioC 3.15 |
|
This page was generated on 2022-10-19 13:23:36 -0400 (Wed, 19 Oct 2022).
| Hostname | OS | Arch (*) | R version | Installed pkgs |
|---|---|---|---|---|
| nebbiolo1 | Linux (Ubuntu 20.04.5 LTS) | x86_64 | 4.2.1 (2022-06-23) -- "Funny-Looking Kid" | 4386 |
| palomino3 | Windows Server 2022 Datacenter | x64 | 4.2.1 (2022-06-23 ucrt) -- "Funny-Looking Kid" | 4138 |
| merida1 | macOS 10.14.6 Mojave | x86_64 | 4.2.1 (2022-06-23) -- "Funny-Looking Kid" | 4205 |
| Click on any hostname to see more info about the system (e.g. compilers) (*) as reported by 'uname -p', except on Windows and Mac OS X | ||||
|
To the developers/maintainers of the rifi package: - Please allow up to 24 hours (and sometimes 48 hours) for your latest push to git@git.bioconductor.org:packages/rifi.git to reflect on this report. See How and When does the builder pull? When will my changes propagate? for more information. - Make sure to use the following settings in order to reproduce any error or warning you see on this page. |
| Package 1654/2140 | Hostname | OS / Arch | INSTALL | BUILD | CHECK | BUILD BIN | ||||||||
| rifi 1.0.0 (landing page) Jens Georg
| nebbiolo1 | Linux (Ubuntu 20.04.5 LTS) / x86_64 | OK | OK | OK | |||||||||
| palomino3 | Windows Server 2022 Datacenter / x64 | ERROR | ERROR | skipped | skipped | |||||||||
| merida1 | macOS 10.14.6 Mojave / x86_64 | OK | OK | OK | OK | |||||||||
| Package: rifi |
| Version: 1.0.0 |
| Command: /Library/Frameworks/R.framework/Resources/bin/R CMD check --install=check:rifi.install-out.txt --library=/Library/Frameworks/R.framework/Resources/library --no-vignettes --timings rifi_1.0.0.tar.gz |
| StartedAt: 2022-10-19 07:05:10 -0400 (Wed, 19 Oct 2022) |
| EndedAt: 2022-10-19 07:21:06 -0400 (Wed, 19 Oct 2022) |
| EllapsedTime: 956.2 seconds |
| RetCode: 0 |
| Status: OK |
| CheckDir: rifi.Rcheck |
| Warnings: 0 |
##############################################################################
##############################################################################
###
### Running command:
###
### /Library/Frameworks/R.framework/Resources/bin/R CMD check --install=check:rifi.install-out.txt --library=/Library/Frameworks/R.framework/Resources/library --no-vignettes --timings rifi_1.0.0.tar.gz
###
##############################################################################
##############################################################################
* using log directory ‘/Users/biocbuild/bbs-3.15-bioc/meat/rifi.Rcheck’
* using R version 4.2.1 (2022-06-23)
* using platform: x86_64-apple-darwin17.0 (64-bit)
* using session charset: UTF-8
* using option ‘--no-vignettes’
* checking for file ‘rifi/DESCRIPTION’ ... OK
* this is package ‘rifi’ version ‘1.0.0’
* package encoding: UTF-8
* checking package namespace information ... OK
* checking package dependencies ... OK
* checking if this is a source package ... OK
* checking if there is a namespace ... OK
* checking for hidden files and directories ... OK
* checking for portable file names ... OK
* checking for sufficient/correct file permissions ... OK
* checking whether package ‘rifi’ can be installed ... OK
* checking installed package size ... OK
* checking package directory ... OK
* checking ‘build’ directory ... OK
* checking DESCRIPTION meta-information ... OK
* checking top-level files ... OK
* checking for left-over files ... OK
* checking index information ... OK
* checking package subdirectories ... OK
* checking R files for non-ASCII characters ... OK
* checking R files for syntax errors ... OK
* checking whether the package can be loaded ... OK
* checking whether the package can be loaded with stated dependencies ... OK
* checking whether the package can be unloaded cleanly ... OK
* checking whether the namespace can be loaded with stated dependencies ... OK
* checking whether the namespace can be unloaded cleanly ... OK
* checking dependencies in R code ... OK
* checking S3 generic/method consistency ... OK
* checking replacement functions ... OK
* checking foreign function calls ... OK
* checking R code for possible problems ... OK
* checking Rd files ... OK
* checking Rd metadata ... OK
* checking Rd cross-references ... OK
* checking for missing documentation entries ... OK
* checking for code/documentation mismatches ... OK
* checking Rd \usage sections ... OK
* checking Rd contents ... OK
* checking for unstated dependencies in examples ... OK
* checking contents of ‘data’ directory ... OK
* checking data for non-ASCII characters ... OK
* checking data for ASCII and uncompressed saves ... OK
* checking files in ‘vignettes’ ... OK
* checking examples ... OK
Examples with CPU (user + system) or elapsed time > 5s
user system elapsed
rifi_wrapper 212.497 32.960 214.741
rifi_penalties 108.220 28.162 132.780
rifi_fit 53.490 0.556 55.336
rifi_visualization 46.082 1.702 47.836
nls2_fit 31.330 1.866 19.958
make_pen 20.057 4.527 23.989
TI_fit 22.614 1.898 14.687
rifi_stats 10.593 0.151 10.753
rifi_fragmentation 6.845 1.186 7.768
fold_change 6.638 0.141 6.786
* checking for unstated dependencies in vignettes ... OK
* checking package vignettes in ‘inst/doc’ ... OK
* checking running R code from vignettes ... SKIPPED
* checking re-building of vignette outputs ... SKIPPED
* checking PDF version of manual ... OK
* DONE
Status: OK
rifi.Rcheck/00install.out
############################################################################## ############################################################################## ### ### Running command: ### ### /Library/Frameworks/R.framework/Resources/bin/R CMD INSTALL rifi ### ############################################################################## ############################################################################## * installing to library ‘/Library/Frameworks/R.framework/Versions/4.2/Resources/library’ * installing *source* package ‘rifi’ ... ** using staged installation ** R ** data ** inst ** byte-compile and prepare package for lazy loading ** help *** installing help indices ** building package indices ** installing vignettes ** testing if installed package can be loaded from temporary location ** testing if installed package can be loaded from final location ** testing if installed package keeps a record of temporary installation path * DONE (rifi)
rifi.Rcheck/rifi-Ex.timings
| name | user | system | elapsed | |
| TI_fit | 22.614 | 1.898 | 14.687 | |
| TUgether | 0.946 | 0.136 | 1.070 | |
| apply_Ttest_delay | 0.233 | 0.027 | 0.261 | |
| apply_ancova | 0.677 | 0.066 | 0.743 | |
| apply_event_position | 0.222 | 0.017 | 0.240 | |
| apply_manova | 1.249 | 0.034 | 1.286 | |
| apply_t_test | 1.430 | 0.005 | 1.437 | |
| apply_t_test_ti | 0.368 | 0.003 | 0.370 | |
| check_input | 0.686 | 0.005 | 0.692 | |
| dataframe_summary | 0.185 | 0.012 | 0.197 | |
| dataframe_summary_TI | 0.087 | 0.005 | 0.092 | |
| dataframe_summary_events | 1.773 | 0.037 | 1.816 | |
| dataframe_summary_events_HL_int | 1.351 | 0.023 | 1.376 | |
| dataframe_summary_events_ps_itss | 0.511 | 0.018 | 0.531 | |
| dataframe_summary_events_velocity | 0.512 | 0.017 | 0.531 | |
| event_dataframe | 1.575 | 0.024 | 1.600 | |
| finding_PDD | 0.505 | 0.073 | 0.561 | |
| finding_TI | 0.799 | 0.131 | 0.912 | |
| fold_change | 6.638 | 0.141 | 6.786 | |
| fragment_HL | 1.307 | 0.161 | 1.440 | |
| fragment_TI | 0.992 | 0.085 | 1.082 | |
| fragment_delay | 2.217 | 0.378 | 2.524 | |
| fragment_inty | 1.454 | 0.203 | 1.626 | |
| gff3_preprocess | 1.077 | 0.084 | 1.162 | |
| make_df | 1.583 | 0.461 | 1.363 | |
| make_pen | 20.057 | 4.527 | 23.989 | |
| nls2_fit | 31.330 | 1.866 | 19.958 | |
| predict_ps_itss | 0.619 | 0.060 | 0.720 | |
| rifi_fit | 53.490 | 0.556 | 55.336 | |
| rifi_fragmentation | 6.845 | 1.186 | 7.768 | |
| rifi_penalties | 108.220 | 28.162 | 132.780 | |
| rifi_preprocess | 3.730 | 0.831 | 3.814 | |
| rifi_stats | 10.593 | 0.151 | 10.753 | |
| rifi_summary | 4.414 | 0.037 | 4.456 | |
| rifi_visualization | 46.082 | 1.702 | 47.836 | |
| rifi_wrapper | 212.497 | 32.960 | 214.741 | |
| segment_pos | 0.360 | 0.002 | 0.362 | |
| viz_pen_obj | 0.014 | 0.010 | 0.025 | |