| Back to Multiple platform build/check report for BioC 3.15 |
|
This page was generated on 2022-03-18 11:08:29 -0400 (Fri, 18 Mar 2022).
| Hostname | OS | Arch (*) | R version | Installed pkgs |
|---|---|---|---|---|
| nebbiolo1 | Linux (Ubuntu 20.04.4 LTS) | x86_64 | R Under development (unstable) (2022-02-17 r81757) -- "Unsuffered Consequences" | 4334 |
| riesling1 | Windows Server 2019 Standard | x64 | R Under development (unstable) (2021-11-21 r81221) -- "Unsuffered Consequences" | 4097 |
| palomino3 | Windows Server 2022 Datacenter | x64 | R Under development (unstable) (2022-02-17 r81757 ucrt) -- "Unsuffered Consequences" | 4083 |
| merida1 | macOS 10.14.6 Mojave | x86_64 | R Under development (unstable) (2022-03-02 r81842) -- "Unsuffered Consequences" | 4134 |
| Click on any hostname to see more info about the system (e.g. compilers) (*) as reported by 'uname -p', except on Windows and Mac OS X | ||||
|
To the developers/maintainers of the rhdf5client package: - Please allow up to 24 hours (and sometimes 48 hours) for your latest push to git@git.bioconductor.org:packages/rhdf5client.git to reflect on this report. See How and When does the builder pull? When will my changes propagate? here for more information. - Make sure to use the following settings in order to reproduce any error or warning you see on this page. |
| Package 1606/2090 | Hostname | OS / Arch | INSTALL | BUILD | CHECK | BUILD BIN | ||||||||
| rhdf5client 1.17.0 (landing page) Vincent Carey
| nebbiolo1 | Linux (Ubuntu 20.04.4 LTS) / x86_64 | OK | OK | OK | |||||||||
| riesling1 | Windows Server 2019 Standard / x64 | OK | OK | OK | OK | |||||||||
| palomino3 | Windows Server 2022 Datacenter / x64 | OK | OK | OK | OK | |||||||||
| merida1 | macOS 10.14.6 Mojave / x86_64 | OK | OK | OK | OK | |||||||||
| Package: rhdf5client |
| Version: 1.17.0 |
| Command: D:\biocbuild\bbs-3.15-bioc\R\bin\R.exe CMD check --no-multiarch --install=check:rhdf5client.install-out.txt --library=D:\biocbuild\bbs-3.15-bioc\R\library --no-vignettes --timings rhdf5client_1.17.0.tar.gz |
| StartedAt: 2022-03-17 20:04:04 -0400 (Thu, 17 Mar 2022) |
| EndedAt: 2022-03-17 20:06:08 -0400 (Thu, 17 Mar 2022) |
| EllapsedTime: 123.7 seconds |
| RetCode: 0 |
| Status: OK |
| CheckDir: rhdf5client.Rcheck |
| Warnings: 0 |
##############################################################################
##############################################################################
###
### Running command:
###
### D:\biocbuild\bbs-3.15-bioc\R\bin\R.exe CMD check --no-multiarch --install=check:rhdf5client.install-out.txt --library=D:\biocbuild\bbs-3.15-bioc\R\library --no-vignettes --timings rhdf5client_1.17.0.tar.gz
###
##############################################################################
##############################################################################
* using log directory 'D:/biocbuild/bbs-3.15-bioc/meat/rhdf5client.Rcheck'
* using R Under development (unstable) (2021-11-21 r81221)
* using platform: x86_64-w64-mingw32 (64-bit)
* using session charset: ISO8859-1
* using option '--no-vignettes'
* checking for file 'rhdf5client/DESCRIPTION' ... OK
* this is package 'rhdf5client' version '1.17.0'
* package encoding: UTF-8
* checking package namespace information ... OK
* checking package dependencies ... OK
* checking if this is a source package ... OK
* checking if there is a namespace ... OK
* checking for hidden files and directories ... OK
* checking for portable file names ... OK
* checking whether package 'rhdf5client' can be installed ... OK
* checking installed package size ... OK
* checking package directory ... OK
* checking 'build' directory ... OK
* checking DESCRIPTION meta-information ... OK
* checking top-level files ... OK
* checking for left-over files ... OK
* checking index information ... OK
* checking package subdirectories ... OK
* checking R files for non-ASCII characters ... OK
* checking R files for syntax errors ... OK
* checking whether the package can be loaded ... OK
* checking whether the package can be loaded with stated dependencies ... OK
* checking whether the package can be unloaded cleanly ... OK
* checking whether the namespace can be loaded with stated dependencies ... OK
* checking whether the namespace can be unloaded cleanly ... OK
* checking dependencies in R code ... OK
* checking S3 generic/method consistency ... OK
* checking replacement functions ... OK
* checking foreign function calls ... OK
* checking R code for possible problems ... OK
* checking Rd files ... OK
* checking Rd metadata ... OK
* checking Rd cross-references ... OK
* checking for missing documentation entries ... OK
* checking for code/documentation mismatches ... OK
* checking Rd \usage sections ... OK
* checking Rd contents ... OK
* checking for unstated dependencies in examples ... OK
* checking line endings in C/C++/Fortran sources/headers ... OK
* checking compiled code ... NOTE
Note: information on .o files for x64 is not available
File 'D:/biocbuild/bbs-3.15-bioc/R/library/rhdf5client/libs/x64/rhdf5client.dll':
Found 'abort', possibly from 'abort' (C), 'runtime' (Fortran)
Compiled code should not call entry points which might terminate R nor
write to stdout/stderr instead of to the console, nor use Fortran I/O
nor system RNGs. The detected symbols are linked into the code but
might come from libraries and not actually be called.
See 'Writing portable packages' in the 'Writing R Extensions' manual.
* checking files in 'vignettes' ... OK
* checking examples ... OK
Examples with CPU (user + system) or elapsed time > 5s
user system elapsed
listDomains-methods 0.06 0 10.61
* checking for unstated dependencies in 'tests' ... OK
* checking tests ...
Running 'testthat.R'
OK
* checking for unstated dependencies in vignettes ... OK
* checking package vignettes in 'inst/doc' ... OK
* checking running R code from vignettes ... SKIPPED
* checking re-building of vignette outputs ... SKIPPED
* checking PDF version of manual ... OK
* DONE
Status: 1 NOTE
See
'D:/biocbuild/bbs-3.15-bioc/meat/rhdf5client.Rcheck/00check.log'
for details.
rhdf5client.Rcheck/00install.out
##############################################################################
##############################################################################
###
### Running command:
###
### D:\biocbuild\bbs-3.15-bioc\R\bin\R.exe CMD INSTALL rhdf5client
###
##############################################################################
##############################################################################
* installing to library 'D:/biocbuild/bbs-3.15-bioc/R/library'
* installing *source* package 'rhdf5client' ...
** using staged installation
** libs
"C:/rtools40/mingw64/bin/"gcc -I"D:/biocbuild/bbs-3.15-bioc/R/include" -DNDEBUG -I"C:/extsoft/include" -O2 -Wall -std=gnu99 -mfpmath=sse -msse2 -mstackrealign -fno-reorder-blocks-and-partition -c extract.c -o extract.o
extract.c: In function 'extractBin':
extract.c:101:42: warning: 'rdp' may be used uninitialized in this function [-Wmaybe-uninitialized]
A[ia] = (Rf_isReal(resvec_sexp) ? rdp[ib] : rip[ib]);
^
extract.c:101:52: warning: 'rip' may be used uninitialized in this function [-Wmaybe-uninitialized]
A[ia] = (Rf_isReal(resvec_sexp) ? rdp[ib] : rip[ib]);
^
C:/rtools40/mingw64/bin/gcc -shared -s -static-libgcc -o rhdf5client.dll tmp.def extract.o -LC:/extsoft/lib/x64 -LC:/extsoft/lib -LD:/biocbuild/bbs-3.15-bioc/R/bin/x64 -lR
installing to D:/biocbuild/bbs-3.15-bioc/R/library/00LOCK-rhdf5client/00new/rhdf5client/libs/x64
** R
** inst
** byte-compile and prepare package for lazy loading
** help
*** installing help indices
converting help for package 'rhdf5client'
finding HTML links ... done
H5S_Array-class html
H5S_Array html
H5S_ArraySeed-class html
H5S_Matrix-class html
H5S_dataset html
H5S_dataset2 html
H5S_source-class html
HSDSArray html
HSDSArraySeed html
HSDSDataset-class html
HSDSDataset html
HSDSFile-class html
HSDSFile html
HSDSMatrix html
HSDSSource-class html
HSDSSource html
HSDS_Matrix html
HSDS_Matrix_OLD html
URL_h5serv html
URL_hsds html
as html
check_hsds html
dataset html
dim-H5S_ArraySeed-method html
dim html
dimnames-H5S_ArraySeed-method html
dimnames html
domains html
dsmeta html
extract_array html
fetchDatasets html
getData-methods html
getDatasetAttrs html
getDatasetSlice html
getDatasetUUIDs html
getDims html
getHRDF html
getReq html
groups-methods html
hsdsInfo html
internalDim html
links html
listDatasets html
listDomains-methods html
rhdf5client-deprecated html
rhdf5client html
setPath html
sproc html
sub-H5S_dataset-character-character-ANY-method
html
sub-H5S_dataset-numeric-numeric-ANY-method
html
sub-HSDSDataset-numeric-ANY-ANY-method
html
sub-HSDSDataset-numeric-numeric-ANY-method
html
sub-sub html
targets html
transfermode html
** building package indices
** installing vignettes
** testing if installed package can be loaded from temporary location
** testing if installed package can be loaded from final location
** testing if installed package keeps a record of temporary installation path
* DONE (rhdf5client)
Making 'packages.html' ...Warning in packageDescription(i, lib.loc = lib, fields = "Title", encoding = "UTF-8") :
DESCRIPTION file of package 'ncRNAtools' is missing or broken
done
rhdf5client.Rcheck/tests/testthat.Rout
R Under development (unstable) (2021-11-21 r81221) -- "Unsuffered Consequences"
Copyright (C) 2021 The R Foundation for Statistical Computing
Platform: x86_64-w64-mingw32/x64 (64-bit)
R is free software and comes with ABSOLUTELY NO WARRANTY.
You are welcome to redistribute it under certain conditions.
Type 'license()' or 'licence()' for distribution details.
R is a collaborative project with many contributors.
Type 'contributors()' for more information and
'citation()' on how to cite R or R packages in publications.
Type 'demo()' for some demos, 'help()' for on-line help, or
'help.start()' for an HTML browser interface to help.
Type 'q()' to quit R.
> library(testthat)
> library(rhdf5client)
Loading required package: DelayedArray
Loading required package: stats4
Loading required package: Matrix
Loading required package: BiocGenerics
Attaching package: 'BiocGenerics'
The following objects are masked from 'package:stats':
IQR, mad, sd, var, xtabs
The following objects are masked from 'package:base':
Filter, Find, Map, Position, Reduce, anyDuplicated, append,
as.data.frame, basename, cbind, colnames, dirname, do.call,
duplicated, eval, evalq, get, grep, grepl, intersect, is.unsorted,
lapply, mapply, match, mget, order, paste, pmax, pmax.int, pmin,
pmin.int, rank, rbind, rownames, sapply, setdiff, sort, table,
tapply, union, unique, unsplit, which.max, which.min
Loading required package: MatrixGenerics
Loading required package: matrixStats
Attaching package: 'MatrixGenerics'
The following objects are masked from 'package:matrixStats':
colAlls, colAnyNAs, colAnys, colAvgsPerRowSet, colCollapse,
colCounts, colCummaxs, colCummins, colCumprods, colCumsums,
colDiffs, colIQRDiffs, colIQRs, colLogSumExps, colMadDiffs,
colMads, colMaxs, colMeans2, colMedians, colMins, colOrderStats,
colProds, colQuantiles, colRanges, colRanks, colSdDiffs, colSds,
colSums2, colTabulates, colVarDiffs, colVars, colWeightedMads,
colWeightedMeans, colWeightedMedians, colWeightedSds,
colWeightedVars, rowAlls, rowAnyNAs, rowAnys, rowAvgsPerColSet,
rowCollapse, rowCounts, rowCummaxs, rowCummins, rowCumprods,
rowCumsums, rowDiffs, rowIQRDiffs, rowIQRs, rowLogSumExps,
rowMadDiffs, rowMads, rowMaxs, rowMeans2, rowMedians, rowMins,
rowOrderStats, rowProds, rowQuantiles, rowRanges, rowRanks,
rowSdDiffs, rowSds, rowSums2, rowTabulates, rowVarDiffs, rowVars,
rowWeightedMads, rowWeightedMeans, rowWeightedMedians,
rowWeightedSds, rowWeightedVars
Loading required package: S4Vectors
Attaching package: 'S4Vectors'
The following objects are masked from 'package:Matrix':
expand, unname
The following objects are masked from 'package:base':
I, expand.grid, unname
Loading required package: IRanges
Attaching package: 'IRanges'
The following object is masked from 'package:grDevices':
windows
Attaching package: 'DelayedArray'
The following objects are masked from 'package:base':
aperm, apply, rowsum, scale, sweep
>
> test_check("rhdf5client")
[ FAIL 0 | WARN 0 | SKIP 0 | PASS 16 ]
>
> proc.time()
user system elapsed
11.20 3.79 20.09
rhdf5client.Rcheck/rhdf5client-Ex.timings
| name | user | system | elapsed | |
| H5S_Array | 0 | 0 | 0 | |
| H5S_dataset2 | 0 | 0 | 0 | |
| H5S_source-class | 0 | 0 | 0 | |
| HSDSArray | 0.17 | 0.02 | 2.35 | |
| HSDSDataset | 0.04 | 0.00 | 0.90 | |
| HSDSFile | 0.03 | 0.00 | 0.45 | |
| HSDSSource | 0.01 | 0.00 | 0.12 | |
| HSDS_Matrix | 0 | 0 | 0 | |
| HSDS_Matrix_OLD | 0 | 0 | 0 | |
| URL_h5serv | 0 | 0 | 0 | |
| URL_hsds | 0 | 0 | 0 | |
| domains | 0 | 0 | 0 | |
| dsmeta | 0 | 0 | 0 | |
| fetchDatasets | 0 | 0 | 0 | |
| getData-methods | 0.19 | 0.00 | 2.38 | |
| getDatasetAttrs | 0 | 0 | 0 | |
| getDatasetSlice | 0 | 0 | 0 | |
| getDatasetUUIDs | 0 | 0 | 0 | |
| getDims | 0 | 0 | 0 | |
| getHRDF | 0 | 0 | 0 | |
| groups-methods | 0 | 0 | 0 | |
| hsdsInfo | 0 | 0 | 0 | |
| internalDim | 0 | 0 | 0 | |
| links | 0 | 0 | 0 | |
| listDatasets | 0.01 | 0.00 | 0.46 | |
| listDomains-methods | 0.06 | 0.00 | 10.61 | |
| setPath | 0 | 0 | 0 | |
| sproc | 0 | 0 | 0 | |
| targets | 0 | 0 | 0 | |