| Back to Multiple platform build/check report for BioC 3.15 |
|
This page was generated on 2022-10-19 13:23:35 -0400 (Wed, 19 Oct 2022).
| Hostname | OS | Arch (*) | R version | Installed pkgs |
|---|---|---|---|---|
| nebbiolo1 | Linux (Ubuntu 20.04.5 LTS) | x86_64 | 4.2.1 (2022-06-23) -- "Funny-Looking Kid" | 4386 |
| palomino3 | Windows Server 2022 Datacenter | x64 | 4.2.1 (2022-06-23 ucrt) -- "Funny-Looking Kid" | 4138 |
| merida1 | macOS 10.14.6 Mojave | x86_64 | 4.2.1 (2022-06-23) -- "Funny-Looking Kid" | 4205 |
| Click on any hostname to see more info about the system (e.g. compilers) (*) as reported by 'uname -p', except on Windows and Mac OS X | ||||
|
To the developers/maintainers of the regioneR package: - Please allow up to 24 hours (and sometimes 48 hours) for your latest push to git@git.bioconductor.org:packages/regioneR.git to reflect on this report. See How and When does the builder pull? When will my changes propagate? for more information. - Make sure to use the following settings in order to reproduce any error or warning you see on this page. |
| Package 1617/2140 | Hostname | OS / Arch | INSTALL | BUILD | CHECK | BUILD BIN | ||||||||
| regioneR 1.28.0 (landing page) Bernat Gel
| nebbiolo1 | Linux (Ubuntu 20.04.5 LTS) / x86_64 | OK | OK | OK | |||||||||
| palomino3 | Windows Server 2022 Datacenter / x64 | OK | OK | OK | OK | |||||||||
| merida1 | macOS 10.14.6 Mojave / x86_64 | OK | OK | OK | OK | |||||||||
| Package: regioneR |
| Version: 1.28.0 |
| Command: /Library/Frameworks/R.framework/Resources/bin/R CMD check --install=check:regioneR.install-out.txt --library=/Library/Frameworks/R.framework/Resources/library --no-vignettes --timings regioneR_1.28.0.tar.gz |
| StartedAt: 2022-10-19 06:53:01 -0400 (Wed, 19 Oct 2022) |
| EndedAt: 2022-10-19 07:05:10 -0400 (Wed, 19 Oct 2022) |
| EllapsedTime: 729.0 seconds |
| RetCode: 0 |
| Status: OK |
| CheckDir: regioneR.Rcheck |
| Warnings: 0 |
##############################################################################
##############################################################################
###
### Running command:
###
### /Library/Frameworks/R.framework/Resources/bin/R CMD check --install=check:regioneR.install-out.txt --library=/Library/Frameworks/R.framework/Resources/library --no-vignettes --timings regioneR_1.28.0.tar.gz
###
##############################################################################
##############################################################################
* using log directory ‘/Users/biocbuild/bbs-3.15-bioc/meat/regioneR.Rcheck’
* using R version 4.2.1 (2022-06-23)
* using platform: x86_64-apple-darwin17.0 (64-bit)
* using session charset: UTF-8
* using option ‘--no-vignettes’
* checking for file ‘regioneR/DESCRIPTION’ ... OK
* checking extension type ... Package
* this is package ‘regioneR’ version ‘1.28.0’
* package encoding: UTF-8
* checking package namespace information ... OK
* checking package dependencies ... OK
* checking if this is a source package ... OK
* checking if there is a namespace ... OK
* checking for hidden files and directories ... OK
* checking for portable file names ... OK
* checking for sufficient/correct file permissions ... OK
* checking whether package ‘regioneR’ can be installed ... OK
* checking installed package size ... OK
* checking package directory ... OK
* checking ‘build’ directory ... OK
* checking DESCRIPTION meta-information ... NOTE
Package listed in more than one of Depends, Imports, Suggests, Enhances:
‘GenomicRanges’
A package should be listed in only one of these fields.
* checking top-level files ... OK
* checking for left-over files ... OK
* checking index information ... OK
* checking package subdirectories ... OK
* checking R files for non-ASCII characters ... OK
* checking R files for syntax errors ... OK
* checking whether the package can be loaded ... OK
* checking whether the package can be loaded with stated dependencies ... OK
* checking whether the package can be unloaded cleanly ... OK
* checking whether the namespace can be loaded with stated dependencies ... OK
* checking whether the namespace can be unloaded cleanly ... OK
* checking dependencies in R code ... OK
* checking S3 generic/method consistency ... OK
* checking replacement functions ... OK
* checking foreign function calls ... OK
* checking R code for possible problems ... OK
* checking Rd files ... OK
* checking Rd metadata ... OK
* checking Rd cross-references ... OK
* checking for missing documentation entries ... OK
* checking for code/documentation mismatches ... OK
* checking Rd \usage sections ... OK
* checking Rd contents ... OK
* checking for unstated dependencies in examples ... OK
* checking files in ‘vignettes’ ... OK
* checking examples ... OK
Examples with CPU (user + system) or elapsed time > 5s
user system elapsed
circularRandomizeRegions 62.881 3.645 67.881
filterChromosomes 58.133 2.449 61.273
getMask 57.581 2.237 59.921
maskFromBSGenome 54.669 3.297 58.247
localZScore 6.629 0.600 9.393
* checking for unstated dependencies in ‘tests’ ... OK
* checking tests ...
Running ‘testthat.R’
OK
* checking for unstated dependencies in vignettes ... OK
* checking package vignettes in ‘inst/doc’ ... OK
* checking running R code from vignettes ... SKIPPED
* checking re-building of vignette outputs ... SKIPPED
* checking PDF version of manual ... OK
* DONE
Status: 1 NOTE
See
‘/Users/biocbuild/bbs-3.15-bioc/meat/regioneR.Rcheck/00check.log’
for details.
regioneR.Rcheck/00install.out
############################################################################## ############################################################################## ### ### Running command: ### ### /Library/Frameworks/R.framework/Resources/bin/R CMD INSTALL regioneR ### ############################################################################## ############################################################################## * installing to library ‘/Library/Frameworks/R.framework/Versions/4.2/Resources/library’ * installing *source* package ‘regioneR’ ... ** using staged installation ** R ** inst ** byte-compile and prepare package for lazy loading ** help *** installing help indices ** building package indices ** installing vignettes ** testing if installed package can be loaded from temporary location ** testing if installed package can be loaded from final location ** testing if installed package keeps a record of temporary installation path * DONE (regioneR)
regioneR.Rcheck/tests/testthat.Rout
R version 4.2.1 (2022-06-23) -- "Funny-Looking Kid"
Copyright (C) 2022 The R Foundation for Statistical Computing
Platform: x86_64-apple-darwin17.0 (64-bit)
R is free software and comes with ABSOLUTELY NO WARRANTY.
You are welcome to redistribute it under certain conditions.
Type 'license()' or 'licence()' for distribution details.
R is a collaborative project with many contributors.
Type 'contributors()' for more information and
'citation()' on how to cite R or R packages in publications.
Type 'demo()' for some demos, 'help()' for on-line help, or
'help.start()' for an HTML browser interface to help.
Type 'q()' to quit R.
> library(testthat)
> library(regioneR)
Loading required package: GenomicRanges
Loading required package: stats4
Loading required package: BiocGenerics
Attaching package: 'BiocGenerics'
The following objects are masked from 'package:stats':
IQR, mad, sd, var, xtabs
The following objects are masked from 'package:base':
Filter, Find, Map, Position, Reduce, anyDuplicated, append,
as.data.frame, basename, cbind, colnames, dirname, do.call,
duplicated, eval, evalq, get, grep, grepl, intersect, is.unsorted,
lapply, mapply, match, mget, order, paste, pmax, pmax.int, pmin,
pmin.int, rank, rbind, rownames, sapply, setdiff, sort, table,
tapply, union, unique, unsplit, which.max, which.min
Loading required package: S4Vectors
Attaching package: 'S4Vectors'
The following objects are masked from 'package:base':
I, expand.grid, unname
Loading required package: IRanges
Loading required package: GenomeInfoDb
>
> test_check("regioneR")
[ FAIL 0 | WARN 0 | SKIP 0 | PASS 89 ]
>
> proc.time()
user system elapsed
86.747 4.673 92.388
regioneR.Rcheck/regioneR-Ex.timings
| name | user | system | elapsed | |
| characterToBSGenome | 2.971 | 0.591 | 3.569 | |
| circularRandomizeRegions | 62.881 | 3.645 | 67.881 | |
| commonRegions | 0.464 | 0.002 | 0.467 | |
| createFunctionsList | 0.944 | 0.016 | 0.964 | |
| createRandomRegions | 0.427 | 0.002 | 0.432 | |
| emptyCacheRegioneR | 0.001 | 0.001 | 0.001 | |
| extendRegions | 0.276 | 0.001 | 0.281 | |
| filterChromosomes | 58.133 | 2.449 | 61.273 | |
| getChromosomesByOrganism | 0.001 | 0.000 | 0.002 | |
| getGenome | 0.392 | 0.015 | 0.409 | |
| getGenomeAndMask | 0.092 | 0.000 | 0.093 | |
| getMask | 57.581 | 2.237 | 59.921 | |
| joinRegions | 0.221 | 0.001 | 0.223 | |
| listChrTypes | 0.013 | 0.000 | 0.013 | |
| localZScore | 6.629 | 0.600 | 9.393 | |
| maskFromBSGenome | 54.669 | 3.297 | 58.247 | |
| meanDistance | 0.143 | 0.001 | 0.145 | |
| meanInRegions | 0.186 | 0.001 | 0.187 | |
| mergeRegions | 0.166 | 0.001 | 0.168 | |
| numOverlaps | 0.305 | 0.001 | 0.308 | |
| overlapGraphicalSummary | 0.185 | 0.001 | 0.186 | |
| overlapPermTest | 3.226 | 0.043 | 3.283 | |
| overlapRegions | 0.093 | 0.000 | 0.093 | |
| permTest | 2.356 | 0.016 | 2.382 | |
| plot.localZScoreResults | 2.423 | 0.007 | 2.434 | |
| plot.localZScoreResultsList | 4.923 | 0.012 | 4.943 | |
| plot.permTestResults | 3.810 | 0.025 | 3.851 | |
| plot.permTestResultsList | 3.954 | 0.011 | 3.970 | |
| plotRegions | 0.079 | 0.001 | 0.080 | |
| print.permTestResults | 2.352 | 0.005 | 2.361 | |
| randomizeRegions | 0.447 | 0.003 | 0.451 | |
| recomputePermTest | 1.642 | 0.017 | 1.670 | |
| resampleRegions | 0.076 | 0.000 | 0.077 | |
| splitRegions | 0.136 | 0.003 | 0.142 | |
| subtractRegions | 0.304 | 0.002 | 0.307 | |
| toDataframe | 0.034 | 0.000 | 0.034 | |
| toGRanges | 1.293 | 0.049 | 1.346 | |
| uniqueRegions | 0.630 | 0.005 | 0.638 | |