| Back to Multiple platform build/check report for BioC 3.15 |
|
This page was generated on 2022-03-12 11:07:58 -0500 (Sat, 12 Mar 2022).
| Hostname | OS | Arch (*) | R version | Installed pkgs |
|---|---|---|---|---|
| nebbiolo1 | Linux (Ubuntu 20.04.4 LTS) | x86_64 | R Under development (unstable) (2022-02-17 r81757) -- "Unsuffered Consequences" | 4335 |
| riesling1 | Windows Server 2019 Standard | x64 | R Under development (unstable) (2021-11-21 r81221) -- "Unsuffered Consequences" | 4097 |
| palomino3 | Windows Server 2022 Datacenter | x64 | R Under development (unstable) (2022-02-17 r81757 ucrt) -- "Unsuffered Consequences" | 4073 |
| merida1 | macOS 10.14.6 Mojave | x86_64 | R Under development (unstable) (2022-03-02 r81842) -- "Unsuffered Consequences" | 4134 |
| Click on any hostname to see more info about the system (e.g. compilers) (*) as reported by 'uname -p', except on Windows and Mac OS X | ||||
|
To the developers/maintainers of the rawrr package: - Please allow up to 24 hours (and sometimes 48 hours) for your latest push to git@git.bioconductor.org:packages/rawrr.git to reflect on this report. See How and When does the builder pull? When will my changes propagate? here for more information. - Make sure to use the following settings in order to reproduce any error or warning you see on this page. |
| Package 1537/2090 | Hostname | OS / Arch | INSTALL | BUILD | CHECK | BUILD BIN | ||||||||
| rawrr 1.3.4 (landing page) Christian Panse
| nebbiolo1 | Linux (Ubuntu 20.04.4 LTS) / x86_64 | OK | OK | OK | |||||||||
| riesling1 | Windows Server 2019 Standard / x64 | OK | OK | OK | OK | |||||||||
| palomino3 | Windows Server 2022 Datacenter / x64 | OK | OK | OK | OK | |||||||||
| merida1 | macOS 10.14.6 Mojave / x86_64 | OK | OK | OK | OK | |||||||||
| Package: rawrr |
| Version: 1.3.4 |
| Command: rm -rf rawrr.buildbin-libdir && mkdir rawrr.buildbin-libdir && D:\biocbuild\bbs-3.15-bioc\R\bin\R.exe CMD INSTALL --build --library=rawrr.buildbin-libdir rawrr_1.3.4.tar.gz |
| StartedAt: 2022-03-11 21:36:20 -0500 (Fri, 11 Mar 2022) |
| EndedAt: 2022-03-11 21:37:49 -0500 (Fri, 11 Mar 2022) |
| EllapsedTime: 89.3 seconds |
| RetCode: 0 |
| Status: OK |
| PackageFile: rawrr_1.3.4.zip |
| PackageFileSize: 1.36 MiB |
##############################################################################
##############################################################################
###
### Running command:
###
### rm -rf rawrr.buildbin-libdir && mkdir rawrr.buildbin-libdir && D:\biocbuild\bbs-3.15-bioc\R\bin\R.exe CMD INSTALL --build --library=rawrr.buildbin-libdir rawrr_1.3.4.tar.gz
###
##############################################################################
##############################################################################
* installing *source* package 'rawrr' ...
** using staged installation
** R
** inst
** byte-compile and prepare package for lazy loading
** help
*** installing help indices
converting help for package 'rawrr'
finding HTML links ... done
auc.rawrrChromatogram html
basePeak html
buildRawrrExe html
dependentScan html
faimsVoltageOn html
installRawFileReaderDLLs html
installRawrrExe html
is.rawrrChromatogram html
is.rawrrSpectrum html
is.rawrrSpectrumSet html
makeAccessor html
massRange html
masterScan html
new_rawrrSpectrum html
plot.rawrrChromatogram html
plot.rawrrChromatogramSet html
plot.rawrrSpectrum html
print.rawrrSpectrum html
rawrrAssemblyPath html
rawrrSpectrum html
readChromatogram html
readFileHeader html
readIndex html
readSpectrum html
sampleFilePath html
scanNumber html
summary.rawrrChromatogram html
summary.rawrrSpectrum html
tic html
validate_rawrrIndex html
validate_rawrrSpectrum html
** building package indices
** installing vignettes
** testing if installed package can be loaded from temporary location
** testing if installed package can be loaded from final location
** testing if installed package keeps a record of temporary installation path
* MD5 sums
packaged installation of 'rawrr' as rawrr_1.3.4.zip
* DONE (rawrr)