| Back to Multiple platform build/check report for BioC 3.15 |
|
This page was generated on 2022-03-18 11:08:23 -0400 (Fri, 18 Mar 2022).
| Hostname | OS | Arch (*) | R version | Installed pkgs |
|---|---|---|---|---|
| nebbiolo1 | Linux (Ubuntu 20.04.4 LTS) | x86_64 | R Under development (unstable) (2022-02-17 r81757) -- "Unsuffered Consequences" | 4334 |
| riesling1 | Windows Server 2019 Standard | x64 | R Under development (unstable) (2021-11-21 r81221) -- "Unsuffered Consequences" | 4097 |
| palomino3 | Windows Server 2022 Datacenter | x64 | R Under development (unstable) (2022-02-17 r81757 ucrt) -- "Unsuffered Consequences" | 4083 |
| merida1 | macOS 10.14.6 Mojave | x86_64 | R Under development (unstable) (2022-03-02 r81842) -- "Unsuffered Consequences" | 4134 |
| Click on any hostname to see more info about the system (e.g. compilers) (*) as reported by 'uname -p', except on Windows and Mac OS X | ||||
|
To the developers/maintainers of the qsea package: - Please allow up to 24 hours (and sometimes 48 hours) for your latest push to git@git.bioconductor.org:packages/qsea.git to reflect on this report. See How and When does the builder pull? When will my changes propagate? here for more information. - Make sure to use the following settings in order to reproduce any error or warning you see on this page. |
| Package 1509/2090 | Hostname | OS / Arch | INSTALL | BUILD | CHECK | BUILD BIN | ||||||||
| qsea 1.21.2 (landing page) Matthias Lienhard
| nebbiolo1 | Linux (Ubuntu 20.04.4 LTS) / x86_64 | OK | OK | WARNINGS | |||||||||
| riesling1 | Windows Server 2019 Standard / x64 | OK | OK | WARNINGS | OK | |||||||||
| palomino3 | Windows Server 2022 Datacenter / x64 | OK | OK | WARNINGS | OK | |||||||||
| merida1 | macOS 10.14.6 Mojave / x86_64 | OK | OK | WARNINGS | OK | |||||||||
| Package: qsea |
| Version: 1.21.2 |
| Command: rm -rf qsea.buildbin-libdir && mkdir qsea.buildbin-libdir && D:\biocbuild\bbs-3.15-bioc\R\bin\R.exe CMD INSTALL --build --library=qsea.buildbin-libdir qsea_1.21.2.tar.gz |
| StartedAt: 2022-03-17 21:30:44 -0400 (Thu, 17 Mar 2022) |
| EndedAt: 2022-03-17 21:32:01 -0400 (Thu, 17 Mar 2022) |
| EllapsedTime: 77.6 seconds |
| RetCode: 0 |
| Status: OK |
| PackageFile: qsea_1.21.2.zip |
| PackageFileSize: 933.6 KiB |
##############################################################################
##############################################################################
###
### Running command:
###
### rm -rf qsea.buildbin-libdir && mkdir qsea.buildbin-libdir && D:\biocbuild\bbs-3.15-bioc\R\bin\R.exe CMD INSTALL --build --library=qsea.buildbin-libdir qsea_1.21.2.tar.gz
###
##############################################################################
##############################################################################
* installing *source* package 'qsea' ...
** using staged installation
** libs
"C:/rtools40/mingw64/bin/"gcc -I"D:/biocbuild/bbs-3.15-bioc/R/include" -DNDEBUG -I"C:/extsoft/include" -O2 -Wall -std=gnu99 -mfpmath=sse -msse2 -mstackrealign -fno-reorder-blocks-and-partition -c lm.c -o lm.o
C:/rtools40/mingw64/bin/gcc -shared -s -static-libgcc -o qsea.dll tmp.def lm.o -LC:/extsoft/lib/x64 -LC:/extsoft/lib -LD:/biocbuild/bbs-3.15-bioc/R/bin/x64 -lR
installing to D:/biocbuild/bbs-3.15-bioc/meat/qsea.buildbin-libdir/00LOCK-qsea/00new/qsea/libs/x64
** R
** inst
** preparing package for lazy loading
** help
*** installing help indices
converting help for package 'qsea'
finding HTML links ... done
addCNV html
addContrast html
addCoverage html
addEnrichmentParameters html
addLibraryFactors html
addNewSamples html
addOffset html
addPatternDensity html
addSeqPref html
createQseaSet html
example html
fitNBglm html
getPCA html
isSignificant html
makeTable html
normMethod html
plotCNV html
plotCoverage html
plotEnrichmentProfile html
plotPCA html
qsea-package html
REDIRECT:topic Previous alias or file overwritten by alias: D:/biocbuild/bbs-3.15-bioc/meat/qsea.buildbin-libdir/00LOCK-qsea/00new/qsea/help/QSEA.html
qseaGLM-class html
qseaPCA-class html
qseaSet-class html
regionStats html
** building package indices
** installing vignettes
** testing if installed package can be loaded from temporary location
** testing if installed package can be loaded from final location
** testing if installed package keeps a record of temporary installation path
* MD5 sums
packaged installation of 'qsea' as qsea_1.21.2.zip
* DONE (qsea)