| Back to Multiple platform build/check report for BioC 3.15 |
|
This page was generated on 2022-03-18 11:08:22 -0400 (Fri, 18 Mar 2022).
| Hostname | OS | Arch (*) | R version | Installed pkgs |
|---|---|---|---|---|
| nebbiolo1 | Linux (Ubuntu 20.04.4 LTS) | x86_64 | R Under development (unstable) (2022-02-17 r81757) -- "Unsuffered Consequences" | 4334 |
| riesling1 | Windows Server 2019 Standard | x64 | R Under development (unstable) (2021-11-21 r81221) -- "Unsuffered Consequences" | 4097 |
| palomino3 | Windows Server 2022 Datacenter | x64 | R Under development (unstable) (2022-02-17 r81757 ucrt) -- "Unsuffered Consequences" | 4083 |
| merida1 | macOS 10.14.6 Mojave | x86_64 | R Under development (unstable) (2022-03-02 r81842) -- "Unsuffered Consequences" | 4134 |
| Click on any hostname to see more info about the system (e.g. compilers) (*) as reported by 'uname -p', except on Windows and Mac OS X | ||||
|
To the developers/maintainers of the psygenet2r package: - Please allow up to 24 hours (and sometimes 48 hours) for your latest push to git@git.bioconductor.org:packages/psygenet2r.git to reflect on this report. See How and When does the builder pull? When will my changes propagate? here for more information. - Make sure to use the following settings in order to reproduce any error or warning you see on this page. |
| Package 1489/2090 | Hostname | OS / Arch | INSTALL | BUILD | CHECK | BUILD BIN | ||||||||
| psygenet2r 1.27.0 (landing page) Alba Gutierrez-Sacristan
| nebbiolo1 | Linux (Ubuntu 20.04.4 LTS) / x86_64 | OK | OK | OK | |||||||||
| riesling1 | Windows Server 2019 Standard / x64 | OK | OK | OK | OK | |||||||||
| palomino3 | Windows Server 2022 Datacenter / x64 | OK | OK | OK | OK | |||||||||
| merida1 | macOS 10.14.6 Mojave / x86_64 | OK | OK | OK | OK | |||||||||
| Package: psygenet2r |
| Version: 1.27.0 |
| Command: D:\biocbuild\bbs-3.15-bioc\R\bin\R.exe CMD check --no-multiarch --install=check:psygenet2r.install-out.txt --library=D:\biocbuild\bbs-3.15-bioc\R\library --no-vignettes --timings psygenet2r_1.27.0.tar.gz |
| StartedAt: 2022-03-17 19:57:02 -0400 (Thu, 17 Mar 2022) |
| EndedAt: 2022-03-17 20:01:07 -0400 (Thu, 17 Mar 2022) |
| EllapsedTime: 244.8 seconds |
| RetCode: 0 |
| Status: OK |
| CheckDir: psygenet2r.Rcheck |
| Warnings: 0 |
##############################################################################
##############################################################################
###
### Running command:
###
### D:\biocbuild\bbs-3.15-bioc\R\bin\R.exe CMD check --no-multiarch --install=check:psygenet2r.install-out.txt --library=D:\biocbuild\bbs-3.15-bioc\R\library --no-vignettes --timings psygenet2r_1.27.0.tar.gz
###
##############################################################################
##############################################################################
* using log directory 'D:/biocbuild/bbs-3.15-bioc/meat/psygenet2r.Rcheck'
* using R Under development (unstable) (2021-11-21 r81221)
* using platform: x86_64-w64-mingw32 (64-bit)
* using session charset: ISO8859-1
* using option '--no-vignettes'
* checking for file 'psygenet2r/DESCRIPTION' ... OK
* this is package 'psygenet2r' version '1.27.0'
* checking package namespace information ... OK
* checking package dependencies ... OK
* checking if this is a source package ... OK
* checking if there is a namespace ... OK
* checking for hidden files and directories ... OK
* checking for portable file names ... OK
* checking whether package 'psygenet2r' can be installed ... OK
* checking installed package size ... OK
* checking package directory ... OK
* checking 'build' directory ... OK
* checking DESCRIPTION meta-information ... OK
* checking top-level files ... OK
* checking for left-over files ... OK
* checking index information ... OK
* checking package subdirectories ... OK
* checking R files for non-ASCII characters ... OK
* checking R files for syntax errors ... OK
* checking whether the package can be loaded ... OK
* checking whether the package can be loaded with stated dependencies ... OK
* checking whether the package can be unloaded cleanly ... OK
* checking whether the namespace can be loaded with stated dependencies ... OK
* checking whether the namespace can be unloaded cleanly ... OK
* checking dependencies in R code ... NOTE
Namespace in Imports field not imported from: 'GO.db'
All declared Imports should be used.
package 'methods' is used but not declared
* checking S3 generic/method consistency ... OK
* checking replacement functions ... OK
* checking foreign function calls ... OK
* checking R code for possible problems ... NOTE
.category_plot: no visible binding for global variable 'category'
.category_plot: no visible binding for global variable 'value'
.category_plot: no visible binding for global variable 'variable'
.gene_plot: no visible binding for global variable 'gene'
.gene_plot: no visible binding for global variable 'value'
.gene_plot: no visible binding for global variable 'variable'
.index_plot: no visible binding for global variable 'Category'
.index_plot: no visible binding for global variable 'value'
.index_plot: no visible binding for global variable 'variable'
.pie_plot: no visible global function definition for 'pie'
ListPsyGeNETIds: no visible global function definition for 'read.csv'
disGenetCurated: no visible global function definition for 'read.csv'
enrichedPD : <anonymous>: no visible global function definition for
'phyper'
getUMLs: no visible global function definition for 'read.csv'
jaccardEstimation: no visible binding for global variable 'universe'
multipleInput: no visible global function definition for 'new'
pantherGraphic: no visible binding for global variable 'Var1'
pantherGraphic: no visible binding for global variable 'perc'
pantherGraphic: no visible binding for global variable 'diseases'
plot_pmids_barplot: no visible binding for global variable
'c2.DiseaseName'
plot_pmids_barplot: no visible binding for global variable
'c0.Number_of_Abstracts'
plot_pmids_barplot: no visible binding for global variable
'c1.Gene_Symbol'
plot_psy_heatmap: no visible binding for global variable
'c2.PsychiatricDisorder'
plot_psy_heatmap: no visible binding for global variable
'c1.Gene_Symbol'
plot_psy_heatmap: no visible binding for global variable 'value'
plot_psy_heatmapDisease: no visible binding for global variable
'c2.DiseaseName'
plot_psy_heatmapDisease: no visible binding for global variable
'c1.Gene_Symbol'
plot_psy_heatmapDisease: no visible binding for global variable
'c0.Score'
plot_psy_heatmapGenes: no visible binding for global variable
'c1.Gene_Symbol'
plot_psy_heatmapGenes: no visible binding for global variable
'c2.DiseaseName'
plot_psy_heatmapGenes: no visible binding for global variable
'c0.Score'
psyGenDisId: no visible global function definition for 'read.csv'
psyPanther: no visible global function definition for 'read.csv'
psygenetAll: no visible global function definition for 'read.csv'
psygenetDisease: no visible global function definition for 'read.csv'
psygenetDisease: no visible global function definition for 'new'
psygenetDiseaseSentences: no visible global function definition for
'read.csv'
psygenetDiseaseSentences: no visible global function definition for
'new'
psygenetGene: no visible global function definition for 'read.csv'
psygenetGene: no visible global function definition for 'new'
psygenetGeneSentences: no visible global function definition for
'read.csv'
psygenetGeneSentences: no visible global function definition for 'new'
singleInput: no visible global function definition for 'combn'
singleInput: no visible global function definition for 'new'
singleInput.genes: no visible global function definition for 'new'
topAnatEnrichment: no visible binding for global variable 'database'
topAnatEnrichment: no visible global function definition for
'read.delim'
plot,JaccardIndexPsy-ANY: no visible binding for global variable
'Disease1'
plot,JaccardIndexPsy-ANY: no visible binding for global variable
'Disease2'
plot,JaccardIndexPsy-ANY: no visible binding for global variable
'JaccardIndex'
plot,JaccardIndexPsy-ANY: no visible binding for global variable
'value'
plot,JaccardIndexPsy-ANY: no visible binding for global variable
'variable'
Undefined global functions or variables:
Category Disease1 Disease2 JaccardIndex Var1 c0.Number_of_Abstracts
c0.Score c1.Gene_Symbol c2.DiseaseName c2.PsychiatricDisorder
category combn database diseases gene new perc phyper pie read.csv
read.delim universe value variable
Consider adding
importFrom("graphics", "pie")
importFrom("methods", "new")
importFrom("stats", "phyper")
importFrom("utils", "combn", "read.csv", "read.delim")
to your NAMESPACE file (and ensure that your DESCRIPTION Imports field
contains 'methods').
* checking Rd files ... OK
* checking Rd metadata ... OK
* checking Rd cross-references ... OK
* checking for missing documentation entries ... OK
* checking for code/documentation mismatches ... OK
* checking Rd \usage sections ... OK
* checking Rd contents ... OK
* checking for unstated dependencies in examples ... OK
* checking contents of 'data' directory ... OK
* checking data for non-ASCII characters ... OK
* checking LazyData ... OK
* checking data for ASCII and uncompressed saves ... OK
* checking files in 'vignettes' ... OK
* checking examples ... OK
Examples with CPU (user + system) or elapsed time > 5s
user system elapsed
psygenetGeneSentences 0.24 0.00 25.99
pantherGraphic-methods 0.23 0.00 6.82
enrichedPD-methods 0.06 0.01 6.16
* checking for unstated dependencies in 'tests' ... OK
* checking tests ...
Running 'testthat.R'
OK
* checking for unstated dependencies in vignettes ... OK
* checking package vignettes in 'inst/doc' ... OK
* checking running R code from vignettes ... SKIPPED
* checking re-building of vignette outputs ... SKIPPED
* checking PDF version of manual ... OK
* DONE
Status: 2 NOTEs
See
'D:/biocbuild/bbs-3.15-bioc/meat/psygenet2r.Rcheck/00check.log'
for details.
psygenet2r.Rcheck/00install.out
##############################################################################
##############################################################################
###
### Running command:
###
### D:\biocbuild\bbs-3.15-bioc\R\bin\R.exe CMD INSTALL psygenet2r
###
##############################################################################
##############################################################################
* installing to library 'D:/biocbuild/bbs-3.15-bioc/R/library'
* installing *source* package 'psygenet2r' ...
** using staged installation
** R
** data
*** moving datasets to lazyload DB
** inst
** byte-compile and prepare package for lazy loading
** help
*** installing help indices
converting help for package 'psygenet2r'
finding HTML links ... done
DataGeNET.Psy-class html
JaccardIndexPsy-class html
enrichedPD-methods html
extract html
extractSentences html
geneAttrPlot-methods html
getUMLs-methods html
jaccardEstimation-methods html
ndisease html
ngene html
pantherGraphic-methods html
plot-DataGeNET.Psy-ANY-method html
plot-JaccardIndexPsy-ANY-method html
psygenet2r html
psygenetDisease-methods html
psygenetDiseaseSentences html
psygenetGene-methods html
psygenetGeneSentences html
qr html
topAnatEnrichment-methods html
universe html
** building package indices
** installing vignettes
** testing if installed package can be loaded from temporary location
** testing if installed package can be loaded from final location
** testing if installed package keeps a record of temporary installation path
* DONE (psygenet2r)
Making 'packages.html' ...Warning in packageDescription(i, lib.loc = lib, fields = "Title", encoding = "UTF-8") :
DESCRIPTION file of package 'MEDME' is missing or broken
done
psygenet2r.Rcheck/tests/testthat.Rout
R Under development (unstable) (2021-11-21 r81221) -- "Unsuffered Consequences"
Copyright (C) 2021 The R Foundation for Statistical Computing
Platform: x86_64-w64-mingw32/x64 (64-bit)
R is free software and comes with ABSOLUTELY NO WARRANTY.
You are welcome to redistribute it under certain conditions.
Type 'license()' or 'licence()' for distribution details.
R is a collaborative project with many contributors.
Type 'contributors()' for more information and
'citation()' on how to cite R or R packages in publications.
Type 'demo()' for some demos, 'help()' for on-line help, or
'help.start()' for an HTML browser interface to help.
Type 'q()' to quit R.
> library(testthat)
> library(psygenet2r)
>
> test_check("psygenet2r")
[ FAIL 0 | WARN 0 | SKIP 4 | PASS 18 ]
== Skipped tests ===============================================================
* empty test (4)
[ FAIL 0 | WARN 0 | SKIP 4 | PASS 18 ]
>
> proc.time()
user system elapsed
5.00 0.45 70.54
psygenet2r.Rcheck/psygenet2r-Ex.timings
| name | user | system | elapsed | |
| JaccardIndexPsy-class | 0.08 | 0.00 | 3.52 | |
| enrichedPD-methods | 0.06 | 0.01 | 6.16 | |
| extract | 0 | 0 | 0 | |
| extractSentences | 0.02 | 0.00 | 0.02 | |
| getUMLs-methods | 0.02 | 0.00 | 2.90 | |
| jaccardEstimation-methods | 0.05 | 0.00 | 3.36 | |
| ndisease | 0 | 0 | 0 | |
| ngene | 0 | 0 | 0 | |
| pantherGraphic-methods | 0.23 | 0.00 | 6.82 | |
| plot-DataGeNET.Psy-ANY-method | 0.13 | 0.00 | 0.12 | |
| plot-JaccardIndexPsy-ANY-method | 0 | 0 | 0 | |
| psygenetDisease-methods | 0.01 | 0.00 | 4.64 | |
| psygenetDiseaseSentences | 0.02 | 0.00 | 2.96 | |
| psygenetGene-methods | 0.01 | 0.00 | 3.62 | |
| psygenetGeneSentences | 0.24 | 0.00 | 25.99 | |
| qr | 0 | 0 | 0 | |
| topAnatEnrichment-methods | 0 | 0 | 0 | |
| universe | 0 | 0 | 0 | |