| Back to Multiple platform build/check report for BioC 3.15 |
|
This page was generated on 2022-03-18 11:08:20 -0400 (Fri, 18 Mar 2022).
| Hostname | OS | Arch (*) | R version | Installed pkgs |
|---|---|---|---|---|
| nebbiolo1 | Linux (Ubuntu 20.04.4 LTS) | x86_64 | R Under development (unstable) (2022-02-17 r81757) -- "Unsuffered Consequences" | 4334 |
| riesling1 | Windows Server 2019 Standard | x64 | R Under development (unstable) (2021-11-21 r81221) -- "Unsuffered Consequences" | 4097 |
| palomino3 | Windows Server 2022 Datacenter | x64 | R Under development (unstable) (2022-02-17 r81757 ucrt) -- "Unsuffered Consequences" | 4083 |
| merida1 | macOS 10.14.6 Mojave | x86_64 | R Under development (unstable) (2022-03-02 r81842) -- "Unsuffered Consequences" | 4134 |
| Click on any hostname to see more info about the system (e.g. compilers) (*) as reported by 'uname -p', except on Windows and Mac OS X | ||||
|
To the developers/maintainers of the pqsfinder package: - Please allow up to 24 hours (and sometimes 48 hours) for your latest push to git@git.bioconductor.org:packages/pqsfinder.git to reflect on this report. See How and When does the builder pull? When will my changes propagate? here for more information. - Make sure to use the following settings in order to reproduce any error or warning you see on this page. |
| Package 1455/2090 | Hostname | OS / Arch | INSTALL | BUILD | CHECK | BUILD BIN | ||||||||
| pqsfinder 2.11.2 (landing page) Jiri Hon
| nebbiolo1 | Linux (Ubuntu 20.04.4 LTS) / x86_64 | OK | OK | OK | |||||||||
| riesling1 | Windows Server 2019 Standard / x64 | OK | OK | OK | OK | |||||||||
| palomino3 | Windows Server 2022 Datacenter / x64 | OK | OK | OK | OK | |||||||||
| merida1 | macOS 10.14.6 Mojave / x86_64 | OK | OK | OK | OK | |||||||||
| Package: pqsfinder |
| Version: 2.11.2 |
| Command: rm -rf pqsfinder.buildbin-libdir && mkdir pqsfinder.buildbin-libdir && D:\biocbuild\bbs-3.15-bioc\R\bin\R.exe CMD INSTALL --build --library=pqsfinder.buildbin-libdir pqsfinder_2.11.2.tar.gz |
| StartedAt: 2022-03-17 21:29:20 -0400 (Thu, 17 Mar 2022) |
| EndedAt: 2022-03-17 21:30:22 -0400 (Thu, 17 Mar 2022) |
| EllapsedTime: 62.0 seconds |
| RetCode: 0 |
| Status: OK |
| PackageFile: pqsfinder_2.11.2.zip |
| PackageFileSize: 1.314 MiB |
##############################################################################
##############################################################################
###
### Running command:
###
### rm -rf pqsfinder.buildbin-libdir && mkdir pqsfinder.buildbin-libdir && D:\biocbuild\bbs-3.15-bioc\R\bin\R.exe CMD INSTALL --build --library=pqsfinder.buildbin-libdir pqsfinder_2.11.2.tar.gz
###
##############################################################################
##############################################################################
* installing *source* package 'pqsfinder' ...
** using staged installation
** libs
"C:/rtools40/mingw64/bin/"g++ -std=gnu++11 -I"D:/biocbuild/bbs-3.15-bioc/R/include" -DNDEBUG -I'D:/biocbuild/bbs-3.15-bioc/R/library/Rcpp/include' -I'D:/biocbuild/bbs-3.15-bioc/R/library/BH/include' -I"C:/extsoft/include" -O2 -Wall -mfpmath=sse -msse2 -mstackrealign -fno-reorder-blocks-and-partition -c RcppExports.cpp -o RcppExports.o
"C:/rtools40/mingw64/bin/"g++ -std=gnu++11 -I"D:/biocbuild/bbs-3.15-bioc/R/include" -DNDEBUG -I'D:/biocbuild/bbs-3.15-bioc/R/library/Rcpp/include' -I'D:/biocbuild/bbs-3.15-bioc/R/library/BH/include' -I"C:/extsoft/include" -O2 -Wall -mfpmath=sse -msse2 -mstackrealign -fno-reorder-blocks-and-partition -c pqsfinder.cpp -o pqsfinder.o
pqsfinder.cpp: In function 'void find_all_runs(SEXP, int, std::__cxx11::basic_string<char>::const_iterator, std::__cxx11::basic_string<char>::const_iterator, run_match*, const regex&, const opts_t&, const scoring&, const const_iterator&, size_t, storage&, int&, results&, bool, std::chrono::_V2::system_clock::time_point, int, int, int, int&, bool)':
pqsfinder.cpp:584:53: warning: 'loop_len' may be used uninitialized in this function [-Wmaybe-uninitialized]
pqs_storage, int_cnt, res, (loop_len == 0 ? true : zero_loop),
~~~~~~~~~~~~~~~^~~~~~~~~~~~~~~~~~~
"C:/rtools40/mingw64/bin/"g++ -std=gnu++11 -I"D:/biocbuild/bbs-3.15-bioc/R/include" -DNDEBUG -I'D:/biocbuild/bbs-3.15-bioc/R/library/Rcpp/include' -I'D:/biocbuild/bbs-3.15-bioc/R/library/BH/include' -I"C:/extsoft/include" -O2 -Wall -mfpmath=sse -msse2 -mstackrealign -fno-reorder-blocks-and-partition -c boost_regex/static_mutex.cpp -o boost_regex/static_mutex.o
"C:/rtools40/mingw64/bin/"g++ -std=gnu++11 -I"D:/biocbuild/bbs-3.15-bioc/R/include" -DNDEBUG -I'D:/biocbuild/bbs-3.15-bioc/R/library/Rcpp/include' -I'D:/biocbuild/bbs-3.15-bioc/R/library/BH/include' -I"C:/extsoft/include" -O2 -Wall -mfpmath=sse -msse2 -mstackrealign -fno-reorder-blocks-and-partition -c boost_regex/regex_debug.cpp -o boost_regex/regex_debug.o
"C:/rtools40/mingw64/bin/"g++ -std=gnu++11 -I"D:/biocbuild/bbs-3.15-bioc/R/include" -DNDEBUG -I'D:/biocbuild/bbs-3.15-bioc/R/library/Rcpp/include' -I'D:/biocbuild/bbs-3.15-bioc/R/library/BH/include' -I"C:/extsoft/include" -O2 -Wall -mfpmath=sse -msse2 -mstackrealign -fno-reorder-blocks-and-partition -c boost_regex/wide_posix_api.cpp -o boost_regex/wide_posix_api.o
"C:/rtools40/mingw64/bin/"g++ -std=gnu++11 -I"D:/biocbuild/bbs-3.15-bioc/R/include" -DNDEBUG -I'D:/biocbuild/bbs-3.15-bioc/R/library/Rcpp/include' -I'D:/biocbuild/bbs-3.15-bioc/R/library/BH/include' -I"C:/extsoft/include" -O2 -Wall -mfpmath=sse -msse2 -mstackrealign -fno-reorder-blocks-and-partition -c boost_regex/posix_api.cpp -o boost_regex/posix_api.o
"C:/rtools40/mingw64/bin/"g++ -std=gnu++11 -I"D:/biocbuild/bbs-3.15-bioc/R/include" -DNDEBUG -I'D:/biocbuild/bbs-3.15-bioc/R/library/Rcpp/include' -I'D:/biocbuild/bbs-3.15-bioc/R/library/BH/include' -I"C:/extsoft/include" -O2 -Wall -mfpmath=sse -msse2 -mstackrealign -fno-reorder-blocks-and-partition -c boost_regex/regex.cpp -o boost_regex/regex.o
mkdir -p "D:/biocbuild/bbs-3.15-bioc/meat/pqsfinder.buildbin-libdir/00LOCK-pqsfinder/00new/pqsfinder/lib/x64"
"C:/rtools40/mingw64/bin/"ar rs "D:/biocbuild/bbs-3.15-bioc/meat/pqsfinder.buildbin-libdir/00LOCK-pqsfinder/00new/pqsfinder/lib/x64/libboost_regex.a" boost_regex/static_mutex.o boost_regex/regex_debug.o boost_regex/wide_posix_api.o boost_regex/posix_api.o boost_regex/regex.o
C:\rtools40\mingw64\bin\ar.exe: creating D:/biocbuild/bbs-3.15-bioc/meat/pqsfinder.buildbin-libdir/00LOCK-pqsfinder/00new/pqsfinder/lib/x64/libboost_regex.a
C:/rtools40/mingw64/bin/g++ -shared -s -static-libgcc -o pqsfinder.dll tmp.def RcppExports.o pqsfinder.o D:/biocbuild/bbs-3.15-bioc/meat/pqsfinder.buildbin-libdir/00LOCK-pqsfinder/00new/pqsfinder/lib/x64/libboost_regex.a -LC:/extsoft/lib/x64 -LC:/extsoft/lib -LD:/biocbuild/bbs-3.15-bioc/R/bin/x64 -lR
installing to D:/biocbuild/bbs-3.15-bioc/meat/pqsfinder.buildbin-libdir/00LOCK-pqsfinder/00new/pqsfinder/libs/x64
** R
** inst
** byte-compile and prepare package for lazy loading
** help
*** installing help indices
converting help for package 'pqsfinder'
finding HTML links ... done
PQSViews-class html
finding level-2 HTML links ... done
PQSViews html
as.character-PQSViews-method html
density-PQSViews-method html
maxScores-PQSViews-method html
maxScores html
pqsfinder html
score-PQSViews-method html
show-PQSViews-method html
strand-PQSViews-method html
** building package indices
** installing vignettes
** testing if installed package can be loaded from temporary location
** testing if installed package can be loaded from final location
** testing if installed package keeps a record of temporary installation path
* MD5 sums
packaged installation of 'pqsfinder' as pqsfinder_2.11.2.zip
* DONE (pqsfinder)