| Back to Multiple platform build/check report for BioC 3.15 |
|
This page was generated on 2022-03-17 11:08:29 -0400 (Thu, 17 Mar 2022).
| Hostname | OS | Arch (*) | R version | Installed pkgs |
|---|---|---|---|---|
| nebbiolo1 | Linux (Ubuntu 20.04.4 LTS) | x86_64 | R Under development (unstable) (2022-02-17 r81757) -- "Unsuffered Consequences" | 4334 |
| riesling1 | Windows Server 2019 Standard | x64 | R Under development (unstable) (2021-11-21 r81221) -- "Unsuffered Consequences" | 4060 |
| palomino3 | Windows Server 2022 Datacenter | x64 | R Under development (unstable) (2022-02-17 r81757 ucrt) -- "Unsuffered Consequences" | 4083 |
| merida1 | macOS 10.14.6 Mojave | x86_64 | R Under development (unstable) (2022-03-02 r81842) -- "Unsuffered Consequences" | 4134 |
| Click on any hostname to see more info about the system (e.g. compilers) (*) as reported by 'uname -p', except on Windows and Mac OS X | ||||
|
To the developers/maintainers of the philr package: - Please allow up to 24 hours (and sometimes 48 hours) for your latest push to git@git.bioconductor.org:packages/philr.git to reflect on this report. See How and When does the builder pull? When will my changes propagate? here for more information. - Make sure to use the following settings in order to reproduce any error or warning you see on this page. |
| Package 1418/2090 | Hostname | OS / Arch | INSTALL | BUILD | CHECK | BUILD BIN | ||||||||
| philr 1.21.0 (landing page) Justin Silverman
| nebbiolo1 | Linux (Ubuntu 20.04.4 LTS) / x86_64 | OK | OK | OK | |||||||||
| riesling1 | Windows Server 2019 Standard / x64 | OK | OK | OK | OK | |||||||||
| palomino3 | Windows Server 2022 Datacenter / x64 | OK | OK | OK | OK | |||||||||
| merida1 | macOS 10.14.6 Mojave / x86_64 | OK | OK | OK | OK | |||||||||
| Package: philr |
| Version: 1.21.0 |
| Command: rm -rf philr.buildbin-libdir && mkdir philr.buildbin-libdir && D:\biocbuild\bbs-3.15-bioc\R\bin\R.exe CMD INSTALL --build --library=philr.buildbin-libdir philr_1.21.0.tar.gz |
| StartedAt: 2022-03-16 21:18:45 -0400 (Wed, 16 Mar 2022) |
| EndedAt: 2022-03-16 21:20:08 -0400 (Wed, 16 Mar 2022) |
| EllapsedTime: 83.3 seconds |
| RetCode: 0 |
| Status: OK |
| PackageFile: philr_1.21.0.zip |
| PackageFileSize: 410.6 KiB |
##############################################################################
##############################################################################
###
### Running command:
###
### rm -rf philr.buildbin-libdir && mkdir philr.buildbin-libdir && D:\biocbuild\bbs-3.15-bioc\R\bin\R.exe CMD INSTALL --build --library=philr.buildbin-libdir philr_1.21.0.tar.gz
###
##############################################################################
##############################################################################
* installing *source* package 'philr' ...
** using staged installation
** R
** inst
** byte-compile and prepare package for lazy loading
** help
*** installing help indices
converting help for package 'philr'
finding HTML links ... done
annotate_balance html
buildilrBasep html
calculate.blw html
convert_to_long html
g.colMeans html
g.rowMeans html
mean_dist_to_tips html
miniclo html
name.balance html
name_nodenumber_conversion html
named_rtree html
philr html
philrInv html
phylo2sbp html
shift html
weighted_clr html
weighted_ilr html
** building package indices
** installing vignettes
** testing if installed package can be loaded from temporary location
** testing if installed package can be loaded from final location
** testing if installed package keeps a record of temporary installation path
* MD5 sums
packaged installation of 'philr' as philr_1.21.0.zip
* DONE (philr)