| Back to Multiple platform build/check report for BioC 3.15 |
|
This page was generated on 2022-03-18 11:08:17 -0400 (Fri, 18 Mar 2022).
| Hostname | OS | Arch (*) | R version | Installed pkgs |
|---|---|---|---|---|
| nebbiolo1 | Linux (Ubuntu 20.04.4 LTS) | x86_64 | R Under development (unstable) (2022-02-17 r81757) -- "Unsuffered Consequences" | 4334 |
| riesling1 | Windows Server 2019 Standard | x64 | R Under development (unstable) (2021-11-21 r81221) -- "Unsuffered Consequences" | 4097 |
| palomino3 | Windows Server 2022 Datacenter | x64 | R Under development (unstable) (2022-02-17 r81757 ucrt) -- "Unsuffered Consequences" | 4083 |
| merida1 | macOS 10.14.6 Mojave | x86_64 | R Under development (unstable) (2022-03-02 r81842) -- "Unsuffered Consequences" | 4134 |
| Click on any hostname to see more info about the system (e.g. compilers) (*) as reported by 'uname -p', except on Windows and Mac OS X | ||||
|
To the developers/maintainers of the phantasus package: - Please allow up to 24 hours (and sometimes 48 hours) for your latest push to git@git.bioconductor.org:packages/phantasus.git to reflect on this report. See How and When does the builder pull? When will my changes propagate? here for more information. - Make sure to use the following settings in order to reproduce any error or warning you see on this page. |
| Package 1411/2090 | Hostname | OS / Arch | INSTALL | BUILD | CHECK | BUILD BIN | ||||||||
| phantasus 1.15.4 (landing page) Alexey Sergushichev
| nebbiolo1 | Linux (Ubuntu 20.04.4 LTS) / x86_64 | OK | OK | OK | |||||||||
| riesling1 | Windows Server 2019 Standard / x64 | OK | OK | ERROR | OK | |||||||||
| palomino3 | Windows Server 2022 Datacenter / x64 | OK | OK | ERROR | OK | |||||||||
| merida1 | macOS 10.14.6 Mojave / x86_64 | OK | OK | OK | OK | |||||||||
| Package: phantasus |
| Version: 1.15.4 |
| Command: rm -rf phantasus.buildbin-libdir && mkdir phantasus.buildbin-libdir && D:\biocbuild\bbs-3.15-bioc\R\bin\R.exe CMD INSTALL --build --library=phantasus.buildbin-libdir phantasus_1.15.4.tar.gz |
| StartedAt: 2022-03-17 21:28:06 -0400 (Thu, 17 Mar 2022) |
| EndedAt: 2022-03-17 21:29:28 -0400 (Thu, 17 Mar 2022) |
| EllapsedTime: 81.9 seconds |
| RetCode: 0 |
| Status: OK |
| PackageFile: phantasus_1.15.4.zip |
| PackageFileSize: 8.237 MiB |
##############################################################################
##############################################################################
###
### Running command:
###
### rm -rf phantasus.buildbin-libdir && mkdir phantasus.buildbin-libdir && D:\biocbuild\bbs-3.15-bioc\R\bin\R.exe CMD INSTALL --build --library=phantasus.buildbin-libdir phantasus_1.15.4.tar.gz
###
##############################################################################
##############################################################################
* installing *source* package 'phantasus' ...
** using staged installation
** R
** data
*** moving datasets to lazyload DB
** inst
** byte-compile and prepare package for lazy loading
** help
*** installing help indices
converting help for package 'phantasus'
finding HTML links ... done
adjustDataset html
annotationDBMeta html
calcPCA html
calculatedAnnotation html
checkGPLsFallback html
colMeansByGroups html
collapseDataset html
convertByAnnotationDB html
createES html
es html
fgseaExample html
generatePreloadedSession html
getArchs4Files html
getES html
getGDS html
getGSE html
gseaPlot html
limmaAnalysis html
loadCounts html
loadFromARCHS4 html
loadGEO html
loadPreloaded html
performKmeans html
queryAnnotationDBMeta html
read.gct html
reparseCachedESs html
reproduceInR html
servePhantasus html
shinyGAMAnalysis html
subsetES html
write.gct html
** building package indices
** installing vignettes
** testing if installed package can be loaded from temporary location
** testing if installed package can be loaded from final location
** testing if installed package keeps a record of temporary installation path
* MD5 sums
packaged installation of 'phantasus' as phantasus_1.15.4.zip
* DONE (phantasus)