| Back to Multiple platform build/check report for BioC 3.15 |
|
This page was generated on 2022-03-18 11:08:16 -0400 (Fri, 18 Mar 2022).
| Hostname | OS | Arch (*) | R version | Installed pkgs |
|---|---|---|---|---|
| nebbiolo1 | Linux (Ubuntu 20.04.4 LTS) | x86_64 | R Under development (unstable) (2022-02-17 r81757) -- "Unsuffered Consequences" | 4334 |
| riesling1 | Windows Server 2019 Standard | x64 | R Under development (unstable) (2021-11-21 r81221) -- "Unsuffered Consequences" | 4097 |
| palomino3 | Windows Server 2022 Datacenter | x64 | R Under development (unstable) (2022-02-17 r81757 ucrt) -- "Unsuffered Consequences" | 4083 |
| merida1 | macOS 10.14.6 Mojave | x86_64 | R Under development (unstable) (2022-03-02 r81842) -- "Unsuffered Consequences" | 4134 |
| Click on any hostname to see more info about the system (e.g. compilers) (*) as reported by 'uname -p', except on Windows and Mac OS X | ||||
|
To the developers/maintainers of the pepStat package: - Please allow up to 24 hours (and sometimes 48 hours) for your latest push to git@git.bioconductor.org:packages/pepStat.git to reflect on this report. See How and When does the builder pull? When will my changes propagate? here for more information. - Make sure to use the following settings in order to reproduce any error or warning you see on this page. |
| Package 1404/2090 | Hostname | OS / Arch | INSTALL | BUILD | CHECK | BUILD BIN | ||||||||
| pepStat 1.29.0 (landing page) Gregory C Imholte
| nebbiolo1 | Linux (Ubuntu 20.04.4 LTS) / x86_64 | OK | OK | OK | |||||||||
| riesling1 | Windows Server 2019 Standard / x64 | OK | OK | OK | OK | |||||||||
| palomino3 | Windows Server 2022 Datacenter / x64 | OK | OK | OK | OK | |||||||||
| merida1 | macOS 10.14.6 Mojave / x86_64 | OK | OK | OK | OK | |||||||||
| Package: pepStat |
| Version: 1.29.0 |
| Command: D:\biocbuild\bbs-3.15-bioc\R\bin\R.exe CMD check --no-multiarch --install=check:pepStat.install-out.txt --library=D:\biocbuild\bbs-3.15-bioc\R\library --no-vignettes --timings pepStat_1.29.0.tar.gz |
| StartedAt: 2022-03-17 19:50:48 -0400 (Thu, 17 Mar 2022) |
| EndedAt: 2022-03-17 19:53:20 -0400 (Thu, 17 Mar 2022) |
| EllapsedTime: 151.4 seconds |
| RetCode: 0 |
| Status: OK |
| CheckDir: pepStat.Rcheck |
| Warnings: 0 |
##############################################################################
##############################################################################
###
### Running command:
###
### D:\biocbuild\bbs-3.15-bioc\R\bin\R.exe CMD check --no-multiarch --install=check:pepStat.install-out.txt --library=D:\biocbuild\bbs-3.15-bioc\R\library --no-vignettes --timings pepStat_1.29.0.tar.gz
###
##############################################################################
##############################################################################
* using log directory 'D:/biocbuild/bbs-3.15-bioc/meat/pepStat.Rcheck'
* using R Under development (unstable) (2021-11-21 r81221)
* using platform: x86_64-w64-mingw32 (64-bit)
* using session charset: ISO8859-1
* using option '--no-vignettes'
* checking for file 'pepStat/DESCRIPTION' ... OK
* checking extension type ... Package
* this is package 'pepStat' version '1.29.0'
* checking package namespace information ... OK
* checking package dependencies ... OK
* checking if this is a source package ... OK
* checking if there is a namespace ... OK
* checking for hidden files and directories ... OK
* checking for portable file names ... OK
* checking whether package 'pepStat' can be installed ... OK
* checking installed package size ... OK
* checking package directory ... OK
* checking 'build' directory ... OK
* checking DESCRIPTION meta-information ... NOTE
Malformed Description field: should contain one or more complete sentences.
* checking top-level files ... OK
* checking for left-over files ... OK
* checking index information ... OK
* checking package subdirectories ... OK
* checking R files for non-ASCII characters ... OK
* checking R files for syntax errors ... OK
* checking whether the package can be loaded ... OK
* checking whether the package can be loaded with stated dependencies ... OK
* checking whether the package can be unloaded cleanly ... OK
* checking whether the namespace can be loaded with stated dependencies ... NOTE
Warning: no function found corresponding to methods exports from 'pepStat' for: 'end', 'start', 'values'
A namespace must be able to be loaded with just the base namespace
loaded: otherwise if the namespace gets loaded by a saved object, the
session will be unable to start.
Probably some imports need to be declared in the NAMESPACE file.
* checking whether the namespace can be unloaded cleanly ... OK
* checking dependencies in R code ... OK
* checking S3 generic/method consistency ... OK
* checking replacement functions ... OK
* checking foreign function calls ... OK
* checking R code for possible problems ... NOTE
.findFDR : <anonymous>: no visible global function definition for
'median'
.sanitize_mapping_file2: no visible global function definition for
'read.csv'
create_db: no visible global function definition for 'mcols<-'
create_db: no visible global function definition for 'mcols'
getPlotCoords: no visible global function definition for 'values'
getWeightedEstimator : <anonymous>: no visible global function
definition for 'lm.fit'
getWeightedEstimator : <anonymous>: no visible global function
definition for 'lm.wfit'
getWeightedEstimator : <anonymous> : <anonymous>: no visible global
function definition for 'sd'
getZpep: no visible global function definition for 'values'
getZpep : <anonymous>: no visible global function definition for
'values'
plotArrayImage: no visible global function definition for
'dev.interactive'
plotArrayImage: no visible global function definition for
'devAskNewPage'
plotArrayImage: no visible global function definition for 'dev.hold'
plotArrayImage: no visible global function definition for 'dev.flush'
plotArrayResiduals: no visible global function definition for
'dev.interactive'
plotArrayResiduals: no visible global function definition for
'devAskNewPage'
plotArrayResiduals: no visible global function definition for
'dev.hold'
plotArrayResiduals: no visible global function definition for
'dev.flush'
summarizePeptides: no visible global function definition for 'values<-'
summarizePeptides: no visible global function definition for 'values'
coerce,peptideSet-ExpressionSet: no visible global function definition
for 'annotation'
end,peptideSet: no visible global function definition for 'end'
featureID,peptideSet: no visible global function definition for
'values'
pepZscore,GRanges: no visible global function definition for 'values'
peptide,peptideSet: no visible global function definition for 'values'
peptide<-,peptideSet-character: no visible global function definition
for 'values'
peptide<-,peptideSet-character: no visible global function definition
for 'values<-'
position,peptideSet: no visible global function definition for 'start'
position,peptideSet: no visible global function definition for 'end'
start,peptideSet: no visible global function definition for 'start'
values,peptideSet: no visible global function definition for 'values'
values<-,peptideSet: no visible global function definition for
'values<-'
write.pSet,peptideSet: no visible global function definition for
'start'
write.pSet,peptideSet: no visible global function definition for 'end'
write.pSet,peptideSet: no visible global function definition for
'write.csv'
Undefined global functions or variables:
annotation dev.flush dev.hold dev.interactive devAskNewPage end
lm.fit lm.wfit mcols mcols<- median read.csv sd start values values<-
write.csv
Consider adding
importFrom("grDevices", "dev.flush", "dev.hold", "dev.interactive",
"devAskNewPage")
importFrom("stats", "end", "lm.fit", "lm.wfit", "median", "sd",
"start")
importFrom("utils", "read.csv", "write.csv")
to your NAMESPACE file.
* checking Rd files ... OK
* checking Rd metadata ... OK
* checking Rd cross-references ... OK
* checking for missing documentation entries ... OK
* checking for code/documentation mismatches ... OK
* checking Rd \usage sections ... OK
* checking Rd contents ... OK
* checking for unstated dependencies in examples ... OK
* checking installed files from 'inst/doc' ... OK
* checking files in 'vignettes' ... OK
* checking examples ... OK
* checking for unstated dependencies in vignettes ... OK
* checking package vignettes in 'inst/doc' ... OK
* checking running R code from vignettes ... SKIPPED
* checking re-building of vignette outputs ... SKIPPED
* checking PDF version of manual ... OK
* DONE
Status: 3 NOTEs
See
'D:/biocbuild/bbs-3.15-bioc/meat/pepStat.Rcheck/00check.log'
for details.
pepStat.Rcheck/00install.out
##############################################################################
##############################################################################
###
### Running command:
###
### D:\biocbuild\bbs-3.15-bioc\R\bin\R.exe CMD INSTALL pepStat
###
##############################################################################
##############################################################################
* installing to library 'D:/biocbuild/bbs-3.15-bioc/R/library'
* installing *source* package 'pepStat' ...
** using staged installation
** R
** inst
** byte-compile and prepare package for lazy loading
No methods found in package 'GenomicRanges' for request: 'mcols<-' when loading 'pepStat'
No methods found in package 'GenomicRanges' for request: 'mcols' when loading 'pepStat'
No methods found in package 'IRanges' for request: 'values<-' when loading 'pepStat'
No methods found in package 'IRanges' for request: 'values' when loading 'pepStat'
** help
*** installing help indices
converting help for package 'pepStat'
finding HTML links ... done
baselineCorrect.pSet html
baseline_correct html
create_db html
finding level-2 HTML links ... done
makeCalls html
makePeptideSet html
normalizeArray html
REDIRECT:topic Previous alias or file overwritten by alias: D:/biocbuild/bbs-3.15-bioc/R/library/00LOCK-pepStat/00new/pepStat/help/normalizeArray.html
peptideSet-methods html
peptideSet html
plotArray html
restab html
shinyPepStat html
slidingMean html
summarizePeptides html
** building package indices
** installing vignettes
** testing if installed package can be loaded from temporary location
No methods found in package 'GenomicRanges' for request: 'mcols<-' when loading 'pepStat'
No methods found in package 'GenomicRanges' for request: 'mcols' when loading 'pepStat'
No methods found in package 'IRanges' for request: 'values<-' when loading 'pepStat'
No methods found in package 'IRanges' for request: 'values' when loading 'pepStat'
** testing if installed package can be loaded from final location
No methods found in package 'GenomicRanges' for request: 'mcols<-' when loading 'pepStat'
No methods found in package 'GenomicRanges' for request: 'mcols' when loading 'pepStat'
No methods found in package 'IRanges' for request: 'values<-' when loading 'pepStat'
No methods found in package 'IRanges' for request: 'values' when loading 'pepStat'
** testing if installed package keeps a record of temporary installation path
* DONE (pepStat)
Making 'packages.html' ... done
pepStat.Rcheck/pepStat-Ex.timings
| name | user | system | elapsed | |
| create_db | 0.09 | 0.00 | 0.09 | |
| makeCalls | 2.96 | 0.14 | 3.10 | |
| makePeptideSet | 1.47 | 0.03 | 1.50 | |
| normalizeArray | 3.31 | 0.03 | 3.35 | |
| plotArray | 2.63 | 0.08 | 2.70 | |
| restab | 2.78 | 0.03 | 2.81 | |
| shinyPepStat | 0 | 0 | 0 | |
| slidingMean | 2.70 | 0.03 | 2.74 | |
| summarizePeptides | 2.82 | 0.06 | 2.87 | |