| Back to Multiple platform build/check report for BioC 3.15 |
|
This page was generated on 2022-10-19 13:23:27 -0400 (Wed, 19 Oct 2022).
| Hostname | OS | Arch (*) | R version | Installed pkgs |
|---|---|---|---|---|
| nebbiolo1 | Linux (Ubuntu 20.04.5 LTS) | x86_64 | 4.2.1 (2022-06-23) -- "Funny-Looking Kid" | 4386 |
| palomino3 | Windows Server 2022 Datacenter | x64 | 4.2.1 (2022-06-23 ucrt) -- "Funny-Looking Kid" | 4138 |
| merida1 | macOS 10.14.6 Mojave | x86_64 | 4.2.1 (2022-06-23) -- "Funny-Looking Kid" | 4205 |
| Click on any hostname to see more info about the system (e.g. compilers) (*) as reported by 'uname -p', except on Windows and Mac OS X | ||||
|
To the developers/maintainers of the peakPantheR package: - Please allow up to 24 hours (and sometimes 48 hours) for your latest push to git@git.bioconductor.org:packages/peakPantheR.git to reflect on this report. See How and When does the builder pull? When will my changes propagate? for more information. - Make sure to use the following settings in order to reproduce any error or warning you see on this page. |
| Package 1429/2140 | Hostname | OS / Arch | INSTALL | BUILD | CHECK | BUILD BIN | ||||||||
| peakPantheR 1.10.0 (landing page) Arnaud Wolfer
| nebbiolo1 | Linux (Ubuntu 20.04.5 LTS) / x86_64 | OK | OK | OK | |||||||||
| palomino3 | Windows Server 2022 Datacenter / x64 | OK | OK | OK | OK | |||||||||
| merida1 | macOS 10.14.6 Mojave / x86_64 | OK | OK | OK | OK | |||||||||
| Package: peakPantheR |
| Version: 1.10.0 |
| Command: /Library/Frameworks/R.framework/Resources/bin/R CMD check --install=check:peakPantheR.install-out.txt --library=/Library/Frameworks/R.framework/Resources/library --no-vignettes --timings peakPantheR_1.10.0.tar.gz |
| StartedAt: 2022-10-19 06:01:24 -0400 (Wed, 19 Oct 2022) |
| EndedAt: 2022-10-19 06:22:52 -0400 (Wed, 19 Oct 2022) |
| EllapsedTime: 1287.7 seconds |
| RetCode: 0 |
| Status: OK |
| CheckDir: peakPantheR.Rcheck |
| Warnings: 0 |
##############################################################################
##############################################################################
###
### Running command:
###
### /Library/Frameworks/R.framework/Resources/bin/R CMD check --install=check:peakPantheR.install-out.txt --library=/Library/Frameworks/R.framework/Resources/library --no-vignettes --timings peakPantheR_1.10.0.tar.gz
###
##############################################################################
##############################################################################
* using log directory ‘/Users/biocbuild/bbs-3.15-bioc/meat/peakPantheR.Rcheck’
* using R version 4.2.1 (2022-06-23)
* using platform: x86_64-apple-darwin17.0 (64-bit)
* using session charset: UTF-8
* using option ‘--no-vignettes’
* checking for file ‘peakPantheR/DESCRIPTION’ ... OK
* this is package ‘peakPantheR’ version ‘1.10.0’
* package encoding: UTF-8
* checking package namespace information ... OK
* checking package dependencies ... OK
* checking if this is a source package ... OK
* checking if there is a namespace ... OK
* checking for hidden files and directories ... OK
* checking for portable file names ... OK
* checking for sufficient/correct file permissions ... OK
* checking whether package ‘peakPantheR’ can be installed ... OK
* checking installed package size ... OK
* checking package directory ... OK
* checking ‘build’ directory ... OK
* checking DESCRIPTION meta-information ... OK
* checking top-level files ... OK
* checking for left-over files ... OK
* checking index information ... OK
* checking package subdirectories ... OK
* checking R files for non-ASCII characters ... OK
* checking R files for syntax errors ... OK
* checking whether the package can be loaded ... OK
* checking whether the package can be loaded with stated dependencies ... OK
* checking whether the package can be unloaded cleanly ... OK
* checking whether the namespace can be loaded with stated dependencies ... OK
* checking whether the namespace can be unloaded cleanly ... OK
* checking dependencies in R code ... OK
* checking S3 generic/method consistency ... OK
* checking replacement functions ... OK
* checking foreign function calls ... OK
* checking R code for possible problems ... OK
* checking Rd files ... OK
* checking Rd metadata ... OK
* checking Rd cross-references ... OK
* checking for missing documentation entries ... OK
* checking for code/documentation mismatches ... OK
* checking Rd \usage sections ... OK
* checking Rd contents ... OK
* checking for unstated dependencies in examples ... OK
* checking files in ‘vignettes’ ... OK
* checking examples ... OK
Examples with CPU (user + system) or elapsed time > 5s
user system elapsed
peakPantheR_ROIStatistics 20.498 0.281 20.843
EICs-peakPantheRAnnotation-method 15.895 0.535 16.458
peakPantheR_parallelAnnotation 15.161 0.110 15.294
outputAnnotationDiagnostic-peakPantheRAnnotation-method 14.107 0.112 14.272
outputAnnotationResult-peakPantheRAnnotation-method 14.105 0.090 14.371
retentionTimeCorrection-peakPantheRAnnotation-method 9.766 0.057 9.834
peakPantheR_singleFileSearch 5.071 0.057 5.142
* checking for unstated dependencies in ‘tests’ ... OK
* checking tests ...
Running ‘testthat.R’
OK
* checking for unstated dependencies in vignettes ... OK
* checking package vignettes in ‘inst/doc’ ... OK
* checking running R code from vignettes ... SKIPPED
* checking re-building of vignette outputs ... SKIPPED
* checking PDF version of manual ... OK
* DONE
Status: OK
peakPantheR.Rcheck/00install.out
############################################################################## ############################################################################## ### ### Running command: ### ### /Library/Frameworks/R.framework/Resources/bin/R CMD INSTALL peakPantheR ### ############################################################################## ############################################################################## * installing to library ‘/Library/Frameworks/R.framework/Versions/4.2/Resources/library’ * installing *source* package ‘peakPantheR’ ... ** using staged installation ** R ** inst ** byte-compile and prepare package for lazy loading ** help *** installing help indices *** copying figures ** building package indices ** installing vignettes ** testing if installed package can be loaded from temporary location ** testing if installed package can be loaded from final location ** testing if installed package keeps a record of temporary installation path * DONE (peakPantheR)
peakPantheR.Rcheck/tests/testthat.Rout
R version 4.2.1 (2022-06-23) -- "Funny-Looking Kid"
Copyright (C) 2022 The R Foundation for Statistical Computing
Platform: x86_64-apple-darwin17.0 (64-bit)
R is free software and comes with ABSOLUTELY NO WARRANTY.
You are welcome to redistribute it under certain conditions.
Type 'license()' or 'licence()' for distribution details.
R is a collaborative project with many contributors.
Type 'contributors()' for more information and
'citation()' on how to cite R or R packages in publications.
Type 'demo()' for some demos, 'help()' for on-line help, or
'help.start()' for an HTML browser interface to help.
Type 'q()' to quit R.
> library(testthat)
> library(peakPantheR)
This is peakPantheR version 1.10.0
>
> test_check("peakPantheR")
[ FAIL 0 | WARN 0 | SKIP 0 | PASS 1434 ]
Warning messages:
1: In .Internal(gc(verbose, reset, full)) :
closing unused connection 8 (/private/tmp/RtmpnhRIqM/notValidXML.mzML)
2: In .Internal(gc(verbose, reset, full)) :
closing unused connection 7 (/private/tmp/RtmpnhRIqM/notValidXML.mzML)
3: In .Internal(gc(verbose, reset, full)) :
closing unused connection 6 (/Library/Frameworks/R.framework/Versions/4.2/Resources/library/peakPantheR/extdata/test_fakemzML.mzML)
4: In .Internal(gc(verbose, reset, full)) :
closing unused connection 5 (/Library/Frameworks/R.framework/Versions/4.2/Resources/library/peakPantheR/extdata/test_fakemzML.mzML)
>
> proc.time()
user system elapsed
794.206 6.042 1065.526
peakPantheR.Rcheck/peakPantheR-Ex.timings
| name | user | system | elapsed | |
| EICs-peakPantheRAnnotation-method | 15.895 | 0.535 | 16.458 | |
| FIR-peakPantheRAnnotation-method | 0.306 | 0.024 | 0.331 | |
| ROI-peakPantheRAnnotation-method | 0.295 | 0.022 | 0.317 | |
| TIC-peakPantheRAnnotation-method | 0.287 | 0.021 | 0.309 | |
| acquisitionTime-peakPantheRAnnotation-method | 0.286 | 0.024 | 0.311 | |
| annotationDiagnosticPlots-peakPantheRAnnotation-method | 0.285 | 0.023 | 0.310 | |
| annotationParamsDiagnostic-peakPantheRAnnotation-method | 0.288 | 0.023 | 0.311 | |
| annotationTable-peakPantheRAnnotation-method | 0.301 | 0.024 | 0.326 | |
| annotation_diagnostic_multiplot_UI_helper | 0.199 | 0.019 | 0.219 | |
| annotation_fit_summary_UI_helper | 0.015 | 0.000 | 0.016 | |
| annotation_showMethod_UI_helper | 0.007 | 0.000 | 0.007 | |
| annotation_showText_UI_helper | 0.001 | 0.001 | 0.001 | |
| cpdID-peakPantheRAnnotation-method | 0.284 | 0.011 | 0.295 | |
| cpdMetadata-peakPantheRAnnotation-method | 0.308 | 0.012 | 0.321 | |
| cpdName-peakPantheRAnnotation-method | 0.285 | 0.012 | 0.298 | |
| dataPoints-peakPantheRAnnotation-method | 0.288 | 0.013 | 0.301 | |
| filename-peakPantheRAnnotation-method | 0.287 | 0.013 | 0.301 | |
| filepath-peakPantheRAnnotation-method | 0.299 | 0.012 | 0.313 | |
| initialise_annotation_from_files_UI_helper | 0.027 | 0.001 | 0.029 | |
| isAnnotated-peakPantheRAnnotation-method | 0.306 | 0.014 | 0.319 | |
| load_annotation_from_file_UI_helper | 0.014 | 0.001 | 0.015 | |
| nbCompounds-peakPantheRAnnotation-method | 0.302 | 0.012 | 0.315 | |
| nbSamples-peakPantheRAnnotation-method | 0.279 | 0.012 | 0.292 | |
| outputAnnotationDiagnostic-peakPantheRAnnotation-method | 14.107 | 0.112 | 14.272 | |
| outputAnnotationFeatureMetadata_UI_helper | 0.012 | 0.001 | 0.011 | |
| outputAnnotationParamsCSV-peakPantheRAnnotation-method | 0.052 | 0.001 | 0.054 | |
| outputAnnotationResult-peakPantheRAnnotation-method | 14.105 | 0.090 | 14.371 | |
| outputAnnotationSpectraMetadata_UI_helper | 0.013 | 0.001 | 0.013 | |
| peakFit-peakPantheRAnnotation-method | 0.307 | 0.012 | 0.321 | |
| peakPantheRAnnotation | 0.324 | 0.013 | 0.340 | |
| peakPantheR_ROIStatistics | 20.498 | 0.281 | 20.843 | |
| peakPantheR_loadAnnotationParamsCSV | 0.014 | 0.002 | 0.016 | |
| peakPantheR_parallelAnnotation | 15.161 | 0.110 | 15.294 | |
| peakPantheR_plotEICFit | 0.642 | 0.004 | 0.648 | |
| peakPantheR_plotPeakwidth | 0.862 | 0.013 | 0.878 | |
| peakPantheR_singleFileSearch | 5.071 | 0.057 | 5.142 | |
| peakPantheR_start_GUI | 0.000 | 0.001 | 0.001 | |
| peakTables-peakPantheRAnnotation-method | 0.293 | 0.012 | 0.305 | |
| resetAnnotation-peakPantheRAnnotation-method | 0.318 | 0.012 | 0.330 | |
| resetFIR-peakPantheRAnnotation-method | 0.008 | 0.000 | 0.009 | |
| retentionTimeCorrection-peakPantheRAnnotation-method | 9.766 | 0.057 | 9.834 | |
| spectraMetadata-peakPantheRAnnotation-method | 0.311 | 0.011 | 0.323 | |
| spectraPaths_and_metadata_UI_helper | 0.004 | 0.001 | 0.005 | |
| spectra_metadata_colourScheme_UI_helper | 0.009 | 0.001 | 0.010 | |
| uROI-peakPantheRAnnotation-method | 0.331 | 0.012 | 0.344 | |
| uROIExist-peakPantheRAnnotation-method | 0.328 | 0.012 | 0.339 | |
| useFIR-peakPantheRAnnotation-method | 0.311 | 0.012 | 0.323 | |
| useUROI-peakPantheRAnnotation-method | 0.302 | 0.012 | 0.315 | |