| Back to Multiple platform build/check report for BioC 3.15 |
|
This page was generated on 2022-03-18 11:08:16 -0400 (Fri, 18 Mar 2022).
| Hostname | OS | Arch (*) | R version | Installed pkgs |
|---|---|---|---|---|
| nebbiolo1 | Linux (Ubuntu 20.04.4 LTS) | x86_64 | R Under development (unstable) (2022-02-17 r81757) -- "Unsuffered Consequences" | 4334 |
| riesling1 | Windows Server 2019 Standard | x64 | R Under development (unstable) (2021-11-21 r81221) -- "Unsuffered Consequences" | 4097 |
| palomino3 | Windows Server 2022 Datacenter | x64 | R Under development (unstable) (2022-02-17 r81757 ucrt) -- "Unsuffered Consequences" | 4083 |
| merida1 | macOS 10.14.6 Mojave | x86_64 | R Under development (unstable) (2022-03-02 r81842) -- "Unsuffered Consequences" | 4134 |
| Click on any hostname to see more info about the system (e.g. compilers) (*) as reported by 'uname -p', except on Windows and Mac OS X | ||||
|
To the developers/maintainers of the pdInfoBuilder package: - Please allow up to 24 hours (and sometimes 48 hours) for your latest push to git@git.bioconductor.org:packages/pdInfoBuilder.git to reflect on this report. See How and When does the builder pull? When will my changes propagate? here for more information. - Make sure to use the following settings in order to reproduce any error or warning you see on this page. |
| Package 1397/2090 | Hostname | OS / Arch | INSTALL | BUILD | CHECK | BUILD BIN | ||||||||
| pdInfoBuilder 1.59.0 (landing page) Benilton Carvalho
| nebbiolo1 | Linux (Ubuntu 20.04.4 LTS) / x86_64 | OK | OK | OK | |||||||||
| riesling1 | Windows Server 2019 Standard / x64 | OK | OK | OK | OK | |||||||||
| palomino3 | Windows Server 2022 Datacenter / x64 | OK | OK | OK | OK | |||||||||
| merida1 | macOS 10.14.6 Mojave / x86_64 | OK | OK | OK | OK | |||||||||
| Package: pdInfoBuilder |
| Version: 1.59.0 |
| Command: D:\biocbuild\bbs-3.15-bioc\R\bin\R.exe CMD check --no-multiarch --install=check:pdInfoBuilder.install-out.txt --library=D:\biocbuild\bbs-3.15-bioc\R\library --no-vignettes --timings pdInfoBuilder_1.59.0.tar.gz |
| StartedAt: 2022-03-17 19:50:09 -0400 (Thu, 17 Mar 2022) |
| EndedAt: 2022-03-17 19:53:24 -0400 (Thu, 17 Mar 2022) |
| EllapsedTime: 195.1 seconds |
| RetCode: 0 |
| Status: OK |
| CheckDir: pdInfoBuilder.Rcheck |
| Warnings: 0 |
##############################################################################
##############################################################################
###
### Running command:
###
### D:\biocbuild\bbs-3.15-bioc\R\bin\R.exe CMD check --no-multiarch --install=check:pdInfoBuilder.install-out.txt --library=D:\biocbuild\bbs-3.15-bioc\R\library --no-vignettes --timings pdInfoBuilder_1.59.0.tar.gz
###
##############################################################################
##############################################################################
* using log directory 'D:/biocbuild/bbs-3.15-bioc/meat/pdInfoBuilder.Rcheck'
* using R Under development (unstable) (2021-11-21 r81221)
* using platform: x86_64-w64-mingw32 (64-bit)
* using session charset: ISO8859-1
* using option '--no-vignettes'
* checking for file 'pdInfoBuilder/DESCRIPTION' ... OK
* this is package 'pdInfoBuilder' version '1.59.0'
* checking package namespace information ... OK
* checking package dependencies ... OK
* checking if this is a source package ... OK
* checking if there is a namespace ... OK
* checking for hidden files and directories ... OK
* checking for portable file names ... OK
* checking whether package 'pdInfoBuilder' can be installed ... OK
* checking installed package size ... OK
* checking package directory ... OK
* checking 'build' directory ... OK
* checking DESCRIPTION meta-information ... OK
* checking top-level files ... OK
* checking for left-over files ... OK
* checking index information ... OK
* checking package subdirectories ... OK
* checking R files for non-ASCII characters ... OK
* checking R files for syntax errors ... OK
* checking whether the package can be loaded ... OK
* checking whether the package can be loaded with stated dependencies ... OK
* checking whether the package can be unloaded cleanly ... OK
* checking whether the namespace can be loaded with stated dependencies ... OK
* checking whether the namespace can be unloaded cleanly ... OK
* checking dependencies in R code ... NOTE
Namespaces in Imports field not imported from:
'BiocGenerics' 'IRanges' 'oligoClasses'
All declared Imports should be used.
* checking S3 generic/method consistency ... OK
* checking replacement functions ... OK
* checking foreign function calls ... OK
* checking R code for possible problems ... NOTE
cdf2table: no visible global function definition for 'getDoParWorkers'
cdf2table: no visible global function definition for '%dopar%'
cdf2table: no visible global function definition for 'foreach'
cdf2table: no visible binding for global variable 'unitLst'
cdfUnits2table: no visible global function definition for '%do%'
cdfUnits2table: no visible global function definition for 'foreach'
cdfUnits2table: no visible binding for global variable 'i'
connectDb: no visible global function definition for 'dbGetQuery'
createChrDict: no visible global function definition for 'na.omit'
createIndicesDb : makeIndex: no visible global function definition for
'dbGetQuery'
createIndicesDb: no visible global function definition for 'dbGetQuery'
createSeqMat: no visible global function definition for 'dbGetQuery'
createSeqMat.cnv: no visible global function definition for
'dbGetQuery'
createTableInfoTable: no visible global function definition for
'dbGetQuery'
dbCreateIndex: no visible global function definition for 'dbGetQuery'
dbCreateTable: no visible global function definition for 'dbGetQuery'
dbCreateTableInfo: no visible global function definition for
'dbGetQuery'
getAllFSetMpsTables: no visible global function definition for
'%dopar%'
getAllFSetMpsTables: no visible global function definition for
'foreach'
getAllFSetMpsTables: no visible binding for global variable 'i'
increaseDbPerformance: no visible global function definition for
'dbGetQuery'
initDb: no visible global function definition for 'dbGetQuery'
insertInFragmentLengthTable: no visible global function definition for
'dbGetQuery'
loadAffySeqCsv: no visible global function definition for 'dbGetQuery'
loadUnits: no visible global function definition for 'dbGetQuery'
parseBpmapCel: no visible global function definition for 'aggregate'
parseCdfSeqAnnotSnp: no visible global function definition for
'aggregate'
parseNgsTrio: no visible global function definition for 'aggregate'
snp6.createIndicesDb : makeIndex: no visible global function definition
for 'dbGetQuery'
snp6.createIndicesDb: no visible global function definition for
'dbGetQuery'
snp6.createTableInfoTable: no visible global function definition for
'dbGetQuery'
snp6.initDb: no visible global function definition for 'dbGetQuery'
snp6.loadUnits.cnv: no visible global function definition for
'dbGetQuery'
snp6.loadUnits.snp: no visible global function definition for
'dbGetQuery'
snp6.sortFeatureTables: no visible global function definition for
'dbGetQuery'
sortFeatureTables: no visible global function definition for
'dbGetQuery'
makePdInfoPackage,AffyClariomSPDInfoPkgSeed: no visible global function
definition for 'dbGetQuery'
makePdInfoPackage,AffyExpressionPDInfoPkgSeed: no visible global
function definition for 'dbGetQuery'
makePdInfoPackage,AffyHTAPDInfoPkgSeed: no visible global function
definition for 'dbGetQuery'
makePdInfoPackage,AffyMiRNAPDInfoPkgSeed: no visible global function
definition for 'dbGetQuery'
makePdInfoPackage,AffySNPCNVPDInfoPkgSeed2: no visible global function
definition for 'dbGetQuery'
makePdInfoPackage,AffySNPPDInfoPkgSeed2: no visible global function
definition for 'dbGetQuery'
makePdInfoPackage,AffySTPDInfoPkgSeed: no visible global function
definition for 'dbGetQuery'
makePdInfoPackage,AffyTilingPDInfoPkgSeed: no visible global function
definition for 'dbGetQuery'
makePdInfoPackage,GenericPDInfoPkgSeed: no visible global function
definition for 'dbGetQuery'
makePdInfoPackage,NgsExpressionPDInfoPkgSeed: no visible global
function definition for 'dbGetQuery'
makePdInfoPackage,NgsTilingPDInfoPkgSeed: no visible global function
definition for 'dbGetQuery'
Undefined global functions or variables:
%do% %dopar% aggregate dbGetQuery foreach getDoParWorkers i na.omit
unitLst
Consider adding
importFrom("stats", "aggregate", "na.omit")
to your NAMESPACE file.
* checking Rd files ... OK
* checking Rd metadata ... OK
* checking Rd cross-references ... OK
* checking for missing documentation entries ... OK
* checking for code/documentation mismatches ... OK
* checking Rd \usage sections ... OK
* checking Rd contents ... OK
* checking for unstated dependencies in examples ... OK
* checking line endings in C/C++/Fortran sources/headers ... OK
* checking line endings in Makefiles ... OK
* checking for GNU extensions in Makefiles ... OK
* checking include directives in Makefiles ... OK
* checking compiled code ... NOTE
Note: information on .o files for x64 is not available
File 'D:/biocbuild/bbs-3.15-bioc/R/library/pdInfoBuilder/libs/x64/pdInfoBuilder.dll':
Found 'abort', possibly from 'abort' (C), 'runtime' (Fortran)
Compiled code should not call entry points which might terminate R nor
write to stdout/stderr instead of to the console, nor use Fortran I/O
nor system RNGs. The detected symbols are linked into the code but
might come from libraries and not actually be called.
See 'Writing portable packages' in the 'Writing R Extensions' manual.
* checking installed files from 'inst/doc' ... OK
* checking files in 'vignettes' ... OK
* checking examples ... OK
* checking for unstated dependencies in vignettes ... OK
* checking package vignettes in 'inst/doc' ... OK
* checking running R code from vignettes ... SKIPPED
* checking re-building of vignette outputs ... SKIPPED
* checking PDF version of manual ... OK
* DONE
Status: 3 NOTEs
See
'D:/biocbuild/bbs-3.15-bioc/meat/pdInfoBuilder.Rcheck/00check.log'
for details.
pdInfoBuilder.Rcheck/00install.out
##############################################################################
##############################################################################
###
### Running command:
###
### D:\biocbuild\bbs-3.15-bioc\R\bin\R.exe CMD INSTALL pdInfoBuilder
###
##############################################################################
##############################################################################
* installing to library 'D:/biocbuild/bbs-3.15-bioc/R/library'
* installing *source* package 'pdInfoBuilder' ...
** using staged installation
** libs
"C:/rtools40/mingw64/bin/"gcc -I"D:/biocbuild/bbs-3.15-bioc/R/include" -DNDEBUG -I"C:/extsoft/include" -O2 -Wall -std=gnu99 -mfpmath=sse -msse2 -mstackrealign -fno-reorder-blocks-and-partition -c pdInfoBuilder.c -o pdInfoBuilder.o
C:/rtools40/mingw64/bin/gcc -shared -s -static-libgcc -o pdInfoBuilder.dll tmp.def pdInfoBuilder.o -LC:/extsoft/lib/x64 -LC:/extsoft/lib -LD:/biocbuild/bbs-3.15-bioc/R/bin/x64 -lR
installing to D:/biocbuild/bbs-3.15-bioc/R/library/00LOCK-pdInfoBuilder/00new/pdInfoBuilder/libs/x64
** R
** inst
** byte-compile and prepare package for lazy loading
No methods found in package 'RSQLite' for request: 'dbGetQuery' when loading 'pdInfoBuilder'
** help
*** installing help indices
converting help for package 'pdInfoBuilder'
finding HTML links ... done
AffyClariomSPDInfoPkgSeed-class html
AffyExpressionPDInfoPkgSeed-class html
AffySNPCNVPDInfoPkgSeed-class html
AffySNPCNVPDInfoPkgSeed2-class html
AffySNPPDInfoPkgSeed-class html
AffySNPPDInfoPkgSeed2-class html
AffySTPDInfoPkgSeed-class html
AffyTilingPDInfoPkgSeed-class html
GenericArrayFunctions html
NgsExpressionPDInfoPkgSeed-class html
NgsTilingPDInfoPkgSeed-class html
NimbleGenPDInfoPkgSeed-class html
chipName html
getGeometry html
makePdInfoPackage html
** building package indices
** installing vignettes
** testing if installed package can be loaded from temporary location
No methods found in package 'RSQLite' for request: 'dbGetQuery' when loading 'pdInfoBuilder'
** testing if installed package can be loaded from final location
No methods found in package 'RSQLite' for request: 'dbGetQuery' when loading 'pdInfoBuilder'
** testing if installed package keeps a record of temporary installation path
* DONE (pdInfoBuilder)
Making 'packages.html' ... done
pdInfoBuilder.Rcheck/pdInfoBuilder-Ex.timings
| name | user | system | elapsed | |
| AffyClariomSPDInfoPkgSeed-class | 0 | 0 | 0 | |
| AffyExpressionPDInfoPkgSeed-class | 0 | 0 | 0 | |
| AffySNPCNVPDInfoPkgSeed-class | 0 | 0 | 0 | |
| AffySNPCNVPDInfoPkgSeed2-class | 0 | 0 | 0 | |
| AffySNPPDInfoPkgSeed-class | 0.17 | 0.08 | 0.25 | |
| AffySNPPDInfoPkgSeed2-class | 0 | 0 | 0 | |
| AffySTPDInfoPkgSeed-class | 0 | 0 | 0 | |
| AffyTilingPDInfoPkgSeed-class | 0 | 0 | 0 | |
| NgsExpressionPDInfoPkgSeed-class | 0 | 0 | 0 | |
| NgsTilingPDInfoPkgSeed-class | 0 | 0 | 0 | |
| NimbleGenPDInfoPkgSeed-class | 0.02 | 0.00 | 0.01 | |
| makePdInfoPackage | 0 | 0 | 0 | |