| Back to Multiple platform build/check report for BioC 3.15 |
|
This page was generated on 2022-10-19 13:23:26 -0400 (Wed, 19 Oct 2022).
| Hostname | OS | Arch (*) | R version | Installed pkgs |
|---|---|---|---|---|
| nebbiolo1 | Linux (Ubuntu 20.04.5 LTS) | x86_64 | 4.2.1 (2022-06-23) -- "Funny-Looking Kid" | 4386 |
| palomino3 | Windows Server 2022 Datacenter | x64 | 4.2.1 (2022-06-23 ucrt) -- "Funny-Looking Kid" | 4138 |
| merida1 | macOS 10.14.6 Mojave | x86_64 | 4.2.1 (2022-06-23) -- "Funny-Looking Kid" | 4205 |
| Click on any hostname to see more info about the system (e.g. compilers) (*) as reported by 'uname -p', except on Windows and Mac OS X | ||||
|
To the developers/maintainers of the pathwayPCA package: - Please allow up to 24 hours (and sometimes 48 hours) for your latest push to git@git.bioconductor.org:packages/pathwayPCA.git to reflect on this report. See How and When does the builder pull? When will my changes propagate? for more information. - Make sure to use the following settings in order to reproduce any error or warning you see on this page. |
| Package 1419/2140 | Hostname | OS / Arch | INSTALL | BUILD | CHECK | BUILD BIN | ||||||||
| pathwayPCA 1.12.0 (landing page) Gabriel Odom
| nebbiolo1 | Linux (Ubuntu 20.04.5 LTS) / x86_64 | OK | OK | OK | |||||||||
| palomino3 | Windows Server 2022 Datacenter / x64 | OK | OK | OK | OK | |||||||||
| merida1 | macOS 10.14.6 Mojave / x86_64 | OK | OK | OK | OK | |||||||||
| Package: pathwayPCA |
| Version: 1.12.0 |
| Command: /Library/Frameworks/R.framework/Resources/bin/R CMD check --install=check:pathwayPCA.install-out.txt --library=/Library/Frameworks/R.framework/Resources/library --no-vignettes --timings pathwayPCA_1.12.0.tar.gz |
| StartedAt: 2022-10-19 05:58:54 -0400 (Wed, 19 Oct 2022) |
| EndedAt: 2022-10-19 06:02:58 -0400 (Wed, 19 Oct 2022) |
| EllapsedTime: 244.5 seconds |
| RetCode: 0 |
| Status: OK |
| CheckDir: pathwayPCA.Rcheck |
| Warnings: 0 |
##############################################################################
##############################################################################
###
### Running command:
###
### /Library/Frameworks/R.framework/Resources/bin/R CMD check --install=check:pathwayPCA.install-out.txt --library=/Library/Frameworks/R.framework/Resources/library --no-vignettes --timings pathwayPCA_1.12.0.tar.gz
###
##############################################################################
##############################################################################
* using log directory ‘/Users/biocbuild/bbs-3.15-bioc/meat/pathwayPCA.Rcheck’
* using R version 4.2.1 (2022-06-23)
* using platform: x86_64-apple-darwin17.0 (64-bit)
* using session charset: UTF-8
* using option ‘--no-vignettes’
* checking for file ‘pathwayPCA/DESCRIPTION’ ... OK
* checking extension type ... Package
* this is package ‘pathwayPCA’ version ‘1.12.0’
* package encoding: UTF-8
* checking package namespace information ... OK
* checking package dependencies ... OK
* checking if this is a source package ... OK
* checking if there is a namespace ... OK
* checking for hidden files and directories ... OK
* checking for portable file names ... OK
* checking for sufficient/correct file permissions ... OK
* checking whether package ‘pathwayPCA’ can be installed ... OK
* checking installed package size ... OK
* checking package directory ... OK
* checking ‘build’ directory ... OK
* checking DESCRIPTION meta-information ... OK
* checking top-level files ... OK
* checking for left-over files ... OK
* checking index information ... OK
* checking package subdirectories ... OK
* checking R files for non-ASCII characters ... OK
* checking R files for syntax errors ... OK
* checking whether the package can be loaded ... OK
* checking whether the package can be loaded with stated dependencies ... OK
* checking whether the package can be unloaded cleanly ... OK
* checking whether the namespace can be loaded with stated dependencies ... OK
* checking whether the namespace can be unloaded cleanly ... OK
* checking dependencies in R code ... OK
* checking S3 generic/method consistency ... OK
* checking replacement functions ... OK
* checking foreign function calls ... OK
* checking R code for possible problems ... OK
* checking Rd files ... OK
* checking Rd metadata ... OK
* checking Rd cross-references ... OK
* checking for missing documentation entries ... OK
* checking for code/documentation mismatches ... OK
* checking Rd \usage sections ... OK
* checking Rd contents ... OK
* checking for unstated dependencies in examples ... OK
* checking contents of ‘data’ directory ... OK
* checking data for non-ASCII characters ... OK
* checking data for ASCII and uncompressed saves ... OK
* checking files in ‘vignettes’ ... OK
* checking examples ... OK
Examples with CPU (user + system) or elapsed time > 5s
user system elapsed
SE2Tidy 16.480 0.523 17.041
AESPCA_pVals 0.858 0.288 11.077
LoadOntoPCs 0.829 0.281 10.640
ExtractAESPCs 0.620 0.186 7.145
getPathPCLs 0.524 0.030 13.509
getPathpVals 0.442 0.031 13.444
SuperPCA_pVals 0.413 0.027 10.623
* checking for unstated dependencies in ‘tests’ ... OK
* checking tests ...
Running ‘testthat.R’
OK
* checking for unstated dependencies in vignettes ... OK
* checking package vignettes in ‘inst/doc’ ... OK
* checking running R code from vignettes ... SKIPPED
* checking re-building of vignette outputs ... SKIPPED
* checking PDF version of manual ... OK
* DONE
Status: OK
pathwayPCA.Rcheck/00install.out
############################################################################## ############################################################################## ### ### Running command: ### ### /Library/Frameworks/R.framework/Resources/bin/R CMD INSTALL pathwayPCA ### ############################################################################## ############################################################################## * installing to library ‘/Library/Frameworks/R.framework/Versions/4.2/Resources/library’ * installing *source* package ‘pathwayPCA’ ... ** using staged installation ** R ** data ** inst ** byte-compile and prepare package for lazy loading ** help *** installing help indices ** building package indices ** installing vignettes ** testing if installed package can be loaded from temporary location ** testing if installed package can be loaded from final location ** testing if installed package keeps a record of temporary installation path * DONE (pathwayPCA)
pathwayPCA.Rcheck/tests/testthat.Rout
R version 4.2.1 (2022-06-23) -- "Funny-Looking Kid"
Copyright (C) 2022 The R Foundation for Statistical Computing
Platform: x86_64-apple-darwin17.0 (64-bit)
R is free software and comes with ABSOLUTELY NO WARRANTY.
You are welcome to redistribute it under certain conditions.
Type 'license()' or 'licence()' for distribution details.
R is a collaborative project with many contributors.
Type 'contributors()' for more information and
'citation()' on how to cite R or R packages in publications.
Type 'demo()' for some demos, 'help()' for on-line help, or
'help.start()' for an HTML browser interface to help.
Type 'q()' to quit R.
> library(testthat)
> library(pathwayPCA)
>
> test_check("pathwayPCA")
[ FAIL 0 | WARN 0 | SKIP 0 | PASS 47 ]
>
> proc.time()
user system elapsed
22.464 1.157 64.654
pathwayPCA.Rcheck/pathwayPCA-Ex.timings
| name | user | system | elapsed | |
| AESPCA_pVals | 0.858 | 0.288 | 11.077 | |
| CheckAssay | 0.000 | 0.001 | 0.000 | |
| CheckPwyColl | 0 | 0 | 0 | |
| CheckSampleIDs | 0.001 | 0.000 | 0.000 | |
| Contains | 0.001 | 0.000 | 0.001 | |
| ControlFDR | 0.000 | 0.000 | 0.001 | |
| CreateOmics | 0.579 | 0.056 | 0.638 | |
| CreateOmicsPathway | 0.265 | 0.013 | 0.278 | |
| CreatePathwayCollection | 0.011 | 0.003 | 0.014 | |
| ExtractAESPCs | 0.620 | 0.186 | 7.145 | |
| GumbelMixpValues | 0.000 | 0.000 | 0.001 | |
| IntersectOmicsPwyCollct | 0.001 | 0.000 | 0.001 | |
| JoinPhenoAssay | 0.000 | 0.001 | 0.000 | |
| LoadOntoPCs | 0.829 | 0.281 | 10.640 | |
| OptimGumbelMixParams | 0.001 | 0.000 | 0.001 | |
| PathwaytValues | 0.001 | 0.000 | 0.000 | |
| PermTestCateg | 0.001 | 0.001 | 0.000 | |
| PermTestReg | 0 | 0 | 0 | |
| PermTestSurv | 0.000 | 0.001 | 0.000 | |
| SE2Tidy | 16.480 | 0.523 | 17.041 | |
| SubsetPathwayCollection | 0.003 | 0.002 | 0.004 | |
| SubsetPathwayData | 0.417 | 0.064 | 0.482 | |
| SuperPCA_pVals | 0.413 | 0.027 | 10.623 | |
| TabulatepValues | 0.001 | 0.001 | 0.001 | |
| TransposeAssay | 0.112 | 0.023 | 0.136 | |
| WhichPathways | 0.010 | 0.002 | 0.012 | |
| aespca | 0.000 | 0.000 | 0.001 | |
| coxTrain_fun | 0.000 | 0.001 | 0.000 | |
| getPathPCLs | 0.524 | 0.030 | 13.509 | |
| getPathpVals | 0.442 | 0.031 | 13.444 | |
| get_set_OmicsPathway | 1.330 | 0.442 | 1.774 | |
| get_set_OmicsRegCateg | 0.335 | 0.015 | 0.351 | |
| get_set_OmicsSurv | 0.441 | 0.026 | 0.468 | |
| glmTrain_fun | 0 | 0 | 0 | |
| lars.lsa | 0 | 0 | 0 | |
| mysvd | 0.000 | 0.000 | 0.001 | |
| normalize | 0 | 0 | 0 | |
| olsTrain_fun | 0.001 | 0.000 | 0.000 | |
| pathway_tControl | 0.001 | 0.001 | 0.001 | |
| pathway_tScores | 0.000 | 0.000 | 0.001 | |
| permuteSamps | 0 | 0 | 0 | |
| print.pathwayCollection | 0.006 | 0.002 | 0.008 | |
| read_gmt | 0.181 | 0.003 | 0.183 | |
| show-OmicsPathway-method | 0.347 | 0.013 | 0.360 | |
| superpc.st | 0.001 | 0.000 | 0.000 | |
| superpc.train | 0.000 | 0.000 | 0.001 | |
| write_gmt | 0.003 | 0.000 | 0.003 | |