| Back to Multiple platform build/check report for BioC 3.15 |
|
This page was generated on 2022-03-18 11:08:14 -0400 (Fri, 18 Mar 2022).
| Hostname | OS | Arch (*) | R version | Installed pkgs |
|---|---|---|---|---|
| nebbiolo1 | Linux (Ubuntu 20.04.4 LTS) | x86_64 | R Under development (unstable) (2022-02-17 r81757) -- "Unsuffered Consequences" | 4334 |
| riesling1 | Windows Server 2019 Standard | x64 | R Under development (unstable) (2021-11-21 r81221) -- "Unsuffered Consequences" | 4097 |
| palomino3 | Windows Server 2022 Datacenter | x64 | R Under development (unstable) (2022-02-17 r81757 ucrt) -- "Unsuffered Consequences" | 4083 |
| merida1 | macOS 10.14.6 Mojave | x86_64 | R Under development (unstable) (2022-03-02 r81842) -- "Unsuffered Consequences" | 4134 |
| Click on any hostname to see more info about the system (e.g. compilers) (*) as reported by 'uname -p', except on Windows and Mac OS X | ||||
|
To the developers/maintainers of the pageRank package: - Please allow up to 24 hours (and sometimes 48 hours) for your latest push to git@git.bioconductor.org:packages/pageRank.git to reflect on this report. See How and When does the builder pull? When will my changes propagate? here for more information. - Make sure to use the following settings in order to reproduce any error or warning you see on this page. |
| Package 1370/2090 | Hostname | OS / Arch | INSTALL | BUILD | CHECK | BUILD BIN | ||||||||
| pageRank 1.5.0 (landing page) Hongxu Ding
| nebbiolo1 | Linux (Ubuntu 20.04.4 LTS) / x86_64 | OK | OK | OK | |||||||||
| riesling1 | Windows Server 2019 Standard / x64 | OK | OK | OK | OK | |||||||||
| palomino3 | Windows Server 2022 Datacenter / x64 | OK | OK | OK | OK | |||||||||
| merida1 | macOS 10.14.6 Mojave / x86_64 | OK | OK | OK | OK | |||||||||
| Package: pageRank |
| Version: 1.5.0 |
| Command: D:\biocbuild\bbs-3.15-bioc\R\bin\R.exe CMD check --no-multiarch --install=check:pageRank.install-out.txt --library=D:\biocbuild\bbs-3.15-bioc\R\library --no-vignettes --timings pageRank_1.5.0.tar.gz |
| StartedAt: 2022-03-17 19:48:15 -0400 (Thu, 17 Mar 2022) |
| EndedAt: 2022-03-17 19:52:41 -0400 (Thu, 17 Mar 2022) |
| EllapsedTime: 266.8 seconds |
| RetCode: 0 |
| Status: OK |
| CheckDir: pageRank.Rcheck |
| Warnings: 0 |
##############################################################################
##############################################################################
###
### Running command:
###
### D:\biocbuild\bbs-3.15-bioc\R\bin\R.exe CMD check --no-multiarch --install=check:pageRank.install-out.txt --library=D:\biocbuild\bbs-3.15-bioc\R\library --no-vignettes --timings pageRank_1.5.0.tar.gz
###
##############################################################################
##############################################################################
* using log directory 'D:/biocbuild/bbs-3.15-bioc/meat/pageRank.Rcheck'
* using R Under development (unstable) (2021-11-21 r81221)
* using platform: x86_64-w64-mingw32 (64-bit)
* using session charset: ISO8859-1
* using option '--no-vignettes'
* checking for file 'pageRank/DESCRIPTION' ... OK
* this is package 'pageRank' version '1.5.0'
* package encoding: UTF-8
* checking package namespace information ... OK
* checking package dependencies ... OK
* checking if this is a source package ... OK
* checking if there is a namespace ... OK
* checking for hidden files and directories ... OK
* checking for portable file names ... OK
* checking whether package 'pageRank' can be installed ... OK
* checking installed package size ... OK
* checking package directory ... OK
* checking 'build' directory ... OK
* checking DESCRIPTION meta-information ... OK
* checking top-level files ... OK
* checking for left-over files ... OK
* checking index information ... OK
* checking package subdirectories ... OK
* checking R files for non-ASCII characters ... OK
* checking R files for syntax errors ... OK
* checking whether the package can be loaded ... OK
* checking whether the package can be loaded with stated dependencies ... OK
* checking whether the package can be unloaded cleanly ... OK
* checking whether the namespace can be loaded with stated dependencies ... OK
* checking whether the namespace can be unloaded cleanly ... OK
* checking dependencies in R code ... OK
* checking S3 generic/method consistency ... OK
* checking replacement functions ... OK
* checking foreign function calls ... OK
* checking R code for possible problems ... NOTE
accessibility_network : <anonymous>: no visible global function
definition for 'name'
Undefined global functions or variables:
name
* checking Rd files ... OK
* checking Rd metadata ... OK
* checking Rd cross-references ... OK
* checking for missing documentation entries ... OK
* checking for code/documentation mismatches ... OK
* checking Rd \usage sections ... OK
* checking Rd contents ... OK
* checking for unstated dependencies in examples ... OK
* checking files in 'vignettes' ... OK
* checking examples ... OK
Examples with CPU (user + system) or elapsed time > 5s
user system elapsed
accessibility_network 9.51 0.53 12.61
conformation_network 9.47 0.36 12.08
* checking for unstated dependencies in vignettes ... OK
* checking package vignettes in 'inst/doc' ... OK
* checking running R code from vignettes ... SKIPPED
* checking re-building of vignette outputs ... SKIPPED
* checking PDF version of manual ... OK
* DONE
Status: 1 NOTE
See
'D:/biocbuild/bbs-3.15-bioc/meat/pageRank.Rcheck/00check.log'
for details.
pageRank.Rcheck/00install.out
##############################################################################
##############################################################################
###
### Running command:
###
### D:\biocbuild\bbs-3.15-bioc\R\bin\R.exe CMD INSTALL pageRank
###
##############################################################################
##############################################################################
* installing to library 'D:/biocbuild/bbs-3.15-bioc/R/library'
* installing *source* package 'pageRank' ...
** using staged installation
** R
** byte-compile and prepare package for lazy loading
** help
*** installing help indices
converting help for package 'pageRank'
finding HTML links ... done
PX html
PXPY html
PXY html
P_dist html
P_graph html
P_null html
accessibility_network html
adjust_graph html
aracne_network html
bubble_plot html
clean_graph html
conformation_network html
diff_graph html
gene_bin html
get_color_gradient html
multiplex_page_rank html
time_expmat html
** building package indices
** installing vignettes
** testing if installed package can be loaded from temporary location
** testing if installed package can be loaded from final location
** testing if installed package keeps a record of temporary installation path
* DONE (pageRank)
Making 'packages.html' ... done
pageRank.Rcheck/pageRank-Ex.timings
| name | user | system | elapsed | |
| P_graph | 0.94 | 0.03 | 0.97 | |
| P_null | 0.91 | 0.03 | 0.94 | |
| accessibility_network | 9.51 | 0.53 | 12.61 | |
| adjust_graph | 0.03 | 0.00 | 0.04 | |
| aracne_network | 1.31 | 0.08 | 1.55 | |
| bubble_plot | 0.02 | 0.00 | 0.02 | |
| clean_graph | 0.04 | 0.00 | 0.06 | |
| conformation_network | 9.47 | 0.36 | 12.08 | |
| diff_graph | 0.10 | 0.00 | 0.21 | |
| get_color_gradient | 0 | 0 | 0 | |
| multiplex_page_rank | 0.03 | 0.00 | 0.03 | |
| time_expmat | 0 | 0 | 0 | |