| Back to Multiple platform build/check report for BioC 3.15 |
|
This page was generated on 2022-10-19 13:21:58 -0400 (Wed, 19 Oct 2022).
| Hostname | OS | Arch (*) | R version | Installed pkgs |
|---|---|---|---|---|
| nebbiolo1 | Linux (Ubuntu 20.04.5 LTS) | x86_64 | 4.2.1 (2022-06-23) -- "Funny-Looking Kid" | 4386 |
| palomino3 | Windows Server 2022 Datacenter | x64 | 4.2.1 (2022-06-23 ucrt) -- "Funny-Looking Kid" | 4138 |
| merida1 | macOS 10.14.6 Mojave | x86_64 | 4.2.1 (2022-06-23) -- "Funny-Looking Kid" | 4205 |
| Click on any hostname to see more info about the system (e.g. compilers) (*) as reported by 'uname -p', except on Windows and Mac OS X | ||||
|
To the developers/maintainers of the ontoProc package: - Please allow up to 24 hours (and sometimes 48 hours) for your latest push to git@git.bioconductor.org:packages/ontoProc.git to reflect on this report. See How and When does the builder pull? When will my changes propagate? for more information. - Make sure to use the following settings in order to reproduce any error or warning you see on this page. |
| Package 1374/2140 | Hostname | OS / Arch | INSTALL | BUILD | CHECK | BUILD BIN | ||||||||
| ontoProc 1.18.0 (landing page) VJ Carey
| nebbiolo1 | Linux (Ubuntu 20.04.5 LTS) / x86_64 | OK | OK | OK | |||||||||
| palomino3 | Windows Server 2022 Datacenter / x64 | OK | OK | OK | OK | |||||||||
| merida1 | macOS 10.14.6 Mojave / x86_64 | OK | OK | OK | OK | |||||||||
| Package: ontoProc |
| Version: 1.18.0 |
| Command: F:\biocbuild\bbs-3.15-bioc\R\bin\R.exe CMD check --no-multiarch --install=check:ontoProc.install-out.txt --library=F:\biocbuild\bbs-3.15-bioc\R\library --no-vignettes --timings ontoProc_1.18.0.tar.gz |
| StartedAt: 2022-10-19 02:33:38 -0400 (Wed, 19 Oct 2022) |
| EndedAt: 2022-10-19 02:40:39 -0400 (Wed, 19 Oct 2022) |
| EllapsedTime: 420.3 seconds |
| RetCode: 0 |
| Status: OK |
| CheckDir: ontoProc.Rcheck |
| Warnings: 0 |
##############################################################################
##############################################################################
###
### Running command:
###
### F:\biocbuild\bbs-3.15-bioc\R\bin\R.exe CMD check --no-multiarch --install=check:ontoProc.install-out.txt --library=F:\biocbuild\bbs-3.15-bioc\R\library --no-vignettes --timings ontoProc_1.18.0.tar.gz
###
##############################################################################
##############################################################################
* using log directory 'F:/biocbuild/bbs-3.15-bioc/meat/ontoProc.Rcheck'
* using R version 4.2.1 (2022-06-23 ucrt)
* using platform: x86_64-w64-mingw32 (64-bit)
* using session charset: UTF-8
* using option '--no-vignettes'
* checking for file 'ontoProc/DESCRIPTION' ... OK
* this is package 'ontoProc' version '1.18.0'
* package encoding: UTF-8
* checking package namespace information ... OK
* checking package dependencies ... OK
* checking if this is a source package ... OK
* checking if there is a namespace ... OK
* checking for hidden files and directories ... OK
* checking for portable file names ... OK
* checking whether package 'ontoProc' can be installed ... OK
* checking installed package size ... NOTE
installed size is 7.2Mb
sub-directories of 1Mb or more:
app 1.9Mb
data 2.0Mb
ontoRda 2.8Mb
* checking package directory ... OK
* checking 'build' directory ... OK
* checking DESCRIPTION meta-information ... OK
* checking top-level files ... OK
* checking for left-over files ... OK
* checking index information ... OK
* checking package subdirectories ... OK
* checking R files for non-ASCII characters ... OK
* checking R files for syntax errors ... OK
* checking whether the package can be loaded ... OK
* checking whether the package can be loaded with stated dependencies ... OK
* checking whether the package can be unloaded cleanly ... OK
* checking whether the namespace can be loaded with stated dependencies ... OK
* checking whether the namespace can be unloaded cleanly ... OK
* checking dependencies in R code ... OK
* checking S3 generic/method consistency ... OK
* checking replacement functions ... OK
* checking foreign function calls ... OK
* checking R code for possible problems ... NOTE
CLfeat : prupdate: no visible binding for global variable 'PRID'
CLfeat : prupdate: no visible binding for global variable 'SYMBOL'
bind_formal_tags: no visible global function definition for 'colData'
bind_formal_tags: no visible global function definition for 'colData<-'
common_classes: no visible global function definition for 'colData'
connect_classes: no visible global function definition for 'colData'
ctmarks: no visible binding for '<<-' assignment to 'pr'
ctmarks: no visible binding for '<<-' assignment to 'go'
ctmarks : server: no visible binding for global variable 'text'
ldfToTerm: no visible binding for global variable 'PROSYM'
subset_descendants: no visible global function definition for 'colData'
sym2CellOnto: no visible binding for global variable 'SYMBOL'
Undefined global functions or variables:
PRID PROSYM SYMBOL colData colData<- text
Consider adding
importFrom("graphics", "text")
to your NAMESPACE file.
* checking Rd files ... OK
* checking Rd metadata ... OK
* checking Rd cross-references ... OK
* checking for missing documentation entries ... OK
* checking for code/documentation mismatches ... OK
* checking Rd \usage sections ... OK
* checking Rd contents ... OK
* checking for unstated dependencies in examples ... OK
* checking contents of 'data' directory ... OK
* checking data for non-ASCII characters ... NOTE
Note: found 162 marked UTF-8 strings
* checking LazyData ... OK
* checking data for ASCII and uncompressed saves ... OK
* checking files in 'vignettes' ... OK
* checking examples ... OK
Examples with CPU (user + system) or elapsed time > 5s
user system elapsed
getCellOnto 21.31 1.49 23.83
CLfeats 19.22 1.26 29.18
common_classes 15.85 2.74 32.85
fastGrep 15.92 0.51 26.19
siblings_TAG 14.96 1.30 16.72
getLeavesFromTerm 14.14 0.50 14.84
sym2CellOnto 9.63 0.56 10.65
TermSet-class 5.88 0.63 8.53
liberalMap 5.01 0.03 5.05
secLevGen 4.54 0.43 5.13
* checking for unstated dependencies in 'tests' ... OK
* checking tests ...
Running 'test.R'
OK
* checking for unstated dependencies in vignettes ... OK
* checking package vignettes in 'inst/doc' ... OK
* checking running R code from vignettes ... SKIPPED
* checking re-building of vignette outputs ... SKIPPED
* checking PDF version of manual ... OK
* DONE
Status: 3 NOTEs
See
'F:/biocbuild/bbs-3.15-bioc/meat/ontoProc.Rcheck/00check.log'
for details.
ontoProc.Rcheck/00install.out
############################################################################## ############################################################################## ### ### Running command: ### ### F:\biocbuild\bbs-3.15-bioc\R\bin\R.exe CMD INSTALL ontoProc ### ############################################################################## ############################################################################## * installing to library 'F:/biocbuild/bbs-3.15-bioc/R/library' * installing *source* package 'ontoProc' ... ** using staged installation ** R ** data *** moving datasets to lazyload DB ** inst ** byte-compile and prepare package for lazy loading ** help *** installing help indices ** building package indices ** installing vignettes ** testing if installed package can be loaded from temporary location ** testing if installed package can be loaded from final location ** testing if installed package keeps a record of temporary installation path * DONE (ontoProc)
ontoProc.Rcheck/tests/test.Rout
R version 4.2.1 (2022-06-23 ucrt) -- "Funny-Looking Kid"
Copyright (C) 2022 The R Foundation for Statistical Computing
Platform: x86_64-w64-mingw32/x64 (64-bit)
R is free software and comes with ABSOLUTELY NO WARRANTY.
You are welcome to redistribute it under certain conditions.
Type 'license()' or 'licence()' for distribution details.
R is a collaborative project with many contributors.
Type 'contributors()' for more information and
'citation()' on how to cite R or R packages in publications.
Type 'demo()' for some demos, 'help()' for on-line help, or
'help.start()' for an HTML browser interface to help.
Type 'q()' to quit R.
>
> library(ontoProc)
Loading required package: ontologyIndex
> library(testthat)
>
> test_check("ontoProc")
[ FAIL 0 | WARN 0 | SKIP 0 | PASS 8 ]
>
>
> proc.time()
user system elapsed
54.14 3.14 61.92
ontoProc.Rcheck/ontoProc-Ex.timings
| name | user | system | elapsed | |
| CLfeats | 19.22 | 1.26 | 29.18 | |
| PROSYM | 0 | 0 | 0 | |
| TermSet-class | 5.88 | 0.63 | 8.53 | |
| allGOterms | 0.06 | 0.00 | 0.07 | |
| cellTypeToGO | 1.80 | 0.15 | 1.95 | |
| cleanCLOnames | 3.01 | 0.42 | 4.23 | |
| common_classes | 15.85 | 2.74 | 32.85 | |
| cyclicSigset | 0.01 | 0.00 | 0.01 | |
| demoApp | 0 | 0 | 0 | |
| dropStop | 0 | 0 | 0 | |
| fastGrep | 15.92 | 0.51 | 26.19 | |
| findCommonAncestors | 2.58 | 0.05 | 2.62 | |
| getCellOnto | 21.31 | 1.49 | 23.83 | |
| getLeavesFromTerm | 14.14 | 0.50 | 14.84 | |
| humrna | 0.02 | 0.00 | 0.02 | |
| ldfToTerms | 1.78 | 0.00 | 1.78 | |
| liberalMap | 5.01 | 0.03 | 5.05 | |
| makeSelectInput | 0 | 0 | 0 | |
| make_graphNEL_from_ontology_plot | 1.97 | 0.00 | 1.97 | |
| mapOneNaive | 2.23 | 0.01 | 2.25 | |
| minicorpus | 0.02 | 0.00 | 0.02 | |
| nomenCheckup | 3.67 | 0.44 | 4.67 | |
| onto_plot2 | 2.16 | 0.05 | 2.20 | |
| onto_roots | 0 | 0 | 0 | |
| packDesc2019 | 0 | 0 | 0 | |
| recognizedPredicates | 0 | 0 | 0 | |
| secLevGen | 4.54 | 0.43 | 5.13 | |
| selectFromMap | 1.92 | 0.00 | 1.92 | |
| seur3kTab | 0 | 0 | 0 | |
| siblings_TAG | 14.96 | 1.30 | 16.72 | |
| stopWords | 0 | 0 | 0 | |
| sym2CellOnto | 9.63 | 0.56 | 10.65 | |