| Back to Multiple platform build/check report for BioC 3.15 |
|
This page was generated on 2022-10-19 13:21:55 -0400 (Wed, 19 Oct 2022).
| Hostname | OS | Arch (*) | R version | Installed pkgs |
|---|---|---|---|---|
| nebbiolo1 | Linux (Ubuntu 20.04.5 LTS) | x86_64 | 4.2.1 (2022-06-23) -- "Funny-Looking Kid" | 4386 |
| palomino3 | Windows Server 2022 Datacenter | x64 | 4.2.1 (2022-06-23 ucrt) -- "Funny-Looking Kid" | 4138 |
| merida1 | macOS 10.14.6 Mojave | x86_64 | 4.2.1 (2022-06-23) -- "Funny-Looking Kid" | 4205 |
| Click on any hostname to see more info about the system (e.g. compilers) (*) as reported by 'uname -p', except on Windows and Mac OS X | ||||
|
To the developers/maintainers of the netZooR package: - Please allow up to 24 hours (and sometimes 48 hours) for your latest push to git@git.bioconductor.org:packages/netZooR.git to reflect on this report. See How and When does the builder pull? When will my changes propagate? for more information. - Make sure to use the following settings in order to reproduce any error or warning you see on this page. |
| Package 1325/2140 | Hostname | OS / Arch | INSTALL | BUILD | CHECK | BUILD BIN | ||||||||
| netZooR 1.0.0 (landing page) Marouen Ben Guebila
| nebbiolo1 | Linux (Ubuntu 20.04.5 LTS) / x86_64 | OK | OK | OK | |||||||||
| palomino3 | Windows Server 2022 Datacenter / x64 | OK | OK | OK | OK | |||||||||
| merida1 | macOS 10.14.6 Mojave / x86_64 | OK | OK | OK | OK | |||||||||
| Package: netZooR |
| Version: 1.0.0 |
| Command: F:\biocbuild\bbs-3.15-bioc\R\bin\R.exe CMD check --no-multiarch --install=check:netZooR.install-out.txt --library=F:\biocbuild\bbs-3.15-bioc\R\library --no-vignettes --timings netZooR_1.0.0.tar.gz |
| StartedAt: 2022-10-19 02:23:54 -0400 (Wed, 19 Oct 2022) |
| EndedAt: 2022-10-19 02:32:47 -0400 (Wed, 19 Oct 2022) |
| EllapsedTime: 532.3 seconds |
| RetCode: 0 |
| Status: OK |
| CheckDir: netZooR.Rcheck |
| Warnings: 0 |
##############################################################################
##############################################################################
###
### Running command:
###
### F:\biocbuild\bbs-3.15-bioc\R\bin\R.exe CMD check --no-multiarch --install=check:netZooR.install-out.txt --library=F:\biocbuild\bbs-3.15-bioc\R\library --no-vignettes --timings netZooR_1.0.0.tar.gz
###
##############################################################################
##############################################################################
* using log directory 'F:/biocbuild/bbs-3.15-bioc/meat/netZooR.Rcheck'
* using R version 4.2.1 (2022-06-23 ucrt)
* using platform: x86_64-w64-mingw32 (64-bit)
* using session charset: UTF-8
* using option '--no-vignettes'
* checking for file 'netZooR/DESCRIPTION' ... OK
* this is package 'netZooR' version '1.0.0'
* package encoding: UTF-8
* checking package namespace information ... OK
* checking package dependencies ... OK
* checking if this is a source package ... OK
* checking if there is a namespace ... OK
* checking for hidden files and directories ... OK
* checking for portable file names ... OK
* checking whether package 'netZooR' can be installed ... OK
* checking installed package size ... NOTE
installed size is 5.1Mb
sub-directories of 1Mb or more:
data 1.5Mb
extdata 2.9Mb
* checking package directory ... OK
* checking 'build' directory ... OK
* checking DESCRIPTION meta-information ... OK
* checking top-level files ... OK
* checking for left-over files ... OK
* checking index information ... OK
* checking package subdirectories ... OK
* checking R files for non-ASCII characters ... OK
* checking R files for syntax errors ... OK
* checking whether the package can be loaded ... OK
* checking whether the package can be loaded with stated dependencies ... OK
* checking whether the package can be unloaded cleanly ... OK
* checking whether the namespace can be loaded with stated dependencies ... OK
* checking whether the namespace can be unloaded cleanly ... OK
* checking dependencies in R code ... OK
* checking S3 generic/method consistency ... OK
* checking replacement functions ... OK
* checking foreign function calls ... OK
* checking R code for possible problems ... NOTE
runEgret: no visible binding for global variable 'NA12878'
Undefined global functions or variables:
NA12878
* checking Rd files ... OK
* checking Rd metadata ... OK
* checking Rd cross-references ... OK
* checking for missing documentation entries ... OK
* checking for code/documentation mismatches ... OK
* checking Rd \usage sections ... OK
* checking Rd contents ... OK
* checking for unstated dependencies in examples ... OK
* checking contents of 'data' directory ... OK
* checking data for non-ASCII characters ... OK
* checking data for ASCII and uncompressed saves ... OK
* checking files in 'vignettes' ... OK
* checking examples ... OK
Examples with CPU (user + system) or elapsed time > 5s
user system elapsed
monsterPrintMonsterAnalysis 42.60 0.67 43.28
monsterPlotMonsterAnalysis 40.50 1.35 41.85
monster 6.70 0.75 7.45
lioness 4.83 0.13 5.19
* checking for unstated dependencies in 'tests' ... OK
* checking tests ...
Running 'testthat.R'
OK
* checking for unstated dependencies in vignettes ... OK
* checking package vignettes in 'inst/doc' ... OK
* checking running R code from vignettes ... SKIPPED
* checking re-building of vignette outputs ... SKIPPED
* checking PDF version of manual ... OK
* DONE
Status: 2 NOTEs
See
'F:/biocbuild/bbs-3.15-bioc/meat/netZooR.Rcheck/00check.log'
for details.
netZooR.Rcheck/00install.out
############################################################################## ############################################################################## ### ### Running command: ### ### F:\biocbuild\bbs-3.15-bioc\R\bin\R.exe CMD INSTALL netZooR ### ############################################################################## ############################################################################## * installing to library 'F:/biocbuild/bbs-3.15-bioc/R/library' * installing *source* package 'netZooR' ... ** using staged installation ** R ** data ** inst ** byte-compile and prepare package for lazy loading ** help *** installing help indices ** building package indices ** installing vignettes ** testing if installed package can be loaded from temporary location ** testing if installed package can be loaded from final location ** testing if installed package keeps a record of temporary installation path * DONE (netZooR)
netZooR.Rcheck/tests/testthat.Rout
R version 4.2.1 (2022-06-23 ucrt) -- "Funny-Looking Kid"
Copyright (C) 2022 The R Foundation for Statistical Computing
Platform: x86_64-w64-mingw32/x64 (64-bit)
R is free software and comes with ABSOLUTELY NO WARRANTY.
You are welcome to redistribute it under certain conditions.
Type 'license()' or 'licence()' for distribution details.
R is a collaborative project with many contributors.
Type 'contributors()' for more information and
'citation()' on how to cite R or R packages in publications.
Type 'demo()' for some demos, 'help()' for on-line help, or
'help.start()' for an HTML browser interface to help.
Type 'q()' to quit R.
> library(testthat)
> library(netZooR)
Loading required package: igraph
Attaching package: 'igraph'
The following object is masked from 'package:testthat':
compare
The following objects are masked from 'package:stats':
decompose, spectrum
The following object is masked from 'package:base':
union
Loading required package: reticulate
Loading required package: pandaR
Loading required package: Biobase
Loading required package: BiocGenerics
Attaching package: 'BiocGenerics'
The following objects are masked from 'package:igraph':
normalize, path, union
The following objects are masked from 'package:stats':
IQR, mad, sd, var, xtabs
The following objects are masked from 'package:base':
Filter, Find, Map, Position, Reduce, anyDuplicated, append,
as.data.frame, basename, cbind, colnames, dirname, do.call,
duplicated, eval, evalq, get, grep, grepl, intersect, is.unsorted,
lapply, mapply, match, mget, order, paste, pmax, pmax.int, pmin,
pmin.int, rank, rbind, rownames, sapply, setdiff, sort, table,
tapply, union, unique, unsplit, which.max, which.min
Welcome to Bioconductor
Vignettes contain introductory material; view with
'browseVignettes()'. To cite Bioconductor, see
'citation("Biobase")', and for packages 'citation("pkgname")'.
Loading required package: yarn
Setting options('download.file.method.GEOquery'='auto')
Setting options('GEOquery.inmemory.gpl'=FALSE)
>
> #download test data
> download.file('https://netzoo.s3.us-east-2.amazonaws.com/netZooR/unittest_datasets/ppi.txt','testthat/ppi.txt')
trying URL 'https://netzoo.s3.us-east-2.amazonaws.com/netZooR/unittest_datasets/ppi.txt'
Content type 'text/plain' length 11495523 bytes (11.0 MB)
==================================================
downloaded 11.0 MB
> download.file('https://netzoo.s3.us-east-2.amazonaws.com/netZooR/unittest_datasets/testDataset.RData','testthat/testDataset.RData')
trying URL 'https://netzoo.s3.us-east-2.amazonaws.com/netZooR/unittest_datasets/testDataset.RData'
Content type 'binary/octet-stream' length 15200389 bytes (14.5 MB)
==================================================
downloaded 14.5 MB
>
> test_check("netZooR")
[1] "modularity of projected graph 0.227272727272727"
[1] "Q = 0.231404958677686"
[1] "Q = 0.231404958677686"
[1] "modularity of projected graph 0"
[1] "Q = 0"
[1] "Q = 0.132231404958678"
[1] "Q = 0.198347107438017"
[1] "Q = 0.231404958677686"
[1] "Q = 0.231404958677686"
[1] "Q = 0.198347107438017"
[1] "Q = 0.231404958677686"
[1] "Q = 0.231404958677686"
[1] "Q = 0.140495867768595"
[1] "Q = 0.140495867768595"
[1] "modularity of projected graph 0.227272727272727"
[1] "Q = 0.231404958677686"
[1] "Q = 0.231404958677686"
[1] "modularity of projected graph 0.525346928655047"
[1] "Q = 0.52666696475026"
[1] "Q = 0.52666696475026"
[ FAIL 0 | WARN 0 | SKIP 0 | PASS 11 ]
>
> proc.time()
user system elapsed
22.68 1.48 24.89
netZooR.Rcheck/netZooR-Ex.timings
| name | user | system | elapsed | |
| alpaca | 2.16 | 0.03 | 2.19 | |
| alpacaCommunityStructureRotation | 0 | 0 | 0 | |
| alpacaComputeDWBMmatmScale | 0 | 0 | 0 | |
| alpacaComputeWBMmat | 0 | 0 | 0 | |
| alpacaDeltaZAnalysis | 0 | 0 | 0 | |
| alpacaDeltaZAnalysisLouvain | 0 | 0 | 0 | |
| alpacaExtractTopGenes | 0.69 | 0.06 | 0.75 | |
| alpacaGOtabtogenes | 0 | 0 | 0 | |
| alpacaGenLouvain | 0 | 0 | 0 | |
| alpacaGoToGenes | 0 | 0 | 0 | |
| alpacaListToGo | 0 | 0 | 0 | |
| alpacaMetaNetwork | 0 | 0 | 0 | |
| alpacaNodeToGene | 0 | 0 | 0 | |
| alpacaRotationAnalysis | 0 | 0 | 0 | |
| alpacaRotationAnalysisLouvain | 0.00 | 0.02 | 0.02 | |
| alpacaSimulateNetwork | 0 | 0 | 0 | |
| alpacaTestNodeRank | 0 | 0 | 0 | |
| alpacaTidyConfig | 0 | 0 | 0 | |
| alpacaTopEnsembltoTopSym | 0 | 0 | 0 | |
| alpacaWBMlouvain | 0 | 0 | 0 | |
| condorCluster | 1.33 | 0.00 | 1.33 | |
| condorCoreEnrich | 2.43 | 0.03 | 2.47 | |
| condorMatrixModularity | 0.02 | 0.00 | 0.02 | |
| condorModularityMax | 0.03 | 0.00 | 0.03 | |
| condorPlotCommunities | 1.36 | 0.03 | 1.39 | |
| condorPlotHeatmap | 0.21 | 0.03 | 0.24 | |
| condorQscore | 1.37 | 0.00 | 1.37 | |
| createCondorObject | 0 | 0 | 0 | |
| createPandaStyle | 0 | 0 | 0 | |
| lioness | 4.83 | 0.13 | 5.19 | |
| lionessPy | 0 | 0 | 0 | |
| monster | 6.70 | 0.75 | 7.45 | |
| monsterBereFull | 3.41 | 0.48 | 3.89 | |
| monsterCalculateTmPValues | 0.01 | 0.00 | 0.02 | |
| monsterCheckDataType | 0.38 | 0.36 | 0.73 | |
| monsterGetTm | 0 | 0 | 0 | |
| monsterHclHeatmapPlot | 0.92 | 0.02 | 0.94 | |
| monsterMonsterNI | 2.12 | 0.07 | 2.20 | |
| monsterPlotMonsterAnalysis | 40.50 | 1.35 | 41.85 | |
| monsterPrintMonsterAnalysis | 42.60 | 0.67 | 43.28 | |
| monsterTransformationMatrix | 0.83 | 0.00 | 0.82 | |
| monsterTransitionNetworkPlot | 0.37 | 0.02 | 0.40 | |
| monsterTransitionPCAPlot | 0.2 | 0.0 | 0.2 | |
| monsterdTFIPlot | 0.27 | 0.00 | 0.26 | |
| otter | 0.01 | 0.00 | 0.02 | |
| pandaPy | 0 | 0 | 0 | |
| pandaToAlpaca | 0 | 0 | 0 | |
| pandaToCondorObject | 0 | 0 | 0 | |
| runEgret | 0.00 | 0.00 | 0.04 | |
| sambar | 1.90 | 0.02 | 1.91 | |
| sourcePPI | 0.01 | 0.00 | 0.03 | |
| visPandaInCytoscape | 0 | 0 | 0 | |