| Back to Multiple platform build/check report for BioC 3.15 |
|
This page was generated on 2022-03-18 11:08:09 -0400 (Fri, 18 Mar 2022).
| Hostname | OS | Arch (*) | R version | Installed pkgs |
|---|---|---|---|---|
| nebbiolo1 | Linux (Ubuntu 20.04.4 LTS) | x86_64 | R Under development (unstable) (2022-02-17 r81757) -- "Unsuffered Consequences" | 4334 |
| riesling1 | Windows Server 2019 Standard | x64 | R Under development (unstable) (2021-11-21 r81221) -- "Unsuffered Consequences" | 4097 |
| palomino3 | Windows Server 2022 Datacenter | x64 | R Under development (unstable) (2022-02-17 r81757 ucrt) -- "Unsuffered Consequences" | 4083 |
| merida1 | macOS 10.14.6 Mojave | x86_64 | R Under development (unstable) (2022-03-02 r81842) -- "Unsuffered Consequences" | 4134 |
| Click on any hostname to see more info about the system (e.g. compilers) (*) as reported by 'uname -p', except on Windows and Mac OS X | ||||
|
To the developers/maintainers of the nearBynding package: - Please allow up to 24 hours (and sometimes 48 hours) for your latest push to git@git.bioconductor.org:packages/nearBynding.git to reflect on this report. See How and When does the builder pull? When will my changes propagate? here for more information. - Make sure to use the following settings in order to reproduce any error or warning you see on this page. |
| Package 1283/2090 | Hostname | OS / Arch | INSTALL | BUILD | CHECK | BUILD BIN | ||||||||
| nearBynding 1.5.0 (landing page) Veronica Busa
| nebbiolo1 | Linux (Ubuntu 20.04.4 LTS) / x86_64 | OK | OK | OK | |||||||||
| riesling1 | Windows Server 2019 Standard / x64 | OK | OK | OK | OK | |||||||||
| palomino3 | Windows Server 2022 Datacenter / x64 | OK | OK | OK | OK | |||||||||
| merida1 | macOS 10.14.6 Mojave / x86_64 | OK | OK | OK | OK | |||||||||
| Package: nearBynding |
| Version: 1.5.0 |
| Command: D:\biocbuild\bbs-3.15-bioc\R\bin\R.exe CMD check --no-multiarch --install=check:nearBynding.install-out.txt --library=D:\biocbuild\bbs-3.15-bioc\R\library --no-vignettes --timings nearBynding_1.5.0.tar.gz |
| StartedAt: 2022-03-17 19:43:20 -0400 (Thu, 17 Mar 2022) |
| EndedAt: 2022-03-17 19:47:20 -0400 (Thu, 17 Mar 2022) |
| EllapsedTime: 240.4 seconds |
| RetCode: 0 |
| Status: OK |
| CheckDir: nearBynding.Rcheck |
| Warnings: 0 |
##############################################################################
##############################################################################
###
### Running command:
###
### D:\biocbuild\bbs-3.15-bioc\R\bin\R.exe CMD check --no-multiarch --install=check:nearBynding.install-out.txt --library=D:\biocbuild\bbs-3.15-bioc\R\library --no-vignettes --timings nearBynding_1.5.0.tar.gz
###
##############################################################################
##############################################################################
* using log directory 'D:/biocbuild/bbs-3.15-bioc/meat/nearBynding.Rcheck'
* using R Under development (unstable) (2021-11-21 r81221)
* using platform: x86_64-w64-mingw32 (64-bit)
* using session charset: ISO8859-1
* using option '--no-vignettes'
* checking for file 'nearBynding/DESCRIPTION' ... OK
* checking extension type ... Package
* this is package 'nearBynding' version '1.5.0'
* package encoding: UTF-8
* checking package namespace information ... OK
* checking package dependencies ... OK
* checking if this is a source package ... OK
* checking if there is a namespace ... OK
* checking for hidden files and directories ... OK
* checking for portable file names ... OK
* checking whether package 'nearBynding' can be installed ... OK
* checking installed package size ... NOTE
installed size is 7.2Mb
sub-directories of 1Mb or more:
extdata 6.9Mb
* checking package directory ... OK
* checking 'build' directory ... OK
* checking DESCRIPTION meta-information ... OK
* checking top-level files ... OK
* checking for left-over files ... OK
* checking index information ... OK
* checking package subdirectories ... OK
* checking R files for non-ASCII characters ... OK
* checking R files for syntax errors ... OK
* checking whether the package can be loaded ... OK
* checking whether the package can be loaded with stated dependencies ... OK
* checking whether the package can be unloaded cleanly ... OK
* checking whether the namespace can be loaded with stated dependencies ... OK
* checking whether the namespace can be unloaded cleanly ... OK
* checking dependencies in R code ... OK
* checking S3 generic/method consistency ... OK
* checking replacement functions ... OK
* checking foreign function calls ... OK
* checking R code for possible problems ... OK
* checking Rd files ... OK
* checking Rd metadata ... OK
* checking Rd cross-references ... OK
* checking for missing documentation entries ... OK
* checking for code/documentation mismatches ... OK
* checking Rd \usage sections ... OK
* checking Rd contents ... OK
* checking for unstated dependencies in examples ... OK
* checking files in 'vignettes' ... OK
* checking examples ... OK
Examples with CPU (user + system) or elapsed time > 5s
user system elapsed
processCapRout 16.37 0.35 17.05
visualizeCapRStereogene 7.25 0.11 7.39
visualizeStereogene 6.81 0.08 7.00
* checking for unstated dependencies in vignettes ... OK
* checking package vignettes in 'inst/doc' ... OK
* checking running R code from vignettes ... SKIPPED
* checking re-building of vignette outputs ... SKIPPED
* checking PDF version of manual ... OK
* DONE
Status: 1 NOTE
See
'D:/biocbuild/bbs-3.15-bioc/meat/nearBynding.Rcheck/00check.log'
for details.
nearBynding.Rcheck/00install.out
##############################################################################
##############################################################################
###
### Running command:
###
### D:\biocbuild\bbs-3.15-bioc\R\bin\R.exe CMD INSTALL nearBynding
###
##############################################################################
##############################################################################
* installing to library 'D:/biocbuild/bbs-3.15-bioc/R/library'
* installing *source* package 'nearBynding' ...
** using staged installation
** R
** inst
** byte-compile and prepare package for lazy loading
** help
*** installing help indices
converting help for package 'nearBynding'
finding HTML links ... done
CleanBAMtoBG html
CleanBEDtoBG html
ExtractTranscriptomeSequence html
GenomeMappingToChainFile html
assessGrouping html
bindingContextDistance html
bindingContextDistanceCapR html
getChainChrSize html
get_outfiles html
liftOverToExomicBG html
nearBynding-package html
processCapRout html
runCapR html
runStereogene html
runStereogeneOnCapR html
symmetryCapR html
symmetryContext html
visualizeCapRStereogene html
visualizeStereogene html
write_config html
write_fasta html
** building package indices
** installing vignettes
** testing if installed package can be loaded from temporary location
** testing if installed package can be loaded from final location
** testing if installed package keeps a record of temporary installation path
* DONE (nearBynding)
Making 'packages.html' ...Warning in packageDescription(i, lib.loc = lib, fields = "Title", encoding = "UTF-8") :
DESCRIPTION file of package 'recount' is missing or broken
Warning in packageDescription(i, lib.loc = lib, fields = "Title", encoding = "UTF-8") :
DESCRIPTION file of package 'regionReport' is missing or broken
done
nearBynding.Rcheck/nearBynding-Ex.timings
| name | user | system | elapsed | |
| CleanBAMtoBG | 0.03 | 0.00 | 0.07 | |
| CleanBEDtoBG | 0.00 | 0.00 | 0.03 | |
| ExtractTranscriptomeSequence | 0 | 0 | 0 | |
| GenomeMappingToChainFile | 2.74 | 0.12 | 2.86 | |
| assessGrouping | 1.66 | 0.03 | 1.69 | |
| bindingContextDistance | 0.17 | 0.00 | 0.22 | |
| bindingContextDistanceCapR | 0.43 | 0.02 | 0.53 | |
| getChainChrSize | 2.24 | 0.00 | 2.28 | |
| get_outfiles | 0.01 | 0.01 | 0.03 | |
| liftOverToExomicBG | 2.71 | 0.00 | 2.83 | |
| nearBynding-package | 0 | 0 | 0 | |
| processCapRout | 16.37 | 0.35 | 17.05 | |
| runCapR | 0 | 0 | 0 | |
| runStereogene | 0 | 0 | 0 | |
| runStereogeneOnCapR | 0.00 | 0.01 | 0.01 | |
| symmetryCapR | 0.41 | 0.02 | 0.44 | |
| symmetryContext | 0.06 | 0.01 | 0.08 | |
| visualizeCapRStereogene | 7.25 | 0.11 | 7.39 | |
| visualizeStereogene | 6.81 | 0.08 | 7.00 | |
| write_config | 0 | 0 | 0 | |
| write_fasta | 0 | 0 | 0 | |