| Back to Multiple platform build/check report for BioC 3.15 |
|
This page was generated on 2022-10-19 13:23:21 -0400 (Wed, 19 Oct 2022).
| Hostname | OS | Arch (*) | R version | Installed pkgs |
|---|---|---|---|---|
| nebbiolo1 | Linux (Ubuntu 20.04.5 LTS) | x86_64 | 4.2.1 (2022-06-23) -- "Funny-Looking Kid" | 4386 |
| palomino3 | Windows Server 2022 Datacenter | x64 | 4.2.1 (2022-06-23 ucrt) -- "Funny-Looking Kid" | 4138 |
| merida1 | macOS 10.14.6 Mojave | x86_64 | 4.2.1 (2022-06-23) -- "Funny-Looking Kid" | 4205 |
| Click on any hostname to see more info about the system (e.g. compilers) (*) as reported by 'uname -p', except on Windows and Mac OS X | ||||
|
To the developers/maintainers of the musicatk package: - Please allow up to 24 hours (and sometimes 48 hours) for your latest push to git@git.bioconductor.org:packages/musicatk.git to reflect on this report. See How and When does the builder pull? When will my changes propagate? for more information. - Make sure to use the following settings in order to reproduce any error or warning you see on this page. |
| Package 1287/2140 | Hostname | OS / Arch | INSTALL | BUILD | CHECK | BUILD BIN | ||||||||
| musicatk 1.6.0 (landing page) Aaron Chevalier
| nebbiolo1 | Linux (Ubuntu 20.04.5 LTS) / x86_64 | OK | OK | OK | |||||||||
| palomino3 | Windows Server 2022 Datacenter / x64 | OK | OK | OK | OK | |||||||||
| merida1 | macOS 10.14.6 Mojave / x86_64 | OK | OK | OK | OK | |||||||||
| Package: musicatk |
| Version: 1.6.0 |
| Command: /Library/Frameworks/R.framework/Resources/bin/R CMD check --install=check:musicatk.install-out.txt --library=/Library/Frameworks/R.framework/Resources/library --no-vignettes --timings musicatk_1.6.0.tar.gz |
| StartedAt: 2022-10-19 05:17:38 -0400 (Wed, 19 Oct 2022) |
| EndedAt: 2022-10-19 05:28:05 -0400 (Wed, 19 Oct 2022) |
| EllapsedTime: 626.4 seconds |
| RetCode: 0 |
| Status: OK |
| CheckDir: musicatk.Rcheck |
| Warnings: 0 |
##############################################################################
##############################################################################
###
### Running command:
###
### /Library/Frameworks/R.framework/Resources/bin/R CMD check --install=check:musicatk.install-out.txt --library=/Library/Frameworks/R.framework/Resources/library --no-vignettes --timings musicatk_1.6.0.tar.gz
###
##############################################################################
##############################################################################
* using log directory ‘/Users/biocbuild/bbs-3.15-bioc/meat/musicatk.Rcheck’
* using R version 4.2.1 (2022-06-23)
* using platform: x86_64-apple-darwin17.0 (64-bit)
* using session charset: UTF-8
* using option ‘--no-vignettes’
* checking for file ‘musicatk/DESCRIPTION’ ... OK
* checking extension type ... Package
* this is package ‘musicatk’ version ‘1.6.0’
* package encoding: UTF-8
* checking package namespace information ... OK
* checking package dependencies ... OK
* checking if this is a source package ... OK
* checking if there is a namespace ... OK
* checking for hidden files and directories ... OK
* checking for portable file names ... OK
* checking for sufficient/correct file permissions ... OK
* checking whether package ‘musicatk’ can be installed ... OK
* checking installed package size ... OK
* checking package directory ... OK
* checking ‘build’ directory ... OK
* checking DESCRIPTION meta-information ... OK
* checking top-level files ... OK
* checking for left-over files ... OK
* checking index information ... OK
* checking package subdirectories ... OK
* checking R files for non-ASCII characters ... OK
* checking R files for syntax errors ... OK
* checking whether the package can be loaded ... OK
* checking whether the package can be loaded with stated dependencies ... OK
* checking whether the package can be unloaded cleanly ... OK
* checking whether the namespace can be loaded with stated dependencies ... OK
* checking whether the namespace can be unloaded cleanly ... OK
* checking dependencies in R code ... NOTE
Namespaces in Imports field not imported from:
‘TCGAbiolinks’ ‘shinyBS’ ‘shinyalert’ ‘shinybusy’ ‘shinydashboard’
‘shinyjqui’ ‘shinyjs’ ‘sortable’
All declared Imports should be used.
* checking S3 generic/method consistency ... OK
* checking replacement functions ... OK
* checking foreign function calls ... OK
* checking R code for possible problems ... OK
* checking Rd files ... OK
* checking Rd metadata ... OK
* checking Rd cross-references ... OK
* checking for missing documentation entries ... OK
* checking for code/documentation mismatches ... OK
* checking Rd \usage sections ... OK
* checking Rd contents ... OK
* checking for unstated dependencies in examples ... OK
* checking contents of ‘data’ directory ... OK
* checking data for non-ASCII characters ... OK
* checking LazyData ... OK
* checking data for ASCII and uncompressed saves ... OK
* checking files in ‘vignettes’ ... OK
* checking examples ... OK
Examples with CPU (user + system) or elapsed time > 5s
user system elapsed
build_standard_table 15.077 0.834 15.941
extract_variants 8.149 0.065 8.226
create_umap 5.812 0.062 5.867
plot_cluster 5.518 0.141 5.658
add_flank_to_variants 5.104 0.311 5.424
* checking for unstated dependencies in ‘tests’ ... OK
* checking tests ...
Running ‘testthat.R’
OK
* checking for unstated dependencies in vignettes ... OK
* checking package vignettes in ‘inst/doc’ ... OK
* checking running R code from vignettes ... SKIPPED
* checking re-building of vignette outputs ... SKIPPED
* checking PDF version of manual ... OK
* DONE
Status: 1 NOTE
See
‘/Users/biocbuild/bbs-3.15-bioc/meat/musicatk.Rcheck/00check.log’
for details.
musicatk.Rcheck/00install.out
############################################################################## ############################################################################## ### ### Running command: ### ### /Library/Frameworks/R.framework/Resources/bin/R CMD INSTALL musicatk ### ############################################################################## ############################################################################## * installing to library ‘/Library/Frameworks/R.framework/Versions/4.2/Resources/library’ * installing *source* package ‘musicatk’ ... ** using staged installation ** R ** data *** moving datasets to lazyload DB ** inst ** byte-compile and prepare package for lazy loading ** help *** installing help indices ** building package indices ** installing vignettes ** testing if installed package can be loaded from temporary location ** testing if installed package can be loaded from final location ** testing if installed package keeps a record of temporary installation path * DONE (musicatk)
musicatk.Rcheck/tests/testthat.Rout
R version 4.2.1 (2022-06-23) -- "Funny-Looking Kid"
Copyright (C) 2022 The R Foundation for Statistical Computing
Platform: x86_64-apple-darwin17.0 (64-bit)
R is free software and comes with ABSOLUTELY NO WARRANTY.
You are welcome to redistribute it under certain conditions.
Type 'license()' or 'licence()' for distribution details.
R is a collaborative project with many contributors.
Type 'contributors()' for more information and
'citation()' on how to cite R or R packages in publications.
Type 'demo()' for some demos, 'help()' for on-line help, or
'help.start()' for an HTML browser interface to help.
Type 'q()' to quit R.
> library("testthat")
> library("musicatk")
Loading required package: NMF
Loading required package: pkgmaker
Loading required package: registry
Loading required package: rngtools
Loading required package: cluster
NMF - BioConductor layer [OK] | Shared memory capabilities [NO: synchronicity] | Cores 23/24
To enable shared memory capabilities, try: install.extras('
NMF
')
Attaching package: 'NMF'
The following object is masked from 'package:testthat':
compare
>
> test_check("musicatk")
[ FAIL 0 | WARN 4 | SKIP 0 | PASS 42 ]
[ FAIL 0 | WARN 4 | SKIP 0 | PASS 42 ]
>
> proc.time()
user system elapsed
34.527 1.339 35.879
musicatk.Rcheck/musicatk-Ex.timings
| name | user | system | elapsed | |
| add_flank_to_variants | 5.104 | 0.311 | 5.424 | |
| add_variant_type | 0.025 | 0.003 | 0.028 | |
| annotate_replication_strand | 1.320 | 0.015 | 1.344 | |
| annotate_transcript_strand | 2.189 | 0.050 | 2.271 | |
| annotate_variant_length | 0.019 | 0.003 | 0.023 | |
| annotate_variant_type | 0.004 | 0.002 | 0.006 | |
| auto_predict_grid | 3.483 | 0.097 | 3.670 | |
| build_custom_table | 1.803 | 0.023 | 1.834 | |
| build_standard_table | 15.077 | 0.834 | 15.941 | |
| built_tables | 0.003 | 0.001 | 0.004 | |
| cluster_exposure | 0.024 | 0.003 | 0.028 | |
| combine_count_tables | 4.459 | 0.230 | 4.694 | |
| combine_predict_grid | 3.555 | 0.070 | 3.629 | |
| compare_cosmic_v2 | 4.839 | 0.019 | 4.869 | |
| compare_cosmic_v3 | 2.103 | 0.007 | 2.113 | |
| compare_results | 2.713 | 0.008 | 2.725 | |
| cosmic_v2_subtype_map | 0.002 | 0.001 | 0.002 | |
| create_musica | 1.560 | 0.163 | 1.803 | |
| create_umap | 5.812 | 0.062 | 5.867 | |
| discover_signatures | 1.293 | 0.093 | 1.389 | |
| drop_annotation | 0.004 | 0.002 | 0.006 | |
| exposure_differential_analysis | 0.032 | 0.003 | 0.035 | |
| exposures | 0.006 | 0.005 | 0.012 | |
| extract_count_tables | 0.008 | 0.003 | 0.010 | |
| extract_variants | 8.149 | 0.065 | 8.226 | |
| extract_variants_from_maf | 0.209 | 0.002 | 0.212 | |
| extract_variants_from_maf_file | 0.179 | 0.002 | 0.180 | |
| extract_variants_from_matrix | 0.201 | 0.002 | 0.204 | |
| extract_variants_from_vcf | 1.319 | 0.024 | 1.344 | |
| extract_variants_from_vcf_file | 0.926 | 0.005 | 0.932 | |
| generate_result_grid | 0.291 | 0.003 | 0.293 | |
| get_musica | 0.011 | 0.003 | 0.014 | |
| k_select | 1.614 | 0.020 | 1.636 | |
| musicatk | 0.000 | 0.000 | 0.001 | |
| name_signatures | 0.005 | 0.003 | 0.007 | |
| pipe | 0.003 | 0.001 | 0.004 | |
| plot_cluster | 5.518 | 0.141 | 5.658 | |
| plot_differential_analysis | 0.323 | 0.003 | 0.326 | |
| plot_exposures | 0.363 | 0.010 | 0.375 | |
| plot_heatmap | 1.537 | 0.018 | 1.557 | |
| plot_sample_counts | 0.685 | 0.007 | 0.694 | |
| plot_sample_reconstruction_error | 1.196 | 0.004 | 1.202 | |
| plot_signatures | 1.096 | 0.006 | 1.103 | |
| plot_umap | 4.683 | 0.051 | 4.730 | |
| predict_exposure | 2.130 | 0.108 | 2.241 | |
| rc | 0.003 | 0.000 | 0.003 | |
| samp_annot | 0.011 | 0.004 | 0.015 | |
| sample_names | 0.004 | 0.002 | 0.006 | |
| select_genome | 0.001 | 0.000 | 0.000 | |
| signatures | 0.008 | 0.005 | 0.013 | |
| subset_musica_by_annotation | 0.008 | 0.002 | 0.011 | |
| subset_musica_by_counts | 0.009 | 0.002 | 0.011 | |
| subset_variant_by_type | 0.008 | 0.002 | 0.011 | |
| subset_variants_by_samples | 0.006 | 0.001 | 0.008 | |
| table_selected | 0.004 | 0.002 | 0.005 | |
| tables | 0.013 | 0.004 | 0.017 | |
| umap | 0.007 | 0.003 | 0.010 | |
| variants | 0.013 | 0.005 | 0.018 | |