| Back to Multiple platform build/check report for BioC 3.15 |
|
This page was generated on 2022-10-19 13:20:30 -0400 (Wed, 19 Oct 2022).
| Hostname | OS | Arch (*) | R version | Installed pkgs |
|---|---|---|---|---|
| nebbiolo1 | Linux (Ubuntu 20.04.5 LTS) | x86_64 | 4.2.1 (2022-06-23) -- "Funny-Looking Kid" | 4386 |
| palomino3 | Windows Server 2022 Datacenter | x64 | 4.2.1 (2022-06-23 ucrt) -- "Funny-Looking Kid" | 4138 |
| merida1 | macOS 10.14.6 Mojave | x86_64 | 4.2.1 (2022-06-23) -- "Funny-Looking Kid" | 4205 |
| Click on any hostname to see more info about the system (e.g. compilers) (*) as reported by 'uname -p', except on Windows and Mac OS X | ||||
|
To the developers/maintainers of the metagenomeSeq package: - Please allow up to 24 hours (and sometimes 48 hours) for your latest push to git@git.bioconductor.org:packages/metagenomeSeq.git to reflect on this report. See How and When does the builder pull? When will my changes propagate? for more information. - Make sure to use the following settings in order to reproduce any error or warning you see on this page. |
| Package 1129/2140 | Hostname | OS / Arch | INSTALL | BUILD | CHECK | BUILD BIN | ||||||||
| metagenomeSeq 1.38.0 (landing page) Joseph N. Paulson
| nebbiolo1 | Linux (Ubuntu 20.04.5 LTS) / x86_64 | OK | OK | OK | |||||||||
| palomino3 | Windows Server 2022 Datacenter / x64 | OK | OK | OK | OK | |||||||||
| merida1 | macOS 10.14.6 Mojave / x86_64 | OK | OK | OK | OK | |||||||||
| Package: metagenomeSeq |
| Version: 1.38.0 |
| Command: /home/biocbuild/bbs-3.15-bioc/R/bin/R CMD check --install=check:metagenomeSeq.install-out.txt --library=/home/biocbuild/bbs-3.15-bioc/R/library --no-vignettes --timings metagenomeSeq_1.38.0.tar.gz |
| StartedAt: 2022-10-18 20:29:30 -0400 (Tue, 18 Oct 2022) |
| EndedAt: 2022-10-18 20:33:05 -0400 (Tue, 18 Oct 2022) |
| EllapsedTime: 215.8 seconds |
| RetCode: 0 |
| Status: OK |
| CheckDir: metagenomeSeq.Rcheck |
| Warnings: 0 |
##############################################################################
##############################################################################
###
### Running command:
###
### /home/biocbuild/bbs-3.15-bioc/R/bin/R CMD check --install=check:metagenomeSeq.install-out.txt --library=/home/biocbuild/bbs-3.15-bioc/R/library --no-vignettes --timings metagenomeSeq_1.38.0.tar.gz
###
##############################################################################
##############################################################################
* using log directory ‘/home/biocbuild/bbs-3.15-bioc/meat/metagenomeSeq.Rcheck’
* using R version 4.2.1 (2022-06-23)
* using platform: x86_64-pc-linux-gnu (64-bit)
* using session charset: UTF-8
* using option ‘--no-vignettes’
* checking for file ‘metagenomeSeq/DESCRIPTION’ ... OK
* this is package ‘metagenomeSeq’ version ‘1.38.0’
* checking package namespace information ... OK
* checking package dependencies ... OK
* checking if this is a source package ... OK
* checking if there is a namespace ... OK
* checking for hidden files and directories ... OK
* checking for portable file names ... OK
* checking for sufficient/correct file permissions ... OK
* checking whether package ‘metagenomeSeq’ can be installed ... OK
* checking installed package size ... OK
* checking package directory ... OK
* checking ‘build’ directory ... OK
* checking DESCRIPTION meta-information ... OK
* checking top-level files ... OK
* checking for left-over files ... OK
* checking index information ... OK
* checking package subdirectories ... OK
* checking R files for non-ASCII characters ... OK
* checking R files for syntax errors ... OK
* checking whether the package can be loaded ... OK
* checking whether the package can be loaded with stated dependencies ... OK
* checking whether the package can be unloaded cleanly ... OK
* checking whether the namespace can be loaded with stated dependencies ... OK
* checking whether the namespace can be unloaded cleanly ... OK
* checking dependencies in R code ... OK
* checking S3 generic/method consistency ... OK
* checking replacement functions ... OK
* checking foreign function calls ... OK
* checking R code for possible problems ... OK
* checking Rd files ... OK
* checking Rd metadata ... OK
* checking Rd cross-references ... OK
* checking for missing documentation entries ... OK
* checking for code/documentation mismatches ... OK
* checking Rd \usage sections ... OK
* checking Rd contents ... OK
* checking for unstated dependencies in examples ... OK
* checking contents of ‘data’ directory ... OK
* checking data for non-ASCII characters ... OK
* checking data for ASCII and uncompressed saves ... OK
* checking files in ‘vignettes’ ... OK
* checking examples ... OK
Examples with CPU (user + system) or elapsed time > 5s
user system elapsed
wrenchNorm 13.290 0.192 13.482
MRfulltable 1.068 0.074 5.750
* checking for unstated dependencies in ‘tests’ ... OK
* checking tests ...
Running ‘testthat.R’
OK
* checking for unstated dependencies in vignettes ... OK
* checking package vignettes in ‘inst/doc’ ... OK
* checking running R code from vignettes ... SKIPPED
* checking re-building of vignette outputs ... SKIPPED
* checking PDF version of manual ... OK
* DONE
Status: OK
metagenomeSeq.Rcheck/00install.out
############################################################################## ############################################################################## ### ### Running command: ### ### /home/biocbuild/bbs-3.15-bioc/R/bin/R CMD INSTALL metagenomeSeq ### ############################################################################## ############################################################################## * installing to library ‘/home/biocbuild/bbs-3.15-bioc/R/library’ * installing *source* package ‘metagenomeSeq’ ... ** using staged installation ** R ** data ** inst ** byte-compile and prepare package for lazy loading in method for ‘MRihw’ with signature ‘"fitFeatureModelResults"’: no definition for class “fitFeatureModelResults” in method for ‘MRihw’ with signature ‘"fitZigResults"’: no definition for class “fitZigResults” ** help *** installing help indices ** building package indices ** installing vignettes ** testing if installed package can be loaded from temporary location ** testing if installed package can be loaded from final location ** testing if installed package keeps a record of temporary installation path * DONE (metagenomeSeq)
metagenomeSeq.Rcheck/tests/testthat.Rout
R version 4.2.1 (2022-06-23) -- "Funny-Looking Kid"
Copyright (C) 2022 The R Foundation for Statistical Computing
Platform: x86_64-pc-linux-gnu (64-bit)
R is free software and comes with ABSOLUTELY NO WARRANTY.
You are welcome to redistribute it under certain conditions.
Type 'license()' or 'licence()' for distribution details.
R is a collaborative project with many contributors.
Type 'contributors()' for more information and
'citation()' on how to cite R or R packages in publications.
Type 'demo()' for some demos, 'help()' for on-line help, or
'help.start()' for an HTML browser interface to help.
Type 'q()' to quit R.
> library("testthat")
> packageVersion("metagenomeSeq")
[1] '1.38.0'
> # As suggested for opt-out option on testing by users,
> # recommended by CRAN: http://adv-r.had.co.nz/Testing.html
> # Previously, best practice was to put all test files in inst/tests
> # and ensure that R CMD check ran them by putting the following code in tests/test-all.R:
> # >library(testthat)
> # >library(yourpackage)
> # >test_package("yourpackage")
> # Now, recommended practice is to put your tests in tests/testthat,
> # and ensure R CMD check runs them by putting the following code in tests/test-all.R:
> # >library(testthat)
> # >test_check("yourpackage")
> # The advantage of this new structure is that the user has control over whether or not tests are installed using the –install-tests parameter to
> # R CMD install, or INSTALL_opts = c(“–install-tests”) argument to install.packages(). I’m not sure why you wouldn’t want to install the tests,
> # but now you have the flexibility as requested by CRAN maintainers.
> test_check("metagenomeSeq")
Loading required package: metagenomeSeq
Loading required package: Biobase
Loading required package: BiocGenerics
Attaching package: 'BiocGenerics'
The following objects are masked from 'package:stats':
IQR, mad, sd, var, xtabs
The following objects are masked from 'package:base':
Filter, Find, Map, Position, Reduce, anyDuplicated, append,
as.data.frame, basename, cbind, colnames, dirname, do.call,
duplicated, eval, evalq, get, grep, grepl, intersect, is.unsorted,
lapply, mapply, match, mget, order, paste, pmax, pmax.int, pmin,
pmin.int, rank, rbind, rownames, sapply, setdiff, sort, table,
tapply, union, unique, unsplit, which.max, which.min
Welcome to Bioconductor
Vignettes contain introductory material; view with
'browseVignettes()'. To cite Bioconductor, see
'citation("Biobase")', and for packages 'citation("pkgname")'.
Loading required package: limma
Attaching package: 'limma'
The following object is masked from 'package:BiocGenerics':
plotMA
Loading required package: glmnet
Loading required package: Matrix
Loaded glmnet 4.1-4
Loading required package: RColorBrewer
[ FAIL 0 | WARN 6 | SKIP 0 | PASS 15 ]
[ FAIL 0 | WARN 6 | SKIP 0 | PASS 15 ]
>
> proc.time()
user system elapsed
86.311 2.614 88.915
metagenomeSeq.Rcheck/metagenomeSeq-Ex.timings
| name | user | system | elapsed | |
| MRcoefs | 1.124 | 0.089 | 1.212 | |
| MRcounts | 0.524 | 0.036 | 0.561 | |
| MRexperiment-class | 0.001 | 0.000 | 0.000 | |
| MRfulltable | 1.068 | 0.074 | 5.750 | |
| MRtable | 0.994 | 0.015 | 1.010 | |
| aggregateBySample | 0.133 | 0.008 | 0.142 | |
| aggregateByTaxonomy | 0.146 | 0.012 | 0.158 | |
| biom2MRexperiment | 0.204 | 0.004 | 0.208 | |
| calcNormFactors | 0.470 | 0.024 | 0.493 | |
| correctIndices | 0.106 | 0.088 | 0.194 | |
| correlationTest | 0.216 | 0.032 | 0.247 | |
| cumNorm | 0.508 | 0.068 | 0.576 | |
| cumNormMat | 0.496 | 0.016 | 0.513 | |
| cumNormStat | 0.714 | 0.128 | 0.842 | |
| cumNormStatFast | 0.311 | 0.044 | 0.355 | |
| expSummary | 0.078 | 0.040 | 0.118 | |
| exportMat | 0.869 | 3.624 | 4.492 | |
| exportStats | 0.397 | 0.040 | 0.438 | |
| extractMR | 0.629 | 1.596 | 2.224 | |
| filterData | 0.151 | 0.020 | 0.170 | |
| fitDO | 0.584 | 0.013 | 3.112 | |
| fitFeatureModel | 0.841 | 0.012 | 0.852 | |
| fitLogNormal | 1.871 | 0.000 | 1.872 | |
| fitMultipleTimeSeries | 1.685 | 0.012 | 1.700 | |
| fitPA | 0.327 | 0.005 | 2.562 | |
| fitSSTimeSeries | 0.432 | 0.012 | 0.444 | |
| fitTimeSeries | 0.366 | 0.008 | 0.373 | |
| fitZig | 1.791 | 0.001 | 1.792 | |
| libSize-set | 0.292 | 0.011 | 0.304 | |
| libSize | 0.297 | 0.000 | 0.296 | |
| loadBiom | 0.034 | 0.000 | 0.034 | |
| loadMeta | 0.014 | 0.000 | 0.015 | |
| loadMetaQ | 0 | 0 | 0 | |
| loadPhenoData | 0.006 | 0.001 | 0.007 | |
| makeLabels | 0.001 | 0.000 | 0.001 | |
| mergeMRexperiments | 1.619 | 0.172 | 1.791 | |
| newMRexperiment | 0.027 | 0.000 | 0.027 | |
| normFactors-set | 0.328 | 0.000 | 0.328 | |
| normFactors | 0.285 | 0.004 | 0.289 | |
| plotBubble | 0.323 | 0.016 | 2.781 | |
| plotClassTimeSeries | 0.975 | 0.019 | 0.994 | |
| plotCorr | 0.424 | 0.016 | 0.441 | |
| plotFeature | 0.143 | 0.012 | 0.155 | |
| plotGenus | 0.133 | 0.020 | 0.152 | |
| plotMRheatmap | 1.685 | 0.027 | 1.713 | |
| plotOTU | 0.133 | 0.017 | 0.149 | |
| plotOrd | 0.211 | 0.004 | 0.215 | |
| plotRare | 0.113 | 0.020 | 0.133 | |
| plotTimeSeries | 0.985 | 0.000 | 0.985 | |
| posteriorProbs | 1.802 | 0.020 | 1.822 | |
| returnAppropriateObj | 0.285 | 0.004 | 0.289 | |
| ssFit | 0 | 0 | 0 | |
| ssIntervalCandidate | 0.001 | 0.000 | 0.001 | |
| ssPerm | 0 | 0 | 0 | |
| ssPermAnalysis | 0 | 0 | 0 | |
| trapz | 0.001 | 0.000 | 0.000 | |
| ts2MRexperiment | 1.453 | 0.004 | 1.457 | |
| uniqueFeatures | 0.115 | 0.003 | 0.119 | |
| wrenchNorm | 13.290 | 0.192 | 13.482 | |
| zigControl | 0.000 | 0.000 | 0.001 | |