| Back to Multiple platform build/check report for BioC 3.15 |
|
This page was generated on 2022-10-19 13:21:45 -0400 (Wed, 19 Oct 2022).
| Hostname | OS | Arch (*) | R version | Installed pkgs |
|---|---|---|---|---|
| nebbiolo1 | Linux (Ubuntu 20.04.5 LTS) | x86_64 | 4.2.1 (2022-06-23) -- "Funny-Looking Kid" | 4386 |
| palomino3 | Windows Server 2022 Datacenter | x64 | 4.2.1 (2022-06-23 ucrt) -- "Funny-Looking Kid" | 4138 |
| merida1 | macOS 10.14.6 Mojave | x86_64 | 4.2.1 (2022-06-23) -- "Funny-Looking Kid" | 4205 |
| Click on any hostname to see more info about the system (e.g. compilers) (*) as reported by 'uname -p', except on Windows and Mac OS X | ||||
|
To the developers/maintainers of the maigesPack package: - Please allow up to 24 hours (and sometimes 48 hours) for your latest push to git@git.bioconductor.org:packages/maigesPack.git to reflect on this report. See How and When does the builder pull? When will my changes propagate? for more information. - Make sure to use the following settings in order to reproduce any error or warning you see on this page. |
| Package 1065/2140 | Hostname | OS / Arch | INSTALL | BUILD | CHECK | BUILD BIN | ||||||||
| maigesPack 1.60.0 (landing page) Gustavo H. Esteves
| nebbiolo1 | Linux (Ubuntu 20.04.5 LTS) / x86_64 | OK | OK | OK | |||||||||
| palomino3 | Windows Server 2022 Datacenter / x64 | OK | OK | OK | OK | |||||||||
| merida1 | macOS 10.14.6 Mojave / x86_64 | OK | OK | OK | OK | |||||||||
| Package: maigesPack |
| Version: 1.60.0 |
| Command: F:\biocbuild\bbs-3.15-bioc\R\bin\R.exe CMD check --no-multiarch --install=check:maigesPack.install-out.txt --library=F:\biocbuild\bbs-3.15-bioc\R\library --no-vignettes --timings maigesPack_1.60.0.tar.gz |
| StartedAt: 2022-10-19 01:29:56 -0400 (Wed, 19 Oct 2022) |
| EndedAt: 2022-10-19 01:32:09 -0400 (Wed, 19 Oct 2022) |
| EllapsedTime: 132.8 seconds |
| RetCode: 0 |
| Status: OK |
| CheckDir: maigesPack.Rcheck |
| Warnings: 0 |
##############################################################################
##############################################################################
###
### Running command:
###
### F:\biocbuild\bbs-3.15-bioc\R\bin\R.exe CMD check --no-multiarch --install=check:maigesPack.install-out.txt --library=F:\biocbuild\bbs-3.15-bioc\R\library --no-vignettes --timings maigesPack_1.60.0.tar.gz
###
##############################################################################
##############################################################################
* using log directory 'F:/biocbuild/bbs-3.15-bioc/meat/maigesPack.Rcheck'
* using R version 4.2.1 (2022-06-23 ucrt)
* using platform: x86_64-w64-mingw32 (64-bit)
* using session charset: UTF-8
* using option '--no-vignettes'
* checking for file 'maigesPack/DESCRIPTION' ... OK
* this is package 'maigesPack' version '1.60.0'
* checking package namespace information ... OK
* checking package dependencies ... OK
* checking if this is a source package ... OK
* checking if there is a namespace ... OK
* checking for hidden files and directories ... NOTE
Found the following hidden files and directories:
.BBSoptions
These were most likely included in error. See section 'Package
structure' in the 'Writing R Extensions' manual.
* checking for portable file names ... OK
* checking whether package 'maigesPack' can be installed ... OK
* checking installed package size ... OK
* checking package directory ... OK
* checking 'build' directory ... OK
* checking DESCRIPTION meta-information ... NOTE
Malformed Description field: should contain one or more complete sentences.
* checking top-level files ... OK
* checking for left-over files ... OK
* checking index information ... OK
* checking package subdirectories ... OK
* checking R files for non-ASCII characters ... OK
* checking R files for syntax errors ... OK
* checking whether the package can be loaded ... OK
* checking whether the package can be loaded with stated dependencies ... OK
* checking whether the package can be unloaded cleanly ... OK
* checking whether the namespace can be loaded with stated dependencies ... OK
* checking whether the namespace can be unloaded cleanly ... OK
* checking dependencies in R code ... NOTE
'library' or 'require' calls in package code:
'OLIN' 'annotate' 'rgl'
Please use :: or requireNamespace() instead.
See section 'Suggested packages' in the 'Writing R Extensions' manual.
* checking S3 generic/method consistency ... OK
* checking replacement functions ... OK
* checking foreign function calls ... OK
* checking R code for possible problems ... NOTE
activeMod: no visible global function definition for 'sessionInfo'
activeModScoreHTML: no visible binding for global variable 'data'
activeNet: no visible global function definition for 'sessionInfo'
activeNetScoreHTML: no visible binding for global variable 'data'
blackBlue: no visible global function definition for 'col2rgb'
blackBlue: no visible global function definition for 'rgb'
classifyKNN: no visible global function definition for 'sessionInfo'
classifyKNNsc: no visible global function definition for 'sessionInfo'
classifyLDA: no visible global function definition for 'sessionInfo'
classifyLDAsc: no visible global function definition for 'sessionInfo'
classifySVM: no visible global function definition for 'sessionInfo'
classifySVMsc: no visible global function definition for 'sessionInfo'
createMaigesRaw: no visible global function definition for
'sessionInfo'
createTDMS: no visible global function definition for 'write.table'
deGenes2by2BootT: no visible global function definition for
'sessionInfo'
deGenes2by2Ttest: no visible global function definition for
'sessionInfo'
deGenes2by2Wilcox: no visible global function definition for
'sessionInfo'
deGenesANOVA: no visible global function definition for 'sessionInfo'
designANOVA: no visible global function definition for 'sessionInfo'
greenRed: no visible global function definition for 'col2rgb'
greenRed: no visible global function definition for 'rgb'
loadData: no visible global function definition for 'read.table'
loadData: no visible global function definition for 'sessionInfo'
normLoc: no visible global function definition for 'sessionInfo'
normOLIN: no visible global function definition for 'sessionInfo'
normRepLoess: no visible global function definition for 'sessionInfo'
normScaleLimma: no visible global function definition for 'sessionInfo'
normScaleMarray: no visible global function definition for
'sessionInfo'
print.maiges: no visible global function definition for 'str'
print.maigesANOVA: no visible global function definition for 'str'
print.maigesPreRaw: no visible global function definition for 'str'
print.maigesRaw: no visible global function definition for 'str'
relNet2TGF.maigesRelNetB: no visible global function definition for
'write.table'
relNet2TGF.maigesRelNetM: no visible global function definition for
'write.table'
relNetworkB: no visible global function definition for 'sessionInfo'
relNetworkM: no visible global function definition for 'sessionInfo'
selSpots: no visible global function definition for 'sessionInfo'
summarizeReplicates: no visible global function definition for
'sessionInfo'
tableClass: no visible global function definition for 'write.table'
tablesDE: no visible global function definition for 'setRepository'
tablesDE: no visible global function definition for 'write.table'
Undefined global functions or variables:
col2rgb data read.table rgb sessionInfo setRepository str write.table
Consider adding
importFrom("grDevices", "col2rgb", "rgb")
importFrom("utils", "data", "read.table", "sessionInfo", "str",
"write.table")
to your NAMESPACE file.
* checking Rd files ... OK
* checking Rd metadata ... OK
* checking Rd cross-references ... OK
* checking for missing documentation entries ... OK
* checking for code/documentation mismatches ... OK
* checking Rd \usage sections ... OK
* checking Rd contents ... OK
* checking for unstated dependencies in examples ... OK
* checking contents of 'data' directory ... OK
* checking data for non-ASCII characters ... OK
* checking data for ASCII and uncompressed saves ... OK
* checking line endings in C/C++/Fortran sources/headers ... OK
* checking compiled code ... NOTE
Note: information on .o files for x64 is not available
File 'F:/biocbuild/bbs-3.15-bioc/R/library/maigesPack/libs/x64/maigesPack.dll':
Found 'abort', possibly from 'abort' (C), 'runtime' (Fortran)
Compiled code should not call entry points which might terminate R nor
write to stdout/stderr instead of to the console, nor use Fortran I/O
nor system RNGs. The detected symbols are linked into the code but
might come from libraries and not actually be called.
See 'Writing portable packages' in the 'Writing R Extensions' manual.
* checking sizes of PDF files under 'inst/doc' ... OK
* checking files in 'vignettes' ... OK
* checking examples ... OK
Examples with CPU (user + system) or elapsed time > 5s
user system elapsed
normScaleLimma 6.93 0.53 7.47
plot-methods 4.83 0.23 5.11
* checking for unstated dependencies in vignettes ... OK
* checking package vignettes in 'inst/doc' ... OK
* checking running R code from vignettes ... SKIPPED
* checking re-building of vignette outputs ... SKIPPED
* checking PDF version of manual ... OK
* DONE
Status: 5 NOTEs
See
'F:/biocbuild/bbs-3.15-bioc/meat/maigesPack.Rcheck/00check.log'
for details.
maigesPack.Rcheck/00install.out
############################################################################## ############################################################################## ### ### Running command: ### ### F:\biocbuild\bbs-3.15-bioc\R\bin\R.exe CMD INSTALL maigesPack ### ############################################################################## ############################################################################## * installing to library 'F:/biocbuild/bbs-3.15-bioc/R/library' * installing *source* package 'maigesPack' ... ** using staged installation ** libs gcc -I"F:/biocbuild/bbs-3.15-bioc/R/include" -DNDEBUG -I"C:/rtools42/x86_64-w64-mingw32.static.posix/include" -O2 -Wall -std=gnu99 -mfpmath=sse -msse2 -mstackrealign -c Minfo.c -o Minfo.o gcc -I"F:/biocbuild/bbs-3.15-bioc/R/include" -DNDEBUG -I"C:/rtools42/x86_64-w64-mingw32.static.posix/include" -O2 -Wall -std=gnu99 -mfpmath=sse -msse2 -mstackrealign -c bootstrapT.c -o bootstrapT.o gcc -I"F:/biocbuild/bbs-3.15-bioc/R/include" -DNDEBUG -I"C:/rtools42/x86_64-w64-mingw32.static.posix/include" -O2 -Wall -std=gnu99 -mfpmath=sse -msse2 -mstackrealign -c register.c -o register.o gcc -I"F:/biocbuild/bbs-3.15-bioc/R/include" -DNDEBUG -I"C:/rtools42/x86_64-w64-mingw32.static.posix/include" -O2 -Wall -std=gnu99 -mfpmath=sse -msse2 -mstackrealign -c robustCorr.c -o robustCorr.o gcc -I"F:/biocbuild/bbs-3.15-bioc/R/include" -DNDEBUG -I"C:/rtools42/x86_64-w64-mingw32.static.posix/include" -O2 -Wall -std=gnu99 -mfpmath=sse -msse2 -mstackrealign -c stats.c -o stats.o gcc -shared -s -static-libgcc -o maigesPack.dll tmp.def Minfo.o bootstrapT.o register.o robustCorr.o stats.o -LC:/rtools42/x86_64-w64-mingw32.static.posix/lib/x64 -LC:/rtools42/x86_64-w64-mingw32.static.posix/lib -LF:/biocbuild/bbs-3.15-bioc/R/bin/x64 -lR installing to F:/biocbuild/bbs-3.15-bioc/R/library/00LOCK-maigesPack/00new/maigesPack/libs/x64 ** R ** data ** byte-compile and prepare package for lazy loading ** help *** installing help indices ** building package indices ** installing vignettes ** testing if installed package can be loaded from temporary location ** testing if installed package can be loaded from final location ** testing if installed package keeps a record of temporary installation path * DONE (maigesPack)
maigesPack.Rcheck/maigesPack-Ex.timings
| name | user | system | elapsed | |
| MI | 0 | 0 | 0 | |
| activeMod | 1.09 | 0.08 | 1.17 | |
| activeModScoreHTML | 0.70 | 0.03 | 0.73 | |
| activeNet | 2.56 | 0.19 | 2.75 | |
| activeNetScoreHTML | 2.74 | 0.12 | 2.86 | |
| addGeneGrps | 0 | 0 | 0 | |
| addPaths | 0 | 0 | 0 | |
| bootstrapCor | 0.04 | 0.00 | 0.05 | |
| bootstrapMI | 0.16 | 0.00 | 0.15 | |
| bootstrapT | 0 | 0 | 0 | |
| boxplot-methods | 2.66 | 1.16 | 3.82 | |
| bracketMethods | 0.12 | 0.00 | 0.12 | |
| calcA | 0.16 | 0.11 | 0.27 | |
| calcW | 0.22 | 0.06 | 0.28 | |
| classifyKNN | 0.15 | 0.01 | 0.17 | |
| classifyKNNsc | 0.22 | 0.00 | 0.22 | |
| classifyLDA | 0.47 | 0.05 | 0.51 | |
| classifyLDAsc | 0.81 | 0.03 | 0.85 | |
| classifySVM | 0.33 | 0.02 | 0.34 | |
| classifySVMsc | 0.61 | 0.01 | 0.63 | |
| coerce-methods | 0.11 | 0.03 | 0.14 | |
| compCorr | 0 | 0 | 0 | |
| createMaigesRaw | 0.22 | 0.02 | 0.24 | |
| deGenes2by2BootT | 0.45 | 0.00 | 0.45 | |
| deGenes2by2Ttest | 0.19 | 0.01 | 0.20 | |
| deGenes2by2Wilcox | 0.19 | 0.02 | 0.21 | |
| deGenesANOVA | 0.11 | 0.01 | 0.12 | |
| designANOVA | 0.07 | 0.02 | 0.09 | |
| dim-methods | 0.05 | 0.00 | 0.05 | |
| getLabels | 0.03 | 0.05 | 0.08 | |
| hierM | 1.06 | 0.04 | 1.12 | |
| hierMde | 1.32 | 0.08 | 1.39 | |
| image-methods | 1.03 | 0.16 | 1.19 | |
| kmeansM | 0.86 | 0.00 | 0.86 | |
| kmeansMde | 0.25 | 0.01 | 0.26 | |
| loadData | 0 | 0 | 0 | |
| normLoc | 0.61 | 0.05 | 0.66 | |
| normOLIN | 0.04 | 0.00 | 0.05 | |
| normRepLoess | 0.07 | 0.00 | 0.06 | |
| normScaleLimma | 6.93 | 0.53 | 7.47 | |
| normScaleMarray | 1.27 | 0.36 | 1.62 | |
| plot-methods | 4.83 | 0.23 | 5.11 | |
| plotGenePair | 0.09 | 0.05 | 0.14 | |
| print-methods | 0.13 | 0.02 | 0.14 | |
| relNet2TGF | 0.15 | 0.03 | 0.19 | |
| relNetworkB | 1.08 | 0.03 | 1.11 | |
| relNetworkM | 0.09 | 0.01 | 0.11 | |
| robustCorr | 0 | 0 | 0 | |
| selSpots | 0.16 | 0.04 | 0.19 | |
| show-methods | 0.11 | 0.00 | 0.11 | |
| somM | 0.86 | 0.01 | 0.87 | |
| somMde | 0.28 | 0.02 | 0.30 | |
| summarizeReplicates | 1.11 | 0.15 | 1.26 | |
| summary-methods | 0.09 | 0.02 | 0.11 | |
| tableClass | 0.39 | 0.03 | 0.43 | |
| tablesDE | 4.04 | 0.13 | 4.17 | |