| Back to Multiple platform build/check report for BioC 3.15 | 
 | 
This page was generated on 2022-03-18 11:07:54 -0400 (Fri, 18 Mar 2022).
| Hostname | OS | Arch (*) | R version | Installed pkgs | 
|---|---|---|---|---|
| nebbiolo1 | Linux (Ubuntu 20.04.4 LTS) | x86_64 | R Under development (unstable) (2022-02-17 r81757) -- "Unsuffered Consequences" | 4334 | 
| riesling1 | Windows Server 2019 Standard | x64 | R Under development (unstable) (2021-11-21 r81221) -- "Unsuffered Consequences" | 4097 | 
| palomino3 | Windows Server 2022 Datacenter | x64 | R Under development (unstable) (2022-02-17 r81757 ucrt) -- "Unsuffered Consequences" | 4083 | 
| merida1 | macOS 10.14.6 Mojave | x86_64 | R Under development (unstable) (2022-03-02 r81842) -- "Unsuffered Consequences" | 4134 | 
| Click on any hostname to see more info about the system (e.g. compilers) (*) as reported by 'uname -p', except on Windows and Mac OS X | ||||
| To the developers/maintainers of the made4 package: - Please allow up to 24 hours (and sometimes 48 hours) for your latest push to git@git.bioconductor.org:packages/made4.git to reflect on this report. See How and When does the builder pull? When will my changes propagate? here for more information. - Make sure to use the following settings in order to reproduce any error or warning you see on this page. | 
| Package 1036/2090 | Hostname | OS / Arch | INSTALL | BUILD | CHECK | BUILD BIN | ||||||||
| made4 1.69.0  (landing page) Aedin Culhane 
 | nebbiolo1 | Linux (Ubuntu 20.04.4 LTS) / x86_64 | OK | OK | OK |  | ||||||||
| riesling1 | Windows Server 2019 Standard / x64 | OK | OK | OK | OK | |||||||||
| palomino3 | Windows Server 2022 Datacenter / x64 | OK | OK | OK | OK |  | ||||||||
| merida1 | macOS 10.14.6 Mojave / x86_64 | OK | OK | OK | OK |  | ||||||||
| Package: made4 | 
| Version: 1.69.0 | 
| Command: rm -rf made4.buildbin-libdir && mkdir made4.buildbin-libdir && D:\biocbuild\bbs-3.15-bioc\R\bin\R.exe CMD INSTALL --build --library=made4.buildbin-libdir made4_1.69.0.tar.gz | 
| StartedAt: 2022-03-17 21:18:24 -0400 (Thu, 17 Mar 2022) | 
| EndedAt: 2022-03-17 21:19:35 -0400 (Thu, 17 Mar 2022) | 
| EllapsedTime: 70.0 seconds | 
| RetCode: 0 | 
| Status: OK | 
| PackageFile: made4_1.69.0.zip | 
| PackageFileSize: 1.443 MiB | 
##############################################################################
##############################################################################
###
### Running command:
###
###   rm -rf made4.buildbin-libdir && mkdir made4.buildbin-libdir && D:\biocbuild\bbs-3.15-bioc\R\bin\R.exe CMD INSTALL --build --library=made4.buildbin-libdir made4_1.69.0.tar.gz
###
##############################################################################
##############################################################################
* installing *source* package 'made4' ...
** using staged installation
** R
** data
*** moving datasets to lazyload DB
** inst
** byte-compile and prepare package for lazy loading
** help
*** installing help indices
  converting help for package 'made4'
    finding HTML links ... done
    NCI60                                   html  
    asDataFrame                             html  
    bet.coinertia                           html  
    between.graph                           html  
    bga                                     html  
    bga.jackknife                           html  
    bga.suppl                               html  
    checkfac                                html  
    chime3D                                 html  
    cia                                     html  
    commonMap                               html  
    comparelists                            html  
    do3d                                    html  
    dudi.rwcoa                              html  
    forrwcoa                                html  
    genes                                   html  
    genes1d                                 html  
    getcol                                  html  
    graph1D                                 html  
    heatplot                                html  
    html3D                                  html  
    isDataFrame                             html  
    jmol3D                                  html  
    khan                                    html  
    ord                                     html  
    overview                                html  
    plotarrays                              html  
    plotgenes                               html  
    prettyDend                              html  
    randomiser                              html  
    s.var                                   html  
    sumstats                                html  
    suppl                                   html  
    topgenes                                html  
** building package indices
** installing vignettes
** testing if installed package can be loaded from temporary location
** testing if installed package can be loaded from final location
** testing if installed package keeps a record of temporary installation path
* MD5 sums
packaged installation of 'made4' as made4_1.69.0.zip
* DONE (made4)