| Back to Multiple platform build/check report for BioC 3.15 |
|
This page was generated on 2022-02-17 11:07:52 -0500 (Thu, 17 Feb 2022).
| Hostname | OS | Arch (*) | R version | Installed pkgs |
|---|---|---|---|---|
| nebbiolo1 | Linux (Ubuntu 20.04.4 LTS) | x86_64 | R Under development (unstable) (2022-01-05 r81451) -- "Unsuffered Consequences" | 4189 |
| riesling1 | Windows Server 2019 Standard | x64 | R Under development (unstable) (2021-11-21 r81221) -- "Unsuffered Consequences" | 4084 |
| palomino3 | Windows Server 2022 Datacenter | x64 | R Under development (unstable) (2021-12-21 r81400 ucrt) -- "Unsuffered Consequences" | 4028 |
| merida1 | macOS 10.14.6 Mojave | x86_64 | R Under development (unstable) (2022-01-05 r81451) -- "Unsuffered Consequences" | 4143 |
| Click on any hostname to see more info about the system (e.g. compilers) (*) as reported by 'uname -p', except on Windows and Mac OS X | ||||
|
To the developers/maintainers of the infinityFlow package: - Please allow up to 24 hours (and sometimes 48 hours) for your latest push to git@git.bioconductor.org:packages/infinityFlow.git to reflect on this report. See How and When does the builder pull? When will my changes propagate? here for more information. - Make sure to use the following settings in order to reproduce any error or warning you see on this page. |
| Package 933/2083 | Hostname | OS / Arch | INSTALL | BUILD | CHECK | BUILD BIN | ||||||||
| infinityFlow 1.5.0 (landing page) Etienne Becht
| nebbiolo1 | Linux (Ubuntu 20.04.4 LTS) / x86_64 | OK | OK | OK | |||||||||
| riesling1 | Windows Server 2019 Standard / x64 | OK | OK | OK | OK | |||||||||
| palomino3 | Windows Server 2022 Datacenter / x64 | ERROR | ERROR | skipped | skipped | |||||||||
| merida1 | macOS 10.14.6 Mojave / x86_64 | OK | OK | OK | OK | |||||||||
| Package: infinityFlow |
| Version: 1.5.0 |
| Command: rm -rf infinityFlow.buildbin-libdir && mkdir infinityFlow.buildbin-libdir && D:\biocbuild\bbs-3.15-bioc\R\bin\R.exe CMD INSTALL --build --library=infinityFlow.buildbin-libdir infinityFlow_1.5.0.tar.gz |
| StartedAt: 2022-02-16 21:32:58 -0500 (Wed, 16 Feb 2022) |
| EndedAt: 2022-02-16 21:34:01 -0500 (Wed, 16 Feb 2022) |
| EllapsedTime: 62.7 seconds |
| RetCode: 0 |
| Status: OK |
| PackageFile: infinityFlow_1.5.0.zip |
| PackageFileSize: 1.795 MiB |
##############################################################################
##############################################################################
###
### Running command:
###
### rm -rf infinityFlow.buildbin-libdir && mkdir infinityFlow.buildbin-libdir && D:\biocbuild\bbs-3.15-bioc\R\bin\R.exe CMD INSTALL --build --library=infinityFlow.buildbin-libdir infinityFlow_1.5.0.tar.gz
###
##############################################################################
##############################################################################
* installing *source* package 'infinityFlow' ...
** using staged installation
** R
** data
** inst
** byte-compile and prepare package for lazy loading
** help
*** installing help indices
converting help for package 'infinityFlow'
finding HTML links ... done
fitter_glmnet html
fitter_linear html
fitter_nn html
fitter_svm html
fitter_xgboost html
infinity_flow html
select_backbone_and_exploratory_markers
html
steady_state_lung html
steady_state_lung_annotation html
steady_state_lung_backbone_specification
html
** building package indices
** installing vignettes
** testing if installed package can be loaded from temporary location
** testing if installed package can be loaded from final location
** testing if installed package keeps a record of temporary installation path
* MD5 sums
packaged installation of 'infinityFlow' as infinityFlow_1.5.0.zip
* DONE (infinityFlow)