| Back to Multiple platform build/check report for BioC 3.15 |
|
This page was generated on 2022-03-18 11:07:47 -0400 (Fri, 18 Mar 2022).
| Hostname | OS | Arch (*) | R version | Installed pkgs |
|---|---|---|---|---|
| nebbiolo1 | Linux (Ubuntu 20.04.4 LTS) | x86_64 | R Under development (unstable) (2022-02-17 r81757) -- "Unsuffered Consequences" | 4334 |
| riesling1 | Windows Server 2019 Standard | x64 | R Under development (unstable) (2021-11-21 r81221) -- "Unsuffered Consequences" | 4097 |
| palomino3 | Windows Server 2022 Datacenter | x64 | R Under development (unstable) (2022-02-17 r81757 ucrt) -- "Unsuffered Consequences" | 4083 |
| merida1 | macOS 10.14.6 Mojave | x86_64 | R Under development (unstable) (2022-03-02 r81842) -- "Unsuffered Consequences" | 4134 |
| Click on any hostname to see more info about the system (e.g. compilers) (*) as reported by 'uname -p', except on Windows and Mac OS X | ||||
|
To the developers/maintainers of the iChip package: - Please allow up to 24 hours (and sometimes 48 hours) for your latest push to git@git.bioconductor.org:packages/iChip.git to reflect on this report. See How and When does the builder pull? When will my changes propagate? here for more information. - Make sure to use the following settings in order to reproduce any error or warning you see on this page. |
| Package 909/2090 | Hostname | OS / Arch | INSTALL | BUILD | CHECK | BUILD BIN | ||||||||
| iChip 1.49.0 (landing page) Qianxing Mo
| nebbiolo1 | Linux (Ubuntu 20.04.4 LTS) / x86_64 | OK | OK | OK | |||||||||
| riesling1 | Windows Server 2019 Standard / x64 | OK | OK | OK | OK | |||||||||
| palomino3 | Windows Server 2022 Datacenter / x64 | OK | OK | OK | OK | |||||||||
| merida1 | macOS 10.14.6 Mojave / x86_64 | OK | OK | OK | OK | |||||||||
| Package: iChip |
| Version: 1.49.0 |
| Command: rm -rf iChip.buildbin-libdir && mkdir iChip.buildbin-libdir && D:\biocbuild\bbs-3.15-bioc\R\bin\R.exe CMD INSTALL --build --library=iChip.buildbin-libdir iChip_1.49.0.tar.gz |
| StartedAt: 2022-03-17 21:15:02 -0400 (Thu, 17 Mar 2022) |
| EndedAt: 2022-03-17 21:16:19 -0400 (Thu, 17 Mar 2022) |
| EllapsedTime: 77.1 seconds |
| RetCode: 0 |
| Status: OK |
| PackageFile: iChip_1.49.0.zip |
| PackageFileSize: 1.849 MiB |
##############################################################################
##############################################################################
###
### Running command:
###
### rm -rf iChip.buildbin-libdir && mkdir iChip.buildbin-libdir && D:\biocbuild\bbs-3.15-bioc\R\bin\R.exe CMD INSTALL --build --library=iChip.buildbin-libdir iChip_1.49.0.tar.gz
###
##############################################################################
##############################################################################
* installing *source* package 'iChip' ...
** using staged installation
** libs
"C:/rtools40/mingw64/bin/"gcc -I"D:/biocbuild/bbs-3.15-bioc/R/include" -DNDEBUG -I"C:/extsoft/include" -O2 -Wall -std=gnu99 -mfpmath=sse -msse2 -mstackrealign -fno-reorder-blocks-and-partition -c iChip.c -o iChip.o
iChip.c: In function 'iChip2':
iChip.c:23:51: warning: variable 'nrowm1' set but not used [-Wunused-but-set-variable]
int sampleSize,LB,RB,i,j,r,nnoise,nsignal,state,nrowm1,wtsum;
^~~~~~
"C:/rtools40/mingw64/bin/"gcc -I"D:/biocbuild/bbs-3.15-bioc/R/include" -DNDEBUG -I"C:/extsoft/include" -O2 -Wall -std=gnu99 -mfpmath=sse -msse2 -mstackrealign -fno-reorder-blocks-and-partition -c registerDynamicSymbol.c -o registerDynamicSymbol.o
C:/rtools40/mingw64/bin/gcc -shared -s -static-libgcc -o iChip.dll tmp.def iChip.o registerDynamicSymbol.o -LC:/extsoft/lib/x64 -LC:/extsoft/lib -LD:/biocbuild/bbs-3.15-bioc/R/bin/x64 -lR
installing to D:/biocbuild/bbs-3.15-bioc/meat/iChip.buildbin-libdir/00LOCK-iChip/00new/iChip/libs/x64
** R
** data
*** moving datasets to lazyload DB
** demo
** inst
** byte-compile and prepare package for lazy loading
** help
*** installing help indices
converting help for package 'iChip'
finding HTML links ... done
enrichreg html
iChip1 html
iChip2 html
lmtstat html
oct4 html
p53 html
** building package indices
** installing vignettes
** testing if installed package can be loaded from temporary location
** testing if installed package can be loaded from final location
** testing if installed package keeps a record of temporary installation path
* MD5 sums
packaged installation of 'iChip' as iChip_1.49.0.zip
* DONE (iChip)