| Back to Multiple platform build/check report for BioC 3.15 |
|
This page was generated on 2022-03-18 11:07:47 -0400 (Fri, 18 Mar 2022).
| Hostname | OS | Arch (*) | R version | Installed pkgs |
|---|---|---|---|---|
| nebbiolo1 | Linux (Ubuntu 20.04.4 LTS) | x86_64 | R Under development (unstable) (2022-02-17 r81757) -- "Unsuffered Consequences" | 4334 |
| riesling1 | Windows Server 2019 Standard | x64 | R Under development (unstable) (2021-11-21 r81221) -- "Unsuffered Consequences" | 4097 |
| palomino3 | Windows Server 2022 Datacenter | x64 | R Under development (unstable) (2022-02-17 r81757 ucrt) -- "Unsuffered Consequences" | 4083 |
| merida1 | macOS 10.14.6 Mojave | x86_64 | R Under development (unstable) (2022-03-02 r81842) -- "Unsuffered Consequences" | 4134 |
| Click on any hostname to see more info about the system (e.g. compilers) (*) as reported by 'uname -p', except on Windows and Mac OS X | ||||
|
To the developers/maintainers of the iCOBRA package: - Please allow up to 24 hours (and sometimes 48 hours) for your latest push to git@git.bioconductor.org:packages/iCOBRA.git to reflect on this report. See How and When does the builder pull? When will my changes propagate? here for more information. - Make sure to use the following settings in order to reproduce any error or warning you see on this page. |
| Package 912/2090 | Hostname | OS / Arch | INSTALL | BUILD | CHECK | BUILD BIN | ||||||||
| iCOBRA 1.23.2 (landing page) Charlotte Soneson
| nebbiolo1 | Linux (Ubuntu 20.04.4 LTS) / x86_64 | OK | OK | OK | |||||||||
| riesling1 | Windows Server 2019 Standard / x64 | OK | OK | OK | OK | |||||||||
| palomino3 | Windows Server 2022 Datacenter / x64 | OK | OK | OK | OK | |||||||||
| merida1 | macOS 10.14.6 Mojave / x86_64 | OK | OK | OK | OK | |||||||||
| Package: iCOBRA |
| Version: 1.23.2 |
| Command: D:\biocbuild\bbs-3.15-bioc\R\bin\R.exe CMD INSTALL iCOBRA |
| StartedAt: 2022-03-17 16:15:17 -0400 (Thu, 17 Mar 2022) |
| EndedAt: 2022-03-17 16:17:18 -0400 (Thu, 17 Mar 2022) |
| EllapsedTime: 120.5 seconds |
| RetCode: 0 |
| Status: OK |
##############################################################################
##############################################################################
###
### Running command:
###
### D:\biocbuild\bbs-3.15-bioc\R\bin\R.exe CMD INSTALL iCOBRA
###
##############################################################################
##############################################################################
* installing to library 'D:/biocbuild/bbs-3.15-bioc/R/library'
* installing *source* package 'iCOBRA' ...
** using staged installation
** R
** data
*** moving datasets to lazyload DB
** inst
** byte-compile and prepare package for lazy loading
** help
*** installing help indices
converting help for package 'iCOBRA'
finding HTML links ... done
COBRAData html
COBRAPerformance html
COBRAPlot html
COBRAapp html
Extract html
basemethods html
calculate_adjp html
calculate_performance html
cobradata_example html
cobradata_example_sval html
coerce html
corr html
deviation html
facetted html
fdrnbr html
fdrnbrcurve html
fdrtpr html
fdrtprcurve html
fpc html
fpr html
fsrnbr html
fsrnbrcurve html
maxsplit html
onlyshared html
overlap html
padj html
plot_corr html
plot_deviation html
plot_fdrnbrcurve html
plot_fdrtprcurve html
plot_fpc html
plot_fpr html
plot_fsrnbrcurve html
plot_overlap html
plot_roc html
plot_scatter html
plot_tpr html
plot_upset html
plotcolors html
prepare_data_for_plot html
pval html
reorder_levels html
roc html
scatter html
score html
splv html
stratiflevels html
sval html
tpr html
truth html
update_cobradata html
update_cobraperformance html
** building package indices
** installing vignettes
** testing if installed package can be loaded from temporary location
** testing if installed package can be loaded from final location
** testing if installed package keeps a record of temporary installation path
* DONE (iCOBRA)
Making 'packages.html' ...Warning in packageDescription(i, lib.loc = lib, fields = "Title", encoding = "UTF-8") :
DESCRIPTION file of package 'openPrimeRui' is missing or broken
done