| Back to Multiple platform build/check report for BioC 3.15 |
|
This page was generated on 2022-03-18 11:07:46 -0400 (Fri, 18 Mar 2022).
| Hostname | OS | Arch (*) | R version | Installed pkgs |
|---|---|---|---|---|
| nebbiolo1 | Linux (Ubuntu 20.04.4 LTS) | x86_64 | R Under development (unstable) (2022-02-17 r81757) -- "Unsuffered Consequences" | 4334 |
| riesling1 | Windows Server 2019 Standard | x64 | R Under development (unstable) (2021-11-21 r81221) -- "Unsuffered Consequences" | 4097 |
| palomino3 | Windows Server 2022 Datacenter | x64 | R Under development (unstable) (2022-02-17 r81757 ucrt) -- "Unsuffered Consequences" | 4083 |
| merida1 | macOS 10.14.6 Mojave | x86_64 | R Under development (unstable) (2022-03-02 r81842) -- "Unsuffered Consequences" | 4134 |
| Click on any hostname to see more info about the system (e.g. compilers) (*) as reported by 'uname -p', except on Windows and Mac OS X | ||||
|
To the developers/maintainers of the hypeR package: - Please allow up to 24 hours (and sometimes 48 hours) for your latest push to git@git.bioconductor.org:packages/hypeR.git to reflect on this report. See How and When does the builder pull? When will my changes propagate? here for more information. - Make sure to use the following settings in order to reproduce any error or warning you see on this page. |
| Package 897/2090 | Hostname | OS / Arch | INSTALL | BUILD | CHECK | BUILD BIN | ||||||||
| hypeR 1.11.0 (landing page) Anthony Federico
| nebbiolo1 | Linux (Ubuntu 20.04.4 LTS) / x86_64 | OK | OK | OK | |||||||||
| riesling1 | Windows Server 2019 Standard / x64 | OK | OK | OK | OK | |||||||||
| palomino3 | Windows Server 2022 Datacenter / x64 | OK | OK | OK | OK | |||||||||
| merida1 | macOS 10.14.6 Mojave / x86_64 | OK | OK | OK | OK | |||||||||
| Package: hypeR |
| Version: 1.11.0 |
| Command: D:\biocbuild\bbs-3.15-bioc\R\bin\R.exe CMD INSTALL hypeR |
| StartedAt: 2022-03-17 15:54:50 -0400 (Thu, 17 Mar 2022) |
| EndedAt: 2022-03-17 15:56:16 -0400 (Thu, 17 Mar 2022) |
| EllapsedTime: 85.6 seconds |
| RetCode: 0 |
| Status: OK |
##############################################################################
##############################################################################
###
### Running command:
###
### D:\biocbuild\bbs-3.15-bioc\R\bin\R.exe CMD INSTALL hypeR
###
##############################################################################
##############################################################################
* installing to library 'D:/biocbuild/bbs-3.15-bioc/R/library'
* installing *source* package 'hypeR' ...
** using staged installation
** R
** data
** inst
** byte-compile and prepare package for lazy loading
** help
*** installing help indices
converting help for package 'hypeR'
finding HTML links ... done
clean_genesets html
dot-check_overlap html
dot-dots_multi_plot html
dot-dots_plot html
dot-enrichment_map html
dot-find_members html
dot-format_str html
dot-github_rds html
dot-hexa html
dot-hiearchy_map html
dot-hyper_enrichment html
dot-hyperdb_url html
dot-jaccard_similarity html
dot-ks_enrichment html
dot-kstest html
dot-overlap_similarity html
dot-reverselog_trans html
dot-string_args html
enrichr_available html
enrichr_connect html
enrichr_download html
enrichr_gsets html
enrichr_urls html
genesets_Server html
genesets_UI html
ggempty html
ggeplot html
ggvenn html
gsets html
hyp html
hyp_dots html
hyp_emap html
hyp_hmap html
hyp_show html
hyp_to_excel html
hyp_to_graph html
hyp_to_rmd html
hyp_to_table html
hypeR html
hyperdb_available html
hyperdb_gsets html
hyperdb_rgsets html
limma html
msigdb_available html
msigdb_check_species html
msigdb_download html
msigdb_gsets html
msigdb_info html
msigdb_species html
msigdb_version html
multihyp html
pvector html
rctbl_build html
rctbl_hyp html
rctbl_mhyp html
rgsets html
wgcna html
** building package indices
** installing vignettes
** testing if installed package can be loaded from temporary location
** testing if installed package can be loaded from final location
** testing if installed package keeps a record of temporary installation path
* DONE (hypeR)
Making 'packages.html' ... done