| Back to Multiple platform build/check report for BioC 3.15 |
|
This page was generated on 2022-10-19 13:21:38 -0400 (Wed, 19 Oct 2022).
| Hostname | OS | Arch (*) | R version | Installed pkgs |
|---|---|---|---|---|
| nebbiolo1 | Linux (Ubuntu 20.04.5 LTS) | x86_64 | 4.2.1 (2022-06-23) -- "Funny-Looking Kid" | 4386 |
| palomino3 | Windows Server 2022 Datacenter | x64 | 4.2.1 (2022-06-23 ucrt) -- "Funny-Looking Kid" | 4138 |
| merida1 | macOS 10.14.6 Mojave | x86_64 | 4.2.1 (2022-06-23) -- "Funny-Looking Kid" | 4205 |
| Click on any hostname to see more info about the system (e.g. compilers) (*) as reported by 'uname -p', except on Windows and Mac OS X | ||||
|
To the developers/maintainers of the hipathia package: - Please allow up to 24 hours (and sometimes 48 hours) for your latest push to git@git.bioconductor.org:packages/hipathia.git to reflect on this report. See How and When does the builder pull? When will my changes propagate? for more information. - Make sure to use the following settings in order to reproduce any error or warning you see on this page. |
| Package 900/2140 | Hostname | OS / Arch | INSTALL | BUILD | CHECK | BUILD BIN | ||||||||
| hipathia 2.12.0 (landing page) Marta R. Hidalgo
| nebbiolo1 | Linux (Ubuntu 20.04.5 LTS) / x86_64 | OK | OK | OK | |||||||||
| palomino3 | Windows Server 2022 Datacenter / x64 | OK | OK | OK | OK | |||||||||
| merida1 | macOS 10.14.6 Mojave / x86_64 | OK | OK | OK | OK | |||||||||
| Package: hipathia |
| Version: 2.12.0 |
| Command: F:\biocbuild\bbs-3.15-bioc\R\bin\R.exe CMD check --no-multiarch --install=check:hipathia.install-out.txt --library=F:\biocbuild\bbs-3.15-bioc\R\library --no-vignettes --timings hipathia_2.12.0.tar.gz |
| StartedAt: 2022-10-19 01:00:23 -0400 (Wed, 19 Oct 2022) |
| EndedAt: 2022-10-19 01:15:35 -0400 (Wed, 19 Oct 2022) |
| EllapsedTime: 911.6 seconds |
| RetCode: 0 |
| Status: OK |
| CheckDir: hipathia.Rcheck |
| Warnings: 0 |
##############################################################################
##############################################################################
###
### Running command:
###
### F:\biocbuild\bbs-3.15-bioc\R\bin\R.exe CMD check --no-multiarch --install=check:hipathia.install-out.txt --library=F:\biocbuild\bbs-3.15-bioc\R\library --no-vignettes --timings hipathia_2.12.0.tar.gz
###
##############################################################################
##############################################################################
* using log directory 'F:/biocbuild/bbs-3.15-bioc/meat/hipathia.Rcheck'
* using R version 4.2.1 (2022-06-23 ucrt)
* using platform: x86_64-w64-mingw32 (64-bit)
* using session charset: UTF-8
* using option '--no-vignettes'
* checking for file 'hipathia/DESCRIPTION' ... OK
* this is package 'hipathia' version '2.12.0'
* package encoding: UTF-8
* checking package namespace information ... OK
* checking package dependencies ... OK
* checking if this is a source package ... OK
* checking if there is a namespace ... OK
* checking for hidden files and directories ... OK
* checking for portable file names ... OK
* checking whether package 'hipathia' can be installed ... OK
* checking installed package size ... NOTE
installed size is 7.5Mb
sub-directories of 1Mb or more:
data 2.8Mb
extdata 4.3Mb
* checking package directory ... OK
* checking 'build' directory ... OK
* checking DESCRIPTION meta-information ... OK
* checking top-level files ... OK
* checking for left-over files ... OK
* checking index information ... OK
* checking package subdirectories ... OK
* checking R files for non-ASCII characters ... OK
* checking R files for syntax errors ... OK
* checking whether the package can be loaded ... OK
* checking whether the package can be loaded with stated dependencies ... OK
* checking whether the package can be unloaded cleanly ... OK
* checking whether the namespace can be loaded with stated dependencies ... OK
* checking whether the namespace can be unloaded cleanly ... OK
* checking dependencies in R code ... OK
* checking S3 generic/method consistency ... OK
* checking replacement functions ... OK
* checking foreign function calls ... OK
* checking R code for possible problems ... OK
* checking Rd files ... OK
* checking Rd metadata ... OK
* checking Rd cross-references ... OK
* checking for missing documentation entries ... OK
* checking for code/documentation mismatches ... OK
* checking Rd \usage sections ... OK
* checking Rd contents ... OK
* checking for unstated dependencies in examples ... OK
* checking contents of 'data' directory ... OK
* checking data for non-ASCII characters ... OK
* checking LazyData ... OK
* checking data for ASCII and uncompressed saves ... OK
* checking sizes of PDF files under 'inst/doc' ... OK
* checking files in 'vignettes' ... OK
* checking examples ... OK
Examples with CPU (user + system) or elapsed time > 5s
user system elapsed
quantify_terms 30.03 2.07 32.73
create_report 23.35 0.87 44.02
get_pathways_annotations 20.86 1.09 22.23
node_color 20.05 0.54 20.81
load_pathways 19.89 0.48 41.59
hipathia 19.69 0.47 20.38
normalize_data 19.10 0.65 24.97
visualize_report 18.64 0.64 21.36
get_node_names 17.96 0.78 18.79
node_color_per_de 18.23 0.38 18.67
get_pathways_summary 17.55 0.52 18.13
get_pathways_list 17.34 0.53 18.08
translate_data 17.03 0.70 17.82
get_path_names 17.07 0.61 17.92
save_results 17.22 0.45 17.74
normalize_paths 16.79 0.43 17.45
pathway_comparison_plot 16.21 0.55 16.94
get_go_names 4.68 0.48 5.67
* checking for unstated dependencies in 'tests' ... OK
* checking tests ...
Running 'testthat.R'
OK
* checking for unstated dependencies in vignettes ... OK
* checking package vignettes in 'inst/doc' ... OK
* checking running R code from vignettes ... SKIPPED
* checking re-building of vignette outputs ... SKIPPED
* checking PDF version of manual ... OK
* DONE
Status: 1 NOTE
See
'F:/biocbuild/bbs-3.15-bioc/meat/hipathia.Rcheck/00check.log'
for details.
hipathia.Rcheck/00install.out
############################################################################## ############################################################################## ### ### Running command: ### ### F:\biocbuild\bbs-3.15-bioc\R\bin\R.exe CMD INSTALL hipathia ### ############################################################################## ############################################################################## * installing to library 'F:/biocbuild/bbs-3.15-bioc/R/library' * installing *source* package 'hipathia' ... ** using staged installation ** R ** data *** moving datasets to lazyload DB ** inst ** byte-compile and prepare package for lazy loading ** help *** installing help indices ** building package indices ** installing vignettes ** testing if installed package can be loaded from temporary location ** testing if installed package can be loaded from final location ** testing if installed package keeps a record of temporary installation path * DONE (hipathia)
hipathia.Rcheck/tests/testthat.Rout
R version 4.2.1 (2022-06-23 ucrt) -- "Funny-Looking Kid"
Copyright (C) 2022 The R Foundation for Statistical Computing
Platform: x86_64-w64-mingw32/x64 (64-bit)
R is free software and comes with ABSOLUTELY NO WARRANTY.
You are welcome to redistribute it under certain conditions.
Type 'license()' or 'licence()' for distribution details.
R is a collaborative project with many contributors.
Type 'contributors()' for more information and
'citation()' on how to cite R or R packages in publications.
Type 'demo()' for some demos, 'help()' for on-line help, or
'help.start()' for an HTML browser interface to help.
Type 'q()' to quit R.
> library(testthat)
> library(hipathia)
Loading required package: igraph
Attaching package: 'igraph'
The following object is masked from 'package:testthat':
compare
The following objects are masked from 'package:stats':
decompose, spectrum
The following object is masked from 'package:base':
union
Loading required package: AnnotationHub
Loading required package: BiocGenerics
Attaching package: 'BiocGenerics'
The following objects are masked from 'package:igraph':
normalize, path, union
The following objects are masked from 'package:stats':
IQR, mad, sd, var, xtabs
The following objects are masked from 'package:base':
Filter, Find, Map, Position, Reduce, anyDuplicated, append,
as.data.frame, basename, cbind, colnames, dirname, do.call,
duplicated, eval, evalq, get, grep, grepl, intersect, is.unsorted,
lapply, mapply, match, mget, order, paste, pmax, pmax.int, pmin,
pmin.int, rank, rbind, rownames, sapply, setdiff, sort, table,
tapply, union, unique, unsplit, which.max, which.min
Loading required package: BiocFileCache
Loading required package: dbplyr
Loading required package: MultiAssayExperiment
Loading required package: SummarizedExperiment
Loading required package: MatrixGenerics
Loading required package: matrixStats
Attaching package: 'MatrixGenerics'
The following objects are masked from 'package:matrixStats':
colAlls, colAnyNAs, colAnys, colAvgsPerRowSet, colCollapse,
colCounts, colCummaxs, colCummins, colCumprods, colCumsums,
colDiffs, colIQRDiffs, colIQRs, colLogSumExps, colMadDiffs,
colMads, colMaxs, colMeans2, colMedians, colMins, colOrderStats,
colProds, colQuantiles, colRanges, colRanks, colSdDiffs, colSds,
colSums2, colTabulates, colVarDiffs, colVars, colWeightedMads,
colWeightedMeans, colWeightedMedians, colWeightedSds,
colWeightedVars, rowAlls, rowAnyNAs, rowAnys, rowAvgsPerColSet,
rowCollapse, rowCounts, rowCummaxs, rowCummins, rowCumprods,
rowCumsums, rowDiffs, rowIQRDiffs, rowIQRs, rowLogSumExps,
rowMadDiffs, rowMads, rowMaxs, rowMeans2, rowMedians, rowMins,
rowOrderStats, rowProds, rowQuantiles, rowRanges, rowRanks,
rowSdDiffs, rowSds, rowSums2, rowTabulates, rowVarDiffs, rowVars,
rowWeightedMads, rowWeightedMeans, rowWeightedMedians,
rowWeightedSds, rowWeightedVars
Loading required package: GenomicRanges
Loading required package: stats4
Loading required package: S4Vectors
Attaching package: 'S4Vectors'
The following objects are masked from 'package:base':
I, expand.grid, unname
Loading required package: IRanges
Attaching package: 'IRanges'
The following object is masked from 'package:grDevices':
windows
Loading required package: GenomeInfoDb
Loading required package: Biobase
Welcome to Bioconductor
Vignettes contain introductory material; view with
'browseVignettes()'. To cite Bioconductor, see
'citation("Biobase")', and for packages 'citation("pkgname")'.
Attaching package: 'Biobase'
The following object is masked from 'package:MatrixGenerics':
rowMedians
The following objects are masked from 'package:matrixStats':
anyMissing, rowMedians
The following object is masked from 'package:AnnotationHub':
cache
>
> test_check("hipathia")
HiPathia processing...
hsa03320 - PPAR signaling pathway
hsa04012 - ErbB signaling pathway
HiPathia processing...
hsa03320 - PPAR signaling pathway
hsa04012 - ErbB signaling pathway
translated ids = 3184 (1)
untranslated ids = 3 (0.00094)
multihit ids = 0 (0)
[ FAIL 0 | WARN 0 | SKIP 0 | PASS 119 ]
>
> proc.time()
user system elapsed
259.98 11.95 274.45
hipathia.Rcheck/hipathia-Ex.timings
| name | user | system | elapsed | |
| create_report | 23.35 | 0.87 | 44.02 | |
| do_pca | 0.05 | 0.00 | 0.05 | |
| do_wilcoxon | 0.96 | 0.07 | 1.01 | |
| get_go_names | 4.68 | 0.48 | 5.67 | |
| get_node_names | 17.96 | 0.78 | 18.79 | |
| get_nodes_data | 0.01 | 0.00 | 0.01 | |
| get_path_names | 17.07 | 0.61 | 17.92 | |
| get_paths_data | 0 | 0 | 0 | |
| get_pathways_annotations | 20.86 | 1.09 | 22.23 | |
| get_pathways_list | 17.34 | 0.53 | 18.08 | |
| get_pathways_summary | 17.55 | 0.52 | 18.13 | |
| heatmap_plot | 0.15 | 0.00 | 0.15 | |
| hhead | 0 | 0 | 0 | |
| hipathia | 19.69 | 0.47 | 20.38 | |
| load_pathways | 19.89 | 0.48 | 41.59 | |
| multiple_pca_plot | 0.03 | 0.02 | 0.05 | |
| node_color | 20.05 | 0.54 | 20.81 | |
| node_color_per_de | 18.23 | 0.38 | 18.67 | |
| normalize_data | 19.10 | 0.65 | 24.97 | |
| normalize_paths | 16.79 | 0.43 | 17.45 | |
| paths_to_go_ancestor | 0.25 | 0.01 | 0.27 | |
| pathway_comparison_plot | 16.21 | 0.55 | 16.94 | |
| pca_plot | 0.01 | 0.01 | 0.06 | |
| quantify_terms | 30.03 | 2.07 | 32.73 | |
| save_results | 17.22 | 0.45 | 17.74 | |
| top_pathways | 0.00 | 0.02 | 0.01 | |
| translate_data | 17.03 | 0.70 | 17.82 | |
| visualize_report | 18.64 | 0.64 | 21.36 | |