| Back to Multiple platform build/check report for BioC 3.15 |
|
This page was generated on 2022-10-19 13:20:22 -0400 (Wed, 19 Oct 2022).
| Hostname | OS | Arch (*) | R version | Installed pkgs |
|---|---|---|---|---|
| nebbiolo1 | Linux (Ubuntu 20.04.5 LTS) | x86_64 | 4.2.1 (2022-06-23) -- "Funny-Looking Kid" | 4386 |
| palomino3 | Windows Server 2022 Datacenter | x64 | 4.2.1 (2022-06-23 ucrt) -- "Funny-Looking Kid" | 4138 |
| merida1 | macOS 10.14.6 Mojave | x86_64 | 4.2.1 (2022-06-23) -- "Funny-Looking Kid" | 4205 |
| Click on any hostname to see more info about the system (e.g. compilers) (*) as reported by 'uname -p', except on Windows and Mac OS X | ||||
|
To the developers/maintainers of the gwascat package: - Please allow up to 24 hours (and sometimes 48 hours) for your latest push to git@git.bioconductor.org:packages/gwascat.git to reflect on this report. See How and When does the builder pull? When will my changes propagate? for more information. - Make sure to use the following settings in order to reproduce any error or warning you see on this page. |
| Package 870/2140 | Hostname | OS / Arch | INSTALL | BUILD | CHECK | BUILD BIN | ||||||||
| gwascat 2.28.1 (landing page) VJ Carey
| nebbiolo1 | Linux (Ubuntu 20.04.5 LTS) / x86_64 | OK | OK | OK | |||||||||
| palomino3 | Windows Server 2022 Datacenter / x64 | OK | OK | OK | OK | |||||||||
| merida1 | macOS 10.14.6 Mojave / x86_64 | OK | OK | OK | OK | |||||||||
| Package: gwascat |
| Version: 2.28.1 |
| Command: /home/biocbuild/bbs-3.15-bioc/R/bin/R CMD check --install=check:gwascat.install-out.txt --library=/home/biocbuild/bbs-3.15-bioc/R/library --no-vignettes --timings gwascat_2.28.1.tar.gz |
| StartedAt: 2022-10-18 20:03:43 -0400 (Tue, 18 Oct 2022) |
| EndedAt: 2022-10-18 20:10:57 -0400 (Tue, 18 Oct 2022) |
| EllapsedTime: 433.8 seconds |
| RetCode: 0 |
| Status: OK |
| CheckDir: gwascat.Rcheck |
| Warnings: 0 |
##############################################################################
##############################################################################
###
### Running command:
###
### /home/biocbuild/bbs-3.15-bioc/R/bin/R CMD check --install=check:gwascat.install-out.txt --library=/home/biocbuild/bbs-3.15-bioc/R/library --no-vignettes --timings gwascat_2.28.1.tar.gz
###
##############################################################################
##############################################################################
* using log directory ‘/home/biocbuild/bbs-3.15-bioc/meat/gwascat.Rcheck’
* using R version 4.2.1 (2022-06-23)
* using platform: x86_64-pc-linux-gnu (64-bit)
* using session charset: UTF-8
* using option ‘--no-vignettes’
* checking for file ‘gwascat/DESCRIPTION’ ... OK
* this is package ‘gwascat’ version ‘2.28.1’
* package encoding: UTF-8
* checking package namespace information ... OK
* checking package dependencies ... OK
* checking if this is a source package ... OK
* checking if there is a namespace ... OK
* checking for hidden files and directories ... OK
* checking for portable file names ... OK
* checking for sufficient/correct file permissions ... OK
* checking whether package ‘gwascat’ can be installed ... OK
* checking installed package size ... NOTE
installed size is 33.9Mb
sub-directories of 1Mb or more:
data 10.1Mb
legacy 15.7Mb
obo 3.1Mb
olddata 2.3Mb
tab 1.1Mb
* checking package directory ... OK
* checking ‘build’ directory ... OK
* checking DESCRIPTION meta-information ... NOTE
Package listed in more than one of Depends, Imports, Suggests, Enhances:
‘IRanges’
A package should be listed in only one of these fields.
* checking top-level files ... OK
* checking for left-over files ... OK
* checking index information ... OK
* checking package subdirectories ... OK
* checking R files for non-ASCII characters ... OK
* checking R files for syntax errors ... OK
* checking whether the package can be loaded ... OK
* checking whether the package can be loaded with stated dependencies ... OK
* checking whether the package can be unloaded cleanly ... OK
* checking whether the namespace can be loaded with stated dependencies ... OK
* checking whether the namespace can be unloaded cleanly ... OK
* checking dependencies in R code ... OK
* checking S3 generic/method consistency ... OK
* checking replacement functions ... OK
* checking foreign function calls ... OK
* checking R code for possible problems ... NOTE
addSeqlengths: no visible global function definition for ‘seqlengths’
addSeqlengths: no visible global function definition for ‘seqlengths<-’
bindcadd_snv: no visible global function definition for ‘TabixFile’
bindcadd_snv: no visible global function definition for ‘findOverlaps’
buildq: no visible global function definition for ‘read.delim’
chklocs: no visible binding for global variable ‘gwrngs19’
chklocs: no visible global function definition for ‘snpsBySeqname’
gwascat_from_AHub: no visible global function definition for ‘data’
gwascat_from_AHub: no visible binding for global variable ‘si.hs.38’
gwascat_from_AHub: no visible global function definition for
‘sessionInfo’
gwcat_snapshot: no visible global function definition for ‘data’
gwcat_snapshot: no visible binding for global variable ‘si.hs.38’
gwcat_snapshot: no visible global function definition for ‘sessionInfo’
lo38to19: no visible global function definition for ‘liftOver’
lo38to19: no visible global function definition for ‘sessionInfo’
lo38to19: no visible global function definition for ‘data’
lo38to19: no visible binding for global variable ‘si.hs.37’
makeCurrentGwascat: no visible global function definition for
‘download.file’
makeCurrentGwascat: no visible global function definition for ‘data’
makeCurrentGwascat: no visible binding for global variable ‘si.hs.38’
makeCurrentGwascat: no visible global function definition for
‘sessionInfo’
process_gwas_dataframe: no visible global function definition for
‘data’
process_gwas_dataframe: no visible binding for global variable
‘si.hs.38’
process_gwas_dataframe: no visible global function definition for
‘sessionInfo’
snpGenos: no visible global function definition for ‘getSNPlocs’
tfilt: no visible binding for global variable ‘phr’
tpad: no visible binding for global variable ‘phr’
traitsManh: no visible global function definition for ‘aes’
traitsManh: no visible binding for global variable ‘PVALUE_MLOG’
variantProps: no visible binding for global variable ‘gwrngs’
Undefined global functions or variables:
PVALUE_MLOG TabixFile aes data download.file findOverlaps getSNPlocs
gwrngs gwrngs19 liftOver phr read.delim seqlengths seqlengths<-
sessionInfo si.hs.37 si.hs.38 snpsBySeqname
Consider adding
importFrom("utils", "data", "download.file", "read.delim",
"sessionInfo")
to your NAMESPACE file.
* checking Rd files ... OK
* checking Rd metadata ... OK
* checking Rd cross-references ... OK
* checking for missing documentation entries ... OK
* checking for code/documentation mismatches ... OK
* checking Rd \usage sections ... OK
* checking Rd contents ... OK
* checking for unstated dependencies in examples ... OK
* checking contents of ‘data’ directory ... OK
* checking data for non-ASCII characters ... NOTE
Note: found 2077 marked UTF-8 strings
* checking data for ASCII and uncompressed saves ... OK
* checking files in ‘vignettes’ ... OK
* checking examples ... OK
Examples with CPU (user + system) or elapsed time > 5s
user system elapsed
gwascat_from_AHub 18.764 2.124 21.422
gwcat_snapshot 16.700 1.623 18.993
gwcex2gviz 10.359 1.140 11.939
gg17N 6.954 0.115 7.070
* checking for unstated dependencies in ‘tests’ ... OK
* checking tests ...
Running ‘testthat.R’
OK
* checking for unstated dependencies in vignettes ... OK
* checking package vignettes in ‘inst/doc’ ... OK
* checking running R code from vignettes ... SKIPPED
* checking re-building of vignette outputs ... SKIPPED
* checking PDF version of manual ... OK
* DONE
Status: 4 NOTEs
See
‘/home/biocbuild/bbs-3.15-bioc/meat/gwascat.Rcheck/00check.log’
for details.
gwascat.Rcheck/00install.out
############################################################################## ############################################################################## ### ### Running command: ### ### /home/biocbuild/bbs-3.15-bioc/R/bin/R CMD INSTALL gwascat ### ############################################################################## ############################################################################## * installing to library ‘/home/biocbuild/bbs-3.15-bioc/R/library’ * installing *source* package ‘gwascat’ ... ** using staged installation ** R ** data ** inst ** byte-compile and prepare package for lazy loading ** help *** installing help indices ** building package indices ** installing vignettes ** testing if installed package can be loaded from temporary location ** testing if installed package can be loaded from final location ** testing if installed package keeps a record of temporary installation path * DONE (gwascat)
gwascat.Rcheck/tests/testthat.Rout
R version 4.2.1 (2022-06-23) -- "Funny-Looking Kid"
Copyright (C) 2022 The R Foundation for Statistical Computing
Platform: x86_64-pc-linux-gnu (64-bit)
R is free software and comes with ABSOLUTELY NO WARRANTY.
You are welcome to redistribute it under certain conditions.
Type 'license()' or 'licence()' for distribution details.
R is a collaborative project with many contributors.
Type 'contributors()' for more information and
'citation()' on how to cite R or R packages in publications.
Type 'demo()' for some demos, 'help()' for on-line help, or
'help.start()' for an HTML browser interface to help.
Type 'q()' to quit R.
> library(testthat)
>
> test_check("gwascat")
Loading required package: gwascat
gwascat loaded. Use makeCurrentGwascat() to extract current image.
from EBI. The data folder of this package has some legacy extracts.
[ FAIL 0 | WARN 0 | SKIP 0 | PASS 0 ]
>
>
> proc.time()
user system elapsed
15.248 1.199 16.433
gwascat.Rcheck/gwascat-Ex.timings
| name | user | system | elapsed | |
| bindcadd_snv | 0 | 0 | 0 | |
| gg17N | 6.954 | 0.115 | 7.070 | |
| gwascat_from_AHub | 18.764 | 2.124 | 21.422 | |
| gwcat_snapshot | 16.700 | 1.623 | 18.993 | |
| gwcex2gviz | 10.359 | 1.140 | 11.939 | |
| ldtagr | 0.426 | 0.012 | 0.439 | |
| makeCurrentGwascat | 0 | 0 | 0 | |
| obo2graphNEL | 0.257 | 0.037 | 0.295 | |
| riskyAlleleCount | 0.000 | 0.000 | 0.001 | |
| topTraits | 0.864 | 0.036 | 0.900 | |
| traitsManh | 0 | 0 | 0 | |