| Back to Multiple platform build/check report for BioC 3.15 |
|
This page was generated on 2022-03-18 11:07:40 -0400 (Fri, 18 Mar 2022).
| Hostname | OS | Arch (*) | R version | Installed pkgs |
|---|---|---|---|---|
| nebbiolo1 | Linux (Ubuntu 20.04.4 LTS) | x86_64 | R Under development (unstable) (2022-02-17 r81757) -- "Unsuffered Consequences" | 4334 |
| riesling1 | Windows Server 2019 Standard | x64 | R Under development (unstable) (2021-11-21 r81221) -- "Unsuffered Consequences" | 4097 |
| palomino3 | Windows Server 2022 Datacenter | x64 | R Under development (unstable) (2022-02-17 r81757 ucrt) -- "Unsuffered Consequences" | 4083 |
| merida1 | macOS 10.14.6 Mojave | x86_64 | R Under development (unstable) (2022-03-02 r81842) -- "Unsuffered Consequences" | 4134 |
| Click on any hostname to see more info about the system (e.g. compilers) (*) as reported by 'uname -p', except on Windows and Mac OS X | ||||
|
To the developers/maintainers of the granulator package: - Please allow up to 24 hours (and sometimes 48 hours) for your latest push to git@git.bioconductor.org:packages/granulator.git to reflect on this report. See How and When does the builder pull? When will my changes propagate? here for more information. - Make sure to use the following settings in order to reproduce any error or warning you see on this page. |
| Package 818/2090 | Hostname | OS / Arch | INSTALL | BUILD | CHECK | BUILD BIN | ||||||||
| granulator 1.3.0 (landing page) Sabina Pfister
| nebbiolo1 | Linux (Ubuntu 20.04.4 LTS) / x86_64 | OK | OK | OK | |||||||||
| riesling1 | Windows Server 2019 Standard / x64 | OK | OK | OK | OK | |||||||||
| palomino3 | Windows Server 2022 Datacenter / x64 | OK | OK | OK | OK | |||||||||
| merida1 | macOS 10.14.6 Mojave / x86_64 | OK | OK | OK | OK | |||||||||
| Package: granulator |
| Version: 1.3.0 |
| Command: D:\biocbuild\bbs-3.15-bioc\R\bin\R.exe CMD check --no-multiarch --install=check:granulator.install-out.txt --library=D:\biocbuild\bbs-3.15-bioc\R\library --no-vignettes --timings granulator_1.3.0.tar.gz |
| StartedAt: 2022-03-17 19:15:27 -0400 (Thu, 17 Mar 2022) |
| EndedAt: 2022-03-17 19:22:08 -0400 (Thu, 17 Mar 2022) |
| EllapsedTime: 401.3 seconds |
| RetCode: 0 |
| Status: OK |
| CheckDir: granulator.Rcheck |
| Warnings: 0 |
##############################################################################
##############################################################################
###
### Running command:
###
### D:\biocbuild\bbs-3.15-bioc\R\bin\R.exe CMD check --no-multiarch --install=check:granulator.install-out.txt --library=D:\biocbuild\bbs-3.15-bioc\R\library --no-vignettes --timings granulator_1.3.0.tar.gz
###
##############################################################################
##############################################################################
* using log directory 'D:/biocbuild/bbs-3.15-bioc/meat/granulator.Rcheck'
* using R Under development (unstable) (2021-11-21 r81221)
* using platform: x86_64-w64-mingw32 (64-bit)
* using session charset: ISO8859-1
* using option '--no-vignettes'
* checking for file 'granulator/DESCRIPTION' ... OK
* checking extension type ... Package
* this is package 'granulator' version '1.3.0'
* package encoding: UTF-8
* checking package namespace information ... OK
* checking package dependencies ... OK
* checking if this is a source package ... OK
* checking if there is a namespace ... OK
* checking for hidden files and directories ... OK
* checking for portable file names ... OK
* checking whether package 'granulator' can be installed ... OK
* checking installed package size ... OK
* checking package directory ... OK
* checking 'build' directory ... OK
* checking DESCRIPTION meta-information ... OK
* checking top-level files ... OK
* checking for left-over files ... OK
* checking index information ... OK
* checking package subdirectories ... OK
* checking R files for non-ASCII characters ... OK
* checking R files for syntax errors ... OK
* checking whether the package can be loaded ... OK
* checking whether the package can be loaded with stated dependencies ... OK
* checking whether the package can be unloaded cleanly ... OK
* checking whether the namespace can be loaded with stated dependencies ... OK
* checking whether the namespace can be unloaded cleanly ... OK
* checking dependencies in R code ... OK
* checking S3 generic/method consistency ... OK
* checking replacement functions ... OK
* checking foreign function calls ... OK
* checking R code for possible problems ... OK
* checking Rd files ... OK
* checking Rd metadata ... OK
* checking Rd cross-references ... OK
* checking for missing documentation entries ... OK
* checking for code/documentation mismatches ... OK
* checking Rd \usage sections ... OK
* checking Rd contents ... OK
* checking for unstated dependencies in examples ... OK
* checking contents of 'data' directory ... OK
* checking data for non-ASCII characters ... OK
* checking data for ASCII and uncompressed saves ... OK
* checking files in 'vignettes' ... OK
* checking examples ... OK
Examples with CPU (user + system) or elapsed time > 5s
user system elapsed
deconvolute 51.25 0.11 52.10
plot_benchmark 37.53 0.12 39.97
plot_correlate 35.39 0.16 38.35
correlate 30.30 0.21 32.47
plot_regress 30.47 0.01 30.50
plot_deconvolute 27.86 0.03 28.00
benchmark 26.65 0.32 26.99
plot_proportions 26.78 0.08 26.85
* checking for unstated dependencies in 'tests' ... OK
* checking tests ...
Running 'testthat.R'
OK
* checking for unstated dependencies in vignettes ... OK
* checking package vignettes in 'inst/doc' ... OK
* checking running R code from vignettes ... SKIPPED
* checking re-building of vignette outputs ... SKIPPED
* checking PDF version of manual ... OK
* DONE
Status: OK
granulator.Rcheck/00install.out
##############################################################################
##############################################################################
###
### Running command:
###
### D:\biocbuild\bbs-3.15-bioc\R\bin\R.exe CMD INSTALL granulator
###
##############################################################################
##############################################################################
* installing to library 'D:/biocbuild/bbs-3.15-bioc/R/library'
* installing *source* package 'granulator' ...
** using staged installation
** R
** data
** byte-compile and prepare package for lazy loading
** help
*** installing help indices
converting help for package 'granulator'
finding HTML links ... done
benchmark html
bulkRNAseq_ABIS html
correlate html
deconvolute html
get_TPM html
get_decon_methods html
groundTruth_ABIS html
load_ABIS html
plot_benchmark html
plot_correlate html
plot_deconvolute html
plot_proportions html
plot_regress html
plot_similarity html
sigMatrix_ABIS_S0 html
sigMatrix_ABIS_S1 html
sigMatrix_ABIS_S2 html
sigMatrix_ABIS_S3 html
** building package indices
** installing vignettes
** testing if installed package can be loaded from temporary location
** testing if installed package can be loaded from final location
** testing if installed package keeps a record of temporary installation path
* DONE (granulator)
Making 'packages.html' ... done
granulator.Rcheck/tests/testthat.Rout
R Under development (unstable) (2021-11-21 r81221) -- "Unsuffered Consequences"
Copyright (C) 2021 The R Foundation for Statistical Computing
Platform: x86_64-w64-mingw32/x64 (64-bit)
R is free software and comes with ABSOLUTELY NO WARRANTY.
You are welcome to redistribute it under certain conditions.
Type 'license()' or 'licence()' for distribution details.
R is a collaborative project with many contributors.
Type 'contributors()' for more information and
'citation()' on how to cite R or R packages in publications.
Type 'demo()' for some demos, 'help()' for on-line help, or
'help.start()' for an HTML browser interface to help.
Type 'q()' to quit R.
> library("testthat")
> library("granulator")
>
> test_check("granulator")
[ FAIL 0 | WARN 0 | SKIP 0 | PASS 137 ]
>
> proc.time()
user system elapsed
43.78 0.53 44.26
granulator.Rcheck/granulator-Ex.timings
| name | user | system | elapsed | |
| benchmark | 26.65 | 0.32 | 26.99 | |
| correlate | 30.30 | 0.21 | 32.47 | |
| deconvolute | 51.25 | 0.11 | 52.10 | |
| get_TPM | 0 | 0 | 0 | |
| get_decon_methods | 0 | 0 | 0 | |
| load_ABIS | 0.03 | 0.00 | 0.03 | |
| plot_benchmark | 37.53 | 0.12 | 39.97 | |
| plot_correlate | 35.39 | 0.16 | 38.35 | |
| plot_deconvolute | 27.86 | 0.03 | 28.00 | |
| plot_proportions | 26.78 | 0.08 | 26.85 | |
| plot_regress | 30.47 | 0.01 | 30.50 | |
| plot_similarity | 3.75 | 0.02 | 3.77 | |