| Back to Multiple platform build/check report for BioC 3.15 |
|
This page was generated on 2022-01-14 11:09:38 -0500 (Fri, 14 Jan 2022).
| Hostname | OS | Arch (*) | R version | Installed pkgs |
|---|---|---|---|---|
| nebbiolo1 | Linux (Ubuntu 20.04.4 LTS) | x86_64 | R Under development (unstable) (2022-01-05 r81451) -- "Unsuffered Consequences" | 4159 |
| riesling1 | Windows Server 2019 Standard | x64 | R Under development (unstable) (2021-11-21 r81221) -- "Unsuffered Consequences" | 4055 |
| palomino3 | Windows Server 2022 Datacenter | x64 | R Under development (unstable) (2021-12-21 r81400 ucrt) -- "Unsuffered Consequences" | 3997 |
| merida1 | macOS 10.14.6 Mojave | x86_64 | R Under development (unstable) (2022-01-05 r81451) -- "Unsuffered Consequences" | 4114 |
| Click on any hostname to see more info about the system (e.g. compilers) (*) as reported by 'uname -p', except on Windows and Mac OS X | ||||
|
To the developers/maintainers of the gpart package: - Please allow up to 24 hours (and sometimes 48 hours) for your latest push to git@git.bioconductor.org:packages/gpart.git to reflect on this report. See How and When does the builder pull? When will my changes propagate? here for more information. - Make sure to use the following settings in order to reproduce any error or warning you see on this page. |
| Package 809/2074 | Hostname | OS / Arch | INSTALL | BUILD | CHECK | BUILD BIN | ||||||||
| gpart 1.13.0 (landing page) Sun Ah Kim
| nebbiolo1 | Linux (Ubuntu 20.04.4 LTS) / x86_64 | OK | OK | OK | |||||||||
| riesling1 | Windows Server 2019 Standard / x64 | OK | OK | OK | OK | |||||||||
| palomino3 | Windows Server 2022 Datacenter / x64 | OK | OK | OK | OK | |||||||||
| merida1 | macOS 10.14.6 Mojave / x86_64 | OK | OK | OK | OK | |||||||||
| Package: gpart |
| Version: 1.13.0 |
| Command: rm -rf gpart.buildbin-libdir && mkdir gpart.buildbin-libdir && F:\biocbuild\bbs-3.15-bioc\R\bin\R.exe CMD INSTALL --build --library=gpart.buildbin-libdir gpart_1.13.0.tar.gz |
| StartedAt: 2022-01-14 04:39:00 -0500 (Fri, 14 Jan 2022) |
| EndedAt: 2022-01-14 04:40:02 -0500 (Fri, 14 Jan 2022) |
| EllapsedTime: 62.4 seconds |
| RetCode: 0 |
| Status: OK |
| PackageFile: gpart_1.13.0.zip |
| PackageFileSize: 1.348 MiB |
##############################################################################
##############################################################################
###
### Running command:
###
### rm -rf gpart.buildbin-libdir && mkdir gpart.buildbin-libdir && F:\biocbuild\bbs-3.15-bioc\R\bin\R.exe CMD INSTALL --build --library=gpart.buildbin-libdir gpart_1.13.0.tar.gz
###
##############################################################################
##############################################################################
* installing *source* package 'gpart' ...
** using staged installation
** libs
g++ -std=gnu++11 -I"F:/biocbuild/bbs-3.15-bioc/R/include" -DNDEBUG -I'F:/biocbuild/bbs-3.15-bioc/R/library/Rcpp/include' -I"C:/rtools42/x86_64-w64-mingw32.static.posix/include" -O2 -Wall -mfpmath=sse -msse2 -mstackrealign -fexceptions -c RcppExports.cpp -o RcppExports.o
g++ -std=gnu++11 -I"F:/biocbuild/bbs-3.15-bioc/R/include" -DNDEBUG -I'F:/biocbuild/bbs-3.15-bioc/R/library/Rcpp/include' -I"C:/rtools42/x86_64-w64-mingw32.static.posix/include" -O2 -Wall -mfpmath=sse -msse2 -mstackrealign -fexceptions -c gpart_cpp.cpp -o gpart_cpp.o
g++ -std=gnu++11 -shared -s -static-libgcc -o gpart.dll tmp.def RcppExports.o gpart_cpp.o -LC:/rtools42/x86_64-w64-mingw32.static.posix/lib/x64 -LC:/rtools42/x86_64-w64-mingw32.static.posix/lib -LF:/biocbuild/bbs-3.15-bioc/R/bin/x64 -lR
installing to F:/biocbuild/bbs-3.15-bioc/meat/gpart.buildbin-libdir/00LOCK-gpart/00new/gpart/libs/x64
** R
** data
*** moving datasets to lazyload DB
** inst
** byte-compile and prepare package for lazy loading
** help
*** installing help indices
converting help for package 'gpart'
finding HTML links ... done
BigLD html
CLQD html
GPART html
LDblockHeatmap html
SNPinfo html
convert2GRange html
geneinfo html
geno html
gpart-package html
REDIRECT:topic Previous alias or file overwritten by alias: F:/biocbuild/bbs-3.15-bioc/meat/gpart.buildbin-libdir/00LOCK-gpart/00new/gpart/help/gpart.html
** building package indices
** installing vignettes
** testing if installed package can be loaded from temporary location
** testing if installed package can be loaded from final location
** testing if installed package keeps a record of temporary installation path
* MD5 sums
packaged installation of 'gpart' as gpart_1.13.0.zip
* DONE (gpart)