| Back to Multiple platform build/check report for BioC 3.15 |
|
This page was generated on 2022-03-18 11:07:39 -0400 (Fri, 18 Mar 2022).
| Hostname | OS | Arch (*) | R version | Installed pkgs |
|---|---|---|---|---|
| nebbiolo1 | Linux (Ubuntu 20.04.4 LTS) | x86_64 | R Under development (unstable) (2022-02-17 r81757) -- "Unsuffered Consequences" | 4334 |
| riesling1 | Windows Server 2019 Standard | x64 | R Under development (unstable) (2021-11-21 r81221) -- "Unsuffered Consequences" | 4097 |
| palomino3 | Windows Server 2022 Datacenter | x64 | R Under development (unstable) (2022-02-17 r81757 ucrt) -- "Unsuffered Consequences" | 4083 |
| merida1 | macOS 10.14.6 Mojave | x86_64 | R Under development (unstable) (2022-03-02 r81842) -- "Unsuffered Consequences" | 4134 |
| Click on any hostname to see more info about the system (e.g. compilers) (*) as reported by 'uname -p', except on Windows and Mac OS X | ||||
|
To the developers/maintainers of the glmSparseNet package: - Please allow up to 24 hours (and sometimes 48 hours) for your latest push to git@git.bioconductor.org:packages/glmSparseNet.git to reflect on this report. See How and When does the builder pull? When will my changes propagate? here for more information. - Make sure to use the following settings in order to reproduce any error or warning you see on this page. |
| Package 792/2090 | Hostname | OS / Arch | INSTALL | BUILD | CHECK | BUILD BIN | ||||||||
| glmSparseNet 1.13.0 (landing page) AndrĂ© VerĂssimo
| nebbiolo1 | Linux (Ubuntu 20.04.4 LTS) / x86_64 | OK | OK | OK | |||||||||
| riesling1 | Windows Server 2019 Standard / x64 | OK | OK | OK | OK | |||||||||
| palomino3 | Windows Server 2022 Datacenter / x64 | OK | OK | OK | OK | |||||||||
| merida1 | macOS 10.14.6 Mojave / x86_64 | OK | OK | OK | OK | |||||||||
| Package: glmSparseNet |
| Version: 1.13.0 |
| Command: rm -rf glmSparseNet.buildbin-libdir && mkdir glmSparseNet.buildbin-libdir && D:\biocbuild\bbs-3.15-bioc\R\bin\R.exe CMD INSTALL --build --library=glmSparseNet.buildbin-libdir glmSparseNet_1.13.0.tar.gz |
| StartedAt: 2022-03-17 21:12:17 -0400 (Thu, 17 Mar 2022) |
| EndedAt: 2022-03-17 21:13:21 -0400 (Thu, 17 Mar 2022) |
| EllapsedTime: 63.3 seconds |
| RetCode: 0 |
| Status: OK |
| PackageFile: glmSparseNet_1.13.0.zip |
| PackageFileSize: 2.329 MiB |
##############################################################################
##############################################################################
###
### Running command:
###
### rm -rf glmSparseNet.buildbin-libdir && mkdir glmSparseNet.buildbin-libdir && D:\biocbuild\bbs-3.15-bioc\R\bin\R.exe CMD INSTALL --build --library=glmSparseNet.buildbin-libdir glmSparseNet_1.13.0.tar.gz
###
##############################################################################
##############################################################################
* installing *source* package 'glmSparseNet' ...
** using staged installation
** R
** data
** inst
** byte-compile and prepare package for lazy loading
** help
*** installing help indices
converting help for package 'glmSparseNet'
finding HTML links ... done
biomart.load html
buildLambda html
buildStringNetwork html
calculate.combined.score html
curl.workaround html
cv.glmDegree html
cv.glmHub html
cv.glmOrphan html
cv.glmSparseNet html
degreeCor html
degreeCov html
degreeSparsebn html
dot-calcPenalty html
dot-degreeGeneric html
dot-glmSparseNetPrivate html
dot-networkGenericParallel html
dot-networkWorker html
downloadFileLocal html
ensemblGeneNames html
geneNames html
glmDegree html
glmHub html
glmOrphan html
glmSparseNet html
hallmarks html
heuristicScale html
hubHeuristic html
networkCorParallel html
networkCovParallel html
networkOptions html
orphanHeuristic html
protein2EnsemblGeneNames html
separate2GroupsCox html
string.network.700.cache html
stringDBhomoSapiens html
** building package indices
** installing vignettes
** testing if installed package can be loaded from temporary location
** testing if installed package can be loaded from final location
** testing if installed package keeps a record of temporary installation path
* MD5 sums
packaged installation of 'glmSparseNet' as glmSparseNet_1.13.0.zip
* DONE (glmSparseNet)