| Back to Multiple platform build/check report for BioC 3.15 |
|
This page was generated on 2022-03-18 11:07:35 -0400 (Fri, 18 Mar 2022).
| Hostname | OS | Arch (*) | R version | Installed pkgs |
|---|---|---|---|---|
| nebbiolo1 | Linux (Ubuntu 20.04.4 LTS) | x86_64 | R Under development (unstable) (2022-02-17 r81757) -- "Unsuffered Consequences" | 4334 |
| riesling1 | Windows Server 2019 Standard | x64 | R Under development (unstable) (2021-11-21 r81221) -- "Unsuffered Consequences" | 4097 |
| palomino3 | Windows Server 2022 Datacenter | x64 | R Under development (unstable) (2022-02-17 r81757 ucrt) -- "Unsuffered Consequences" | 4083 |
| merida1 | macOS 10.14.6 Mojave | x86_64 | R Under development (unstable) (2022-03-02 r81842) -- "Unsuffered Consequences" | 4134 |
| Click on any hostname to see more info about the system (e.g. compilers) (*) as reported by 'uname -p', except on Windows and Mac OS X | ||||
|
To the developers/maintainers of the geneClassifiers package: - Please allow up to 24 hours (and sometimes 48 hours) for your latest push to git@git.bioconductor.org:packages/geneClassifiers.git to reflect on this report. See How and When does the builder pull? When will my changes propagate? here for more information. - Make sure to use the following settings in order to reproduce any error or warning you see on this page. |
| Package 722/2090 | Hostname | OS / Arch | INSTALL | BUILD | CHECK | BUILD BIN | ||||||||
| geneClassifiers 1.19.0 (landing page) R Kuiper
| nebbiolo1 | Linux (Ubuntu 20.04.4 LTS) / x86_64 | OK | OK | OK | |||||||||
| riesling1 | Windows Server 2019 Standard / x64 | OK | OK | OK | OK | |||||||||
| palomino3 | Windows Server 2022 Datacenter / x64 | OK | OK | OK | OK | |||||||||
| merida1 | macOS 10.14.6 Mojave / x86_64 | OK | OK | OK | OK | |||||||||
| Package: geneClassifiers |
| Version: 1.19.0 |
| Command: D:\biocbuild\bbs-3.15-bioc\R\bin\R.exe CMD check --no-multiarch --install=check:geneClassifiers.install-out.txt --library=D:\biocbuild\bbs-3.15-bioc\R\library --no-vignettes --timings geneClassifiers_1.19.0.tar.gz |
| StartedAt: 2022-03-17 19:09:32 -0400 (Thu, 17 Mar 2022) |
| EndedAt: 2022-03-17 19:10:14 -0400 (Thu, 17 Mar 2022) |
| EllapsedTime: 41.5 seconds |
| RetCode: 0 |
| Status: OK |
| CheckDir: geneClassifiers.Rcheck |
| Warnings: 0 |
############################################################################## ############################################################################## ### ### Running command: ### ### D:\biocbuild\bbs-3.15-bioc\R\bin\R.exe CMD check --no-multiarch --install=check:geneClassifiers.install-out.txt --library=D:\biocbuild\bbs-3.15-bioc\R\library --no-vignettes --timings geneClassifiers_1.19.0.tar.gz ### ############################################################################## ############################################################################## * using log directory 'D:/biocbuild/bbs-3.15-bioc/meat/geneClassifiers.Rcheck' * using R Under development (unstable) (2021-11-21 r81221) * using platform: x86_64-w64-mingw32 (64-bit) * using session charset: ISO8859-1 * using option '--no-vignettes' * checking for file 'geneClassifiers/DESCRIPTION' ... OK * checking extension type ... Package * this is package 'geneClassifiers' version '1.19.0' * package encoding: UTF-8 * checking package namespace information ... OK * checking package dependencies ... OK * checking if this is a source package ... OK * checking if there is a namespace ... OK * checking for hidden files and directories ... OK * checking for portable file names ... OK * checking whether package 'geneClassifiers' can be installed ... OK * checking installed package size ... OK * checking package directory ... OK * checking 'build' directory ... OK * checking DESCRIPTION meta-information ... OK * checking top-level files ... OK * checking for left-over files ... OK * checking index information ... OK * checking package subdirectories ... OK * checking R files for non-ASCII characters ... OK * checking R files for syntax errors ... OK * checking whether the package can be loaded ... OK * checking whether the package can be loaded with stated dependencies ... OK * checking whether the package can be unloaded cleanly ... OK * checking whether the namespace can be loaded with stated dependencies ... OK * checking whether the namespace can be unloaded cleanly ... OK * checking dependencies in R code ... OK * checking S3 generic/method consistency ... OK * checking replacement functions ... OK * checking foreign function calls ... OK * checking R code for possible problems ... OK * checking Rd files ... OK * checking Rd metadata ... OK * checking Rd cross-references ... OK * checking for missing documentation entries ... OK * checking for code/documentation mismatches ... OK * checking Rd \usage sections ... OK * checking Rd contents ... OK * checking for unstated dependencies in examples ... OK * checking contents of 'data' directory ... OK * checking data for non-ASCII characters ... OK * checking LazyData ... OK * checking data for ASCII and uncompressed saves ... OK * checking R/sysdata.rda ... OK * checking files in 'vignettes' ... OK * checking examples ... OK * checking for unstated dependencies in 'tests' ... OK * checking tests ... Running 'testthat.R' OK * checking for unstated dependencies in vignettes ... OK * checking package vignettes in 'inst/doc' ... OK * checking running R code from vignettes ... SKIPPED * checking re-building of vignette outputs ... SKIPPED * checking PDF version of manual ... OK * DONE Status: OK
geneClassifiers.Rcheck/00install.out
##############################################################################
##############################################################################
###
### Running command:
###
### D:\biocbuild\bbs-3.15-bioc\R\bin\R.exe CMD INSTALL geneClassifiers
###
##############################################################################
##############################################################################
* installing to library 'D:/biocbuild/bbs-3.15-bioc/R/library'
* installing *source* package 'geneClassifiers' ...
** using staged installation
** R
** data
*** moving datasets to lazyload DB
** byte-compile and prepare package for lazy loading
** help
*** installing help indices
converting help for package 'geneClassifiers'
finding HTML links ... done
ClassifierParameters html
ClassifierResults html
FixedExpressionData html
bracket-methods html
dim-methods html
exampleMAS5 html
finding level-2 HTML links ... done
geneClassifiers-package html
getBatchCorrection-methods html
getCitations-methods html
getClassifications-methods html
getClassifier-methods html
getDecisionBoundaries-methods html
getDescription-methods html
getEventChain-methods html
getIntercept-methods html
getMeans-methods html
getName-methods html
getNormalizationMethod-methods html
getProbeNames-methods html
getScores-methods html
getSds-methods html
getTargetValue-methods html
getTrainingData-methods html
getWeightingType-methods html
getWeights-methods html
runClassifier-methods html
setNormalizationMethod-methods html
showClassifierList-methods html
** building package indices
** installing vignettes
** testing if installed package can be loaded from temporary location
** testing if installed package can be loaded from final location
** testing if installed package keeps a record of temporary installation path
* DONE (geneClassifiers)
Making 'packages.html' ...Warning in packageDescription(i, lib.loc = lib, fields = "Title", encoding = "UTF-8") :
DESCRIPTION file of package 'biomformat' is missing or broken
done
geneClassifiers.Rcheck/tests/testthat.Rout
R Under development (unstable) (2021-11-21 r81221) -- "Unsuffered Consequences"
Copyright (C) 2021 The R Foundation for Statistical Computing
Platform: x86_64-w64-mingw32/x64 (64-bit)
R is free software and comes with ABSOLUTELY NO WARRANTY.
You are welcome to redistribute it under certain conditions.
Type 'license()' or 'licence()' for distribution details.
R is a collaborative project with many contributors.
Type 'contributors()' for more information and
'citation()' on how to cite R or R packages in publications.
Type 'demo()' for some demos, 'help()' for on-line help, or
'help.start()' for an HTML browser interface to help.
Type 'q()' to quit R.
> library(testthat)
> library(geneClassifiers)
>
> test_check("geneClassifiers")
[ FAIL 0 | WARN 0 | SKIP 0 | PASS 191 ]
>
> proc.time()
user system elapsed
2.68 0.15 2.81
geneClassifiers.Rcheck/geneClassifiers-Ex.timings
| name | user | system | elapsed | |
| bracket-methods | 0.04 | 0.00 | 0.03 | |
| dim-methods | 0.01 | 0.00 | 0.02 | |
| getBatchCorrection-methods | 0.20 | 0.00 | 0.21 | |
| getCitations-methods | 0 | 0 | 0 | |
| getClassifications-methods | 0.02 | 0.00 | 0.02 | |
| getClassifier-methods | 0 | 0 | 0 | |
| getDecisionBoundaries-methods | 0 | 0 | 0 | |
| getDescription-methods | 0 | 0 | 0 | |
| getEventChain-methods | 0 | 0 | 0 | |
| getIntercept-methods | 0 | 0 | 0 | |
| getMeans-methods | 0.00 | 0.02 | 0.01 | |
| getName-methods | 0 | 0 | 0 | |
| getNormalizationMethod-methods | 0.01 | 0.00 | 0.02 | |
| getProbeNames-methods | 0 | 0 | 0 | |
| getScores-methods | 0.00 | 0.01 | 0.02 | |
| getSds-methods | 0 | 0 | 0 | |
| getTargetValue-methods | 0.01 | 0.00 | 0.02 | |
| getTrainingData-methods | 0.02 | 0.00 | 0.01 | |
| getWeightingType-methods | 0.03 | 0.00 | 0.03 | |
| getWeights-methods | 0 | 0 | 0 | |
| runClassifier-methods | 0.02 | 0.00 | 0.02 | |
| setNormalizationMethod-methods | 0.01 | 0.00 | 0.01 | |
| showClassifierList-methods | 0.03 | 0.00 | 0.03 | |