| Back to Multiple platform build/check report for BioC 3.15 |
|
This page was generated on 2022-03-18 11:07:35 -0400 (Fri, 18 Mar 2022).
| Hostname | OS | Arch (*) | R version | Installed pkgs |
|---|---|---|---|---|
| nebbiolo1 | Linux (Ubuntu 20.04.4 LTS) | x86_64 | R Under development (unstable) (2022-02-17 r81757) -- "Unsuffered Consequences" | 4334 |
| riesling1 | Windows Server 2019 Standard | x64 | R Under development (unstable) (2021-11-21 r81221) -- "Unsuffered Consequences" | 4097 |
| palomino3 | Windows Server 2022 Datacenter | x64 | R Under development (unstable) (2022-02-17 r81757 ucrt) -- "Unsuffered Consequences" | 4083 |
| merida1 | macOS 10.14.6 Mojave | x86_64 | R Under development (unstable) (2022-03-02 r81842) -- "Unsuffered Consequences" | 4134 |
| Click on any hostname to see more info about the system (e.g. compilers) (*) as reported by 'uname -p', except on Windows and Mac OS X | ||||
|
To the developers/maintainers of the gemini package: - Please allow up to 24 hours (and sometimes 48 hours) for your latest push to git@git.bioconductor.org:packages/gemini.git to reflect on this report. See How and When does the builder pull? When will my changes propagate? here for more information. - Make sure to use the following settings in order to reproduce any error or warning you see on this page. |
| Package 716/2090 | Hostname | OS / Arch | INSTALL | BUILD | CHECK | BUILD BIN | ||||||||
| gemini 1.9.0 (landing page) Sidharth Jain
| nebbiolo1 | Linux (Ubuntu 20.04.4 LTS) / x86_64 | OK | OK | OK | |||||||||
| riesling1 | Windows Server 2019 Standard / x64 | OK | OK | OK | OK | |||||||||
| palomino3 | Windows Server 2022 Datacenter / x64 | OK | OK | OK | OK | |||||||||
| merida1 | macOS 10.14.6 Mojave / x86_64 | OK | OK | OK | OK | |||||||||
| Package: gemini |
| Version: 1.9.0 |
| Command: D:\biocbuild\bbs-3.15-bioc\R\bin\R.exe CMD check --no-multiarch --install=check:gemini.install-out.txt --library=D:\biocbuild\bbs-3.15-bioc\R\library --no-vignettes --timings gemini_1.9.0.tar.gz |
| StartedAt: 2022-03-17 19:09:11 -0400 (Thu, 17 Mar 2022) |
| EndedAt: 2022-03-17 19:11:36 -0400 (Thu, 17 Mar 2022) |
| EllapsedTime: 144.3 seconds |
| RetCode: 0 |
| Status: OK |
| CheckDir: gemini.Rcheck |
| Warnings: 0 |
##############################################################################
##############################################################################
###
### Running command:
###
### D:\biocbuild\bbs-3.15-bioc\R\bin\R.exe CMD check --no-multiarch --install=check:gemini.install-out.txt --library=D:\biocbuild\bbs-3.15-bioc\R\library --no-vignettes --timings gemini_1.9.0.tar.gz
###
##############################################################################
##############################################################################
* using log directory 'D:/biocbuild/bbs-3.15-bioc/meat/gemini.Rcheck'
* using R Under development (unstable) (2021-11-21 r81221)
* using platform: x86_64-w64-mingw32 (64-bit)
* using session charset: ISO8859-1
* using option '--no-vignettes'
* checking for file 'gemini/DESCRIPTION' ... OK
* checking extension type ... Package
* this is package 'gemini' version '1.9.0'
* package encoding: UTF-8
* checking package namespace information ... OK
* checking package dependencies ... OK
* checking if this is a source package ... OK
* checking if there is a namespace ... OK
* checking for hidden files and directories ... OK
* checking for portable file names ... OK
* checking whether package 'gemini' can be installed ... OK
* checking installed package size ... OK
* checking package directory ... OK
* checking 'build' directory ... OK
* checking DESCRIPTION meta-information ... OK
* checking top-level files ... OK
* checking for left-over files ... OK
* checking index information ... OK
* checking package subdirectories ... OK
* checking R files for non-ASCII characters ... OK
* checking R files for syntax errors ... OK
* checking whether the package can be loaded ... OK
* checking whether the package can be loaded with stated dependencies ... OK
* checking whether the package can be unloaded cleanly ... OK
* checking whether the namespace can be loaded with stated dependencies ... OK
* checking whether the namespace can be unloaded cleanly ... OK
* checking dependencies in R code ... OK
* checking S3 generic/method consistency ... OK
* checking replacement functions ... OK
* checking foreign function calls ... OK
* checking R code for possible problems ... NOTE
gemini_boxplot : <anonymous>: no visible binding for global variable
'.'
gemini_boxplot: no visible binding for global variable '.'
gemini_boxplot : <anonymous>: no visible binding for global variable
'gi'
gemini_boxplot : <anonymous>: no visible binding for global variable
'hj'
gemini_boxplot: no visible binding for global variable 'label'
gemini_boxplot: no visible binding for global variable 'y'
gemini_calculate_lfc: no visible binding for global variable '.'
update_s_pb: no visible binding for global variable '.'
update_tau_pb: no visible binding for global variable '.'
Undefined global functions or variables:
. gi hj label y
* checking Rd files ... OK
* checking Rd metadata ... OK
* checking Rd cross-references ... OK
* checking for missing documentation entries ... OK
* checking for code/documentation mismatches ... OK
* checking Rd \usage sections ... OK
* checking Rd contents ... OK
* checking for unstated dependencies in examples ... OK
* checking contents of 'data' directory ... OK
* checking data for non-ASCII characters ... OK
* checking data for ASCII and uncompressed saves ... OK
* checking files in 'vignettes' ... OK
* checking examples ... OK
Examples with CPU (user + system) or elapsed time > 5s
user system elapsed
gemini_inference 22.55 5.93 28.49
update_tau_pb 9.31 1.35 10.77
update_x_pb 5.61 1.23 6.84
gemini_initialize 5.36 0.02 5.37
* checking for unstated dependencies in 'tests' ... OK
* checking tests ...
Running 'testthat.R'
OK
* checking for unstated dependencies in vignettes ... OK
* checking package vignettes in 'inst/doc' ... OK
* checking running R code from vignettes ... SKIPPED
* checking re-building of vignette outputs ... SKIPPED
* checking PDF version of manual ... OK
* DONE
Status: 1 NOTE
See
'D:/biocbuild/bbs-3.15-bioc/meat/gemini.Rcheck/00check.log'
for details.
gemini.Rcheck/00install.out
##############################################################################
##############################################################################
###
### Running command:
###
### D:\biocbuild\bbs-3.15-bioc\R\bin\R.exe CMD INSTALL gemini
###
##############################################################################
##############################################################################
* installing to library 'D:/biocbuild/bbs-3.15-bioc/R/library'
* installing *source* package 'gemini' ...
** using staged installation
** R
** data
** inst
** byte-compile and prepare package for lazy loading
** help
*** installing help indices
converting help for package 'gemini'
finding HTML links ... done
Input html
Model html
Sgene2Pguides_hash html
Sguide2Pguides_hash html
compound html
counts html
dot-median_normalize html
gemini_boxplot html
gemini_calculate_lfc html
gemini_create_input html
gemini_inference html
gemini_initialize html
gemini_parallelization html
gemini_plot_mae html
gemini_prepare_input html
gemini_score html
guide.annotation html
initialize_s html
initialize_tau html
initialize_x html
initialize_y html
pipe html
sample.replicate.annotation html
update_mae html
update_s_pb html
update_tau_pb html
update_x_pb html
update_y_pb html
** building package indices
** installing vignettes
** testing if installed package can be loaded from temporary location
** testing if installed package can be loaded from final location
** testing if installed package keeps a record of temporary installation path
* DONE (gemini)
Making 'packages.html' ... done
gemini.Rcheck/tests/testthat.Rout
R Under development (unstable) (2021-11-21 r81221) -- "Unsuffered Consequences"
Copyright (C) 2021 The R Foundation for Statistical Computing
Platform: x86_64-w64-mingw32/x64 (64-bit)
R is free software and comes with ABSOLUTELY NO WARRANTY.
You are welcome to redistribute it under certain conditions.
Type 'license()' or 'licence()' for distribution details.
R is a collaborative project with many contributors.
Type 'contributors()' for more information and
'citation()' on how to cite R or R packages in publications.
Type 'demo()' for some demos, 'help()' for on-line help, or
'help.start()' for an HTML browser interface to help.
Type 'q()' to quit R.
> library(testthat)
> library(gemini)
>
> test_check("gemini")
[ FAIL 0 | WARN 0 | SKIP 0 | PASS 7 ]
>
> proc.time()
user system elapsed
4.85 0.59 5.43
gemini.Rcheck/gemini-Ex.timings
| name | user | system | elapsed | |
| Sgene2Pguides_hash | 0 | 0 | 0 | |
| Sguide2Pguides_hash | 0 | 0 | 0 | |
| compound | 0 | 0 | 0 | |
| dot-median_normalize | 0 | 0 | 0 | |
| gemini_boxplot | 1.83 | 0.08 | 1.90 | |
| gemini_calculate_lfc | 0.31 | 0.03 | 0.35 | |
| gemini_create_input | 0.19 | 0.11 | 0.29 | |
| gemini_inference | 22.55 | 5.93 | 28.49 | |
| gemini_initialize | 5.36 | 0.02 | 5.37 | |
| gemini_plot_mae | 0.53 | 0.03 | 0.56 | |
| gemini_prepare_input | 0.32 | 0.02 | 0.34 | |
| gemini_score | 0.53 | 0.03 | 0.57 | |
| initialize_s | 1.13 | 0.01 | 1.14 | |
| initialize_tau | 1.37 | 0.05 | 1.42 | |
| initialize_x | 2.63 | 0.03 | 2.66 | |
| initialize_y | 0.42 | 0.02 | 0.43 | |
| pipe | 0 | 0 | 0 | |
| update_mae | 0.84 | 0.01 | 0.86 | |
| update_s_pb | 2.13 | 0.03 | 2.15 | |
| update_tau_pb | 9.31 | 1.35 | 10.77 | |
| update_x_pb | 5.61 | 1.23 | 6.84 | |
| update_y_pb | 1.79 | 0.07 | 1.86 | |