| Back to Multiple platform build/check report for BioC 3.15 |
|
This page was generated on 2022-10-19 13:21:31 -0400 (Wed, 19 Oct 2022).
| Hostname | OS | Arch (*) | R version | Installed pkgs |
|---|---|---|---|---|
| nebbiolo1 | Linux (Ubuntu 20.04.5 LTS) | x86_64 | 4.2.1 (2022-06-23) -- "Funny-Looking Kid" | 4386 |
| palomino3 | Windows Server 2022 Datacenter | x64 | 4.2.1 (2022-06-23 ucrt) -- "Funny-Looking Kid" | 4138 |
| merida1 | macOS 10.14.6 Mojave | x86_64 | 4.2.1 (2022-06-23) -- "Funny-Looking Kid" | 4205 |
| Click on any hostname to see more info about the system (e.g. compilers) (*) as reported by 'uname -p', except on Windows and Mac OS X | ||||
|
To the developers/maintainers of the gaga package: - Please allow up to 24 hours (and sometimes 48 hours) for your latest push to git@git.bioconductor.org:packages/gaga.git to reflect on this report. See How and When does the builder pull? When will my changes propagate? for more information. - Make sure to use the following settings in order to reproduce any error or warning you see on this page. |
| Package 714/2140 | Hostname | OS / Arch | INSTALL | BUILD | CHECK | BUILD BIN | ||||||||
| gaga 2.42.0 (landing page) David Rossell
| nebbiolo1 | Linux (Ubuntu 20.04.5 LTS) / x86_64 | OK | OK | OK | |||||||||
| palomino3 | Windows Server 2022 Datacenter / x64 | OK | OK | OK | OK | |||||||||
| merida1 | macOS 10.14.6 Mojave / x86_64 | OK | OK | WARNINGS | OK | |||||||||
| Package: gaga |
| Version: 2.42.0 |
| Command: rm -rf gaga.buildbin-libdir && mkdir gaga.buildbin-libdir && F:\biocbuild\bbs-3.15-bioc\R\bin\R.exe CMD INSTALL --build --library=gaga.buildbin-libdir gaga_2.42.0.tar.gz |
| StartedAt: 2022-10-19 05:54:52 -0400 (Wed, 19 Oct 2022) |
| EndedAt: 2022-10-19 05:55:12 -0400 (Wed, 19 Oct 2022) |
| EllapsedTime: 20.0 seconds |
| RetCode: 0 |
| Status: OK |
| PackageFile: gaga_2.42.0.zip |
| PackageFileSize: 620.9 KiB |
##############################################################################
##############################################################################
###
### Running command:
###
### rm -rf gaga.buildbin-libdir && mkdir gaga.buildbin-libdir && F:\biocbuild\bbs-3.15-bioc\R\bin\R.exe CMD INSTALL --build --library=gaga.buildbin-libdir gaga_2.42.0.tar.gz
###
##############################################################################
##############################################################################
* installing *source* package 'gaga' ...
** using staged installation
** libs
gcc -I"F:/biocbuild/bbs-3.15-bioc/R/include" -DNDEBUG -I"C:/rtools42/x86_64-w64-mingw32.static.posix/include" -O2 -Wall -std=gnu99 -mfpmath=sse -msse2 -mstackrealign -c cseqdesma.c -o cseqdesma.o
gcc -I"F:/biocbuild/bbs-3.15-bioc/R/include" -DNDEBUG -I"C:/rtools42/x86_64-w64-mingw32.static.posix/include" -O2 -Wall -std=gnu99 -mfpmath=sse -msse2 -mstackrealign -c cstat.c -o cstat.o
cstat.c:22:19: warning: 'css_c_sccs_id' defined but not used [-Wunused-const-variable=]
22 | static const char css_c_sccs_id[] = "@(#)$Workfile: rand.c$ $Revision: 5$";
| ^~~~~~~~~~~~~
cstat.c:21:19: warning: 'vector_c_sccs_id' defined but not used [-Wunused-const-variable=]
21 | static const char vector_c_sccs_id[] = "%W%";
| ^~~~~~~~~~~~~~~~
cstat.c:20:19: warning: 'nrutil_c_sccs_id' defined but not used [-Wunused-const-variable=]
20 | static const char nrutil_c_sccs_id[] = "%W%";
| ^~~~~~~~~~~~~~~~
cstat.c:19:19: warning: 'mess_c_sccs_id' defined but not used [-Wunused-const-variable=]
19 | static const char mess_c_sccs_id[] = "%W%";
| ^~~~~~~~~~~~~~
cstat.c:18:19: warning: 'interface_c_sccs_id' defined but not used [-Wunused-const-variable=]
18 | static const char interface_c_sccs_id[] = "%W%";
| ^~~~~~~~~~~~~~~~~~~
gcc -shared -s -static-libgcc -o gaga.dll tmp.def cseqdesma.o cstat.o -LC:/rtools42/x86_64-w64-mingw32.static.posix/lib/x64 -LC:/rtools42/x86_64-w64-mingw32.static.posix/lib -LF:/biocbuild/bbs-3.15-bioc/R/bin/x64 -lR
installing to F:/biocbuild/bbs-3.15-bioc/meat/gaga.buildbin-libdir/00LOCK-gaga/00new/gaga/libs/x64
** R
** inst
** byte-compile and prepare package for lazy loading
** help
*** installing help indices
** building package indices
** installing vignettes
** testing if installed package can be loaded from temporary location
** testing if installed package can be loaded from final location
** testing if installed package keeps a record of temporary installation path
* MD5 sums
packaged installation of 'gaga' as gaga_2.42.0.zip
* DONE (gaga)