| Back to Multiple platform build/check report for BioC 3.15 |
|
This page was generated on 2022-03-18 11:07:33 -0400 (Fri, 18 Mar 2022).
| Hostname | OS | Arch (*) | R version | Installed pkgs |
|---|---|---|---|---|
| nebbiolo1 | Linux (Ubuntu 20.04.4 LTS) | x86_64 | R Under development (unstable) (2022-02-17 r81757) -- "Unsuffered Consequences" | 4334 |
| riesling1 | Windows Server 2019 Standard | x64 | R Under development (unstable) (2021-11-21 r81221) -- "Unsuffered Consequences" | 4097 |
| palomino3 | Windows Server 2022 Datacenter | x64 | R Under development (unstable) (2022-02-17 r81757 ucrt) -- "Unsuffered Consequences" | 4083 |
| merida1 | macOS 10.14.6 Mojave | x86_64 | R Under development (unstable) (2022-03-02 r81842) -- "Unsuffered Consequences" | 4134 |
| Click on any hostname to see more info about the system (e.g. compilers) (*) as reported by 'uname -p', except on Windows and Mac OS X | ||||
|
To the developers/maintainers of the frmaTools package: - Please allow up to 24 hours (and sometimes 48 hours) for your latest push to git@git.bioconductor.org:packages/frmaTools.git to reflect on this report. See How and When does the builder pull? When will my changes propagate? here for more information. - Make sure to use the following settings in order to reproduce any error or warning you see on this page. |
| Package 689/2090 | Hostname | OS / Arch | INSTALL | BUILD | CHECK | BUILD BIN | ||||||||
| frmaTools 1.47.0 (landing page) Matthew N. McCall
| nebbiolo1 | Linux (Ubuntu 20.04.4 LTS) / x86_64 | OK | OK | OK | |||||||||
| riesling1 | Windows Server 2019 Standard / x64 | OK | OK | OK | OK | |||||||||
| palomino3 | Windows Server 2022 Datacenter / x64 | OK | OK | OK | OK | |||||||||
| merida1 | macOS 10.14.6 Mojave / x86_64 | OK | OK | OK | OK | |||||||||
| Package: frmaTools |
| Version: 1.47.0 |
| Command: D:\biocbuild\bbs-3.15-bioc\R\bin\R.exe CMD check --no-multiarch --install=check:frmaTools.install-out.txt --library=D:\biocbuild\bbs-3.15-bioc\R\library --no-vignettes --timings frmaTools_1.47.0.tar.gz |
| StartedAt: 2022-03-17 19:08:07 -0400 (Thu, 17 Mar 2022) |
| EndedAt: 2022-03-17 19:08:52 -0400 (Thu, 17 Mar 2022) |
| EllapsedTime: 45.6 seconds |
| RetCode: 0 |
| Status: OK |
| CheckDir: frmaTools.Rcheck |
| Warnings: 0 |
##############################################################################
##############################################################################
###
### Running command:
###
### D:\biocbuild\bbs-3.15-bioc\R\bin\R.exe CMD check --no-multiarch --install=check:frmaTools.install-out.txt --library=D:\biocbuild\bbs-3.15-bioc\R\library --no-vignettes --timings frmaTools_1.47.0.tar.gz
###
##############################################################################
##############################################################################
* using log directory 'D:/biocbuild/bbs-3.15-bioc/meat/frmaTools.Rcheck'
* using R Under development (unstable) (2021-11-21 r81221)
* using platform: x86_64-w64-mingw32 (64-bit)
* using session charset: ISO8859-1
* using option '--no-vignettes'
* checking for file 'frmaTools/DESCRIPTION' ... OK
* this is package 'frmaTools' version '1.47.0'
* checking package namespace information ... OK
* checking package dependencies ... OK
* checking if this is a source package ... OK
* checking if there is a namespace ... OK
* checking for hidden files and directories ... NOTE
Found the following hidden files and directories:
inst/VectorPkg-template/data/.dummy.txt
These were most likely included in error. See section 'Package
structure' in the 'Writing R Extensions' manual.
* checking for portable file names ... OK
* checking whether package 'frmaTools' can be installed ... OK
* checking installed package size ... OK
* checking package directory ... OK
* checking 'build' directory ... OK
* checking DESCRIPTION meta-information ... OK
* checking top-level files ... OK
* checking for left-over files ... OK
* checking index information ... OK
* checking package subdirectories ... OK
* checking R files for non-ASCII characters ... OK
* checking R files for syntax errors ... OK
* checking whether the package can be loaded ... OK
* checking whether the package can be loaded with stated dependencies ... OK
* checking whether the package can be unloaded cleanly ... OK
* checking whether the namespace can be loaded with stated dependencies ... OK
* checking whether the namespace can be unloaded cleanly ... OK
* checking dependencies in R code ... NOTE
'library' or 'require' call to 'oligo' in package code.
Please use :: or requireNamespace() instead.
See section 'Suggested packages' in the 'Writing R Extensions' manual.
Package in Depends field not imported from: 'affy'
These packages need to be imported from (in the NAMESPACE file)
for when this namespace is loaded but not attached.
* checking S3 generic/method consistency ... OK
* checking replacement functions ... OK
* checking foreign function calls ... OK
* checking R code for possible problems ... NOTE
convertPlatform: no visible global function definition for
'cleancdfname'
convertPlatform: no visible global function definition for 'cdfName'
convertPlatform: no visible global function definition for 'probeNames'
convertPlatform: no visible global function definition for 'pmindex'
getFidMetaProbesetCore: no visible global function definition for 'db'
getFidMetaProbesetExtended: no visible global function definition for
'db'
getFidMetaProbesetFull: no visible global function definition for 'db'
getFidProbeset: no visible global function definition for 'db'
makeMaps: no visible global function definition for 'xy2indices'
makeVectorsAffyBatch: no visible global function definition for
'ReadAffy'
makeVectorsAffyBatch: no visible global function definition for
'bg.correct.rma'
makeVectorsAffyBatch: no visible global function definition for 'pm'
makeVectorsAffyBatch: no visible global function definition for
'probeNames'
makeVectorsAffyBatch: no visible global function definition for
'pmindex'
makeVectorsAffyBatch: no visible global function definition for
'packageVersion'
makeVectorsFeatureSet: no visible global function definition for
'read.celfiles'
makeVectorsFeatureSet: no visible global function definition for
'backgroundCorrect'
Undefined global functions or variables:
ReadAffy backgroundCorrect bg.correct.rma cdfName cleancdfname db
packageVersion pm pmindex probeNames read.celfiles xy2indices
Consider adding
importFrom("utils", "packageVersion")
to your NAMESPACE file.
* checking Rd files ... OK
* checking Rd metadata ... OK
* checking Rd cross-references ... OK
* checking for missing documentation entries ... OK
* checking for code/documentation mismatches ... OK
* checking Rd \usage sections ... OK
* checking Rd contents ... OK
* checking for unstated dependencies in examples ... OK
* checking files in 'vignettes' ... OK
* checking examples ... OK
Examples with CPU (user + system) or elapsed time > 5s
user system elapsed
convertPlatform 5.42 0.5 5.92
* checking for unstated dependencies in vignettes ... OK
* checking package vignettes in 'inst/doc' ... OK
* checking running R code from vignettes ... SKIPPED
* checking re-building of vignette outputs ... SKIPPED
* checking PDF version of manual ... OK
* DONE
Status: 3 NOTEs
See
'D:/biocbuild/bbs-3.15-bioc/meat/frmaTools.Rcheck/00check.log'
for details.
frmaTools.Rcheck/00install.out
##############################################################################
##############################################################################
###
### Running command:
###
### D:\biocbuild\bbs-3.15-bioc\R\bin\R.exe CMD INSTALL frmaTools
###
##############################################################################
##############################################################################
* installing to library 'D:/biocbuild/bbs-3.15-bioc/R/library'
* installing *source* package 'frmaTools' ...
** using staged installation
** R
** inst
** byte-compile and prepare package for lazy loading
** help
*** installing help indices
converting help for package 'frmaTools'
finding HTML links ... done
convertPlatform html
makeVectorPackage html
** building package indices
** installing vignettes
** testing if installed package can be loaded from temporary location
** testing if installed package can be loaded from final location
** testing if installed package keeps a record of temporary installation path
* DONE (frmaTools)
Making 'packages.html' ...Warning in packageDescription(i, lib.loc = lib, fields = "Title", encoding = "UTF-8") :
DESCRIPTION file of package 'ExiMiR' is missing or broken
Warning in packageDescription(i, lib.loc = lib, fields = "Title", encoding = "UTF-8") :
DESCRIPTION file of package 'sscore' is missing or broken
done
frmaTools.Rcheck/frmaTools-Ex.timings
| name | user | system | elapsed | |
| convertPlatform | 5.42 | 0.50 | 5.92 | |
| makeVectorPackage | 0 | 0 | 0 | |