| Back to Multiple platform build/check report for BioC 3.15 |
|
This page was generated on 2022-03-18 11:07:33 -0400 (Fri, 18 Mar 2022).
| Hostname | OS | Arch (*) | R version | Installed pkgs |
|---|---|---|---|---|
| nebbiolo1 | Linux (Ubuntu 20.04.4 LTS) | x86_64 | R Under development (unstable) (2022-02-17 r81757) -- "Unsuffered Consequences" | 4334 |
| riesling1 | Windows Server 2019 Standard | x64 | R Under development (unstable) (2021-11-21 r81221) -- "Unsuffered Consequences" | 4097 |
| palomino3 | Windows Server 2022 Datacenter | x64 | R Under development (unstable) (2022-02-17 r81757 ucrt) -- "Unsuffered Consequences" | 4083 |
| merida1 | macOS 10.14.6 Mojave | x86_64 | R Under development (unstable) (2022-03-02 r81842) -- "Unsuffered Consequences" | 4134 |
| Click on any hostname to see more info about the system (e.g. compilers) (*) as reported by 'uname -p', except on Windows and Mac OS X | ||||
|
To the developers/maintainers of the frma package: - Please allow up to 24 hours (and sometimes 48 hours) for your latest push to git@git.bioconductor.org:packages/frma.git to reflect on this report. See How and When does the builder pull? When will my changes propagate? here for more information. - Make sure to use the following settings in order to reproduce any error or warning you see on this page. |
| Package 688/2090 | Hostname | OS / Arch | INSTALL | BUILD | CHECK | BUILD BIN | ||||||||
| frma 1.47.0 (landing page) Matthew N. McCall
| nebbiolo1 | Linux (Ubuntu 20.04.4 LTS) / x86_64 | OK | OK | OK | |||||||||
| riesling1 | Windows Server 2019 Standard / x64 | OK | OK | OK | OK | |||||||||
| palomino3 | Windows Server 2022 Datacenter / x64 | OK | OK | OK | OK | |||||||||
| merida1 | macOS 10.14.6 Mojave / x86_64 | OK | OK | OK | OK | |||||||||
| Package: frma |
| Version: 1.47.0 |
| Command: D:\biocbuild\bbs-3.15-bioc\R\bin\R.exe CMD check --no-multiarch --install=check:frma.install-out.txt --library=D:\biocbuild\bbs-3.15-bioc\R\library --no-vignettes --timings frma_1.47.0.tar.gz |
| StartedAt: 2022-03-17 19:08:05 -0400 (Thu, 17 Mar 2022) |
| EndedAt: 2022-03-17 19:11:01 -0400 (Thu, 17 Mar 2022) |
| EllapsedTime: 175.5 seconds |
| RetCode: 0 |
| Status: OK |
| CheckDir: frma.Rcheck |
| Warnings: 0 |
##############################################################################
##############################################################################
###
### Running command:
###
### D:\biocbuild\bbs-3.15-bioc\R\bin\R.exe CMD check --no-multiarch --install=check:frma.install-out.txt --library=D:\biocbuild\bbs-3.15-bioc\R\library --no-vignettes --timings frma_1.47.0.tar.gz
###
##############################################################################
##############################################################################
* using log directory 'D:/biocbuild/bbs-3.15-bioc/meat/frma.Rcheck'
* using R Under development (unstable) (2021-11-21 r81221)
* using platform: x86_64-w64-mingw32 (64-bit)
* using session charset: ISO8859-1
* using option '--no-vignettes'
* checking for file 'frma/DESCRIPTION' ... OK
* this is package 'frma' version '1.47.0'
* checking package namespace information ... OK
* checking package dependencies ... OK
* checking if this is a source package ... OK
* checking if there is a namespace ... OK
* checking for hidden files and directories ... OK
* checking for portable file names ... OK
* checking whether package 'frma' can be installed ... OK
* checking installed package size ... OK
* checking package directory ... OK
* checking 'build' directory ... OK
* checking DESCRIPTION meta-information ... NOTE
Package listed in more than one of Depends, Imports, Suggests, Enhances:
'Biobase'
A package should be listed in only one of these fields.
* checking top-level files ... OK
* checking for left-over files ... OK
* checking index information ... OK
* checking package subdirectories ... OK
* checking R files for non-ASCII characters ... OK
* checking R files for syntax errors ... OK
* checking whether the package can be loaded ... OK
* checking whether the package can be loaded with stated dependencies ... OK
* checking whether the package can be unloaded cleanly ... OK
* checking whether the namespace can be loaded with stated dependencies ... OK
* checking whether the namespace can be unloaded cleanly ... OK
* checking dependencies in R code ... OK
* checking S3 generic/method consistency ... OK
* checking replacement functions ... OK
* checking foreign function calls ... OK
* checking R code for possible problems ... NOTE
GNUSE: no visible binding for global variable 'median'
GNUSE: no visible binding for global variable 'quantile'
GNUSE: no visible global function definition for 'boxplot'
barcode: no visible global function definition for 'pnorm'
batchFit: no visible global function definition for 'median'
coerce<-,frmaExpressionSet-ExpressionSet: no visible global function
definition for 'slot<-'
coerce<-,frmaExpressionSet-ExpressionSet: no visible global function
definition for 'slot'
randomeffects<-,frmaExpressionSet: no visible global function
definition for 'validObject'
residuals<-,frmaExpressionSet: no visible global function definition
for 'validObject'
se.exprs<-,ExpressionSet: no visible global function definition for
'validObject'
se.exprs<-,frmaExpressionSet: no visible global function definition for
'validObject'
weights<-,frmaExpressionSet: no visible global function definition for
'validObject'
Undefined global functions or variables:
boxplot median pnorm quantile slot slot<- validObject
Consider adding
importFrom("graphics", "boxplot")
importFrom("methods", "slot", "slot<-", "validObject")
importFrom("stats", "median", "pnorm", "quantile")
to your NAMESPACE file (and ensure that your DESCRIPTION Imports field
contains 'methods').
* checking Rd files ... OK
* checking Rd metadata ... OK
* checking Rd cross-references ... OK
* checking for missing documentation entries ... OK
* checking for code/documentation mismatches ... OK
* checking Rd \usage sections ... OK
* checking Rd contents ... OK
* checking for unstated dependencies in examples ... OK
* checking files in 'vignettes' ... OK
* checking examples ... OK
Examples with CPU (user + system) or elapsed time > 5s
user system elapsed
GNUSE 12.18 2.64 14.83
barcode 9.14 1.54 10.68
frma 9.34 0.82 10.16
* checking for unstated dependencies in vignettes ... OK
* checking package vignettes in 'inst/doc' ... OK
* checking running R code from vignettes ... SKIPPED
* checking re-building of vignette outputs ... SKIPPED
* checking PDF version of manual ... OK
* DONE
Status: 2 NOTEs
See
'D:/biocbuild/bbs-3.15-bioc/meat/frma.Rcheck/00check.log'
for details.
frma.Rcheck/00install.out
##############################################################################
##############################################################################
###
### Running command:
###
### D:\biocbuild\bbs-3.15-bioc\R\bin\R.exe CMD INSTALL frma
###
##############################################################################
##############################################################################
* installing to library 'D:/biocbuild/bbs-3.15-bioc/R/library'
* installing *source* package 'frma' ...
** using staged installation
** R
** inst
** byte-compile and prepare package for lazy loading
** help
*** installing help indices
converting help for package 'frma'
finding HTML links ... done
GNUSE html
barcode html
frma html
frmaExpressionSet-class html
** building package indices
** installing vignettes
** testing if installed package can be loaded from temporary location
** testing if installed package can be loaded from final location
** testing if installed package keeps a record of temporary installation path
* DONE (frma)
Making 'packages.html' ... done
frma.Rcheck/frma-Ex.timings
| name | user | system | elapsed | |
| GNUSE | 12.18 | 2.64 | 14.83 | |
| barcode | 9.14 | 1.54 | 10.68 | |
| frma | 9.34 | 0.82 | 10.16 | |
| frmaExpressionSet-class | 0.11 | 0.00 | 0.11 | |