| Back to Multiple platform build/check report for BioC 3.15 |
|
This page was generated on 2022-03-18 11:07:31 -0400 (Fri, 18 Mar 2022).
| Hostname | OS | Arch (*) | R version | Installed pkgs |
|---|---|---|---|---|
| nebbiolo1 | Linux (Ubuntu 20.04.4 LTS) | x86_64 | R Under development (unstable) (2022-02-17 r81757) -- "Unsuffered Consequences" | 4334 |
| riesling1 | Windows Server 2019 Standard | x64 | R Under development (unstable) (2021-11-21 r81221) -- "Unsuffered Consequences" | 4097 |
| palomino3 | Windows Server 2022 Datacenter | x64 | R Under development (unstable) (2022-02-17 r81757 ucrt) -- "Unsuffered Consequences" | 4083 |
| merida1 | macOS 10.14.6 Mojave | x86_64 | R Under development (unstable) (2022-03-02 r81842) -- "Unsuffered Consequences" | 4134 |
| Click on any hostname to see more info about the system (e.g. compilers) (*) as reported by 'uname -p', except on Windows and Mac OS X | ||||
|
To the developers/maintainers of the flowPeaks package: - Please allow up to 24 hours (and sometimes 48 hours) for your latest push to git@git.bioconductor.org:packages/flowPeaks.git to reflect on this report. See How and When does the builder pull? When will my changes propagate? here for more information. - Make sure to use the following settings in order to reproduce any error or warning you see on this page. |
| Package 669/2090 | Hostname | OS / Arch | INSTALL | BUILD | CHECK | BUILD BIN | ||||||||
| flowPeaks 1.41.0 (landing page) Yongchao Ge
| nebbiolo1 | Linux (Ubuntu 20.04.4 LTS) / x86_64 | OK | OK | OK | |||||||||
| riesling1 | Windows Server 2019 Standard / x64 | OK | OK | OK | OK | |||||||||
| palomino3 | Windows Server 2022 Datacenter / x64 | ERROR | ERROR | skipped | skipped | |||||||||
| merida1 | macOS 10.14.6 Mojave / x86_64 | OK | OK | WARNINGS | OK | |||||||||
| Package: flowPeaks |
| Version: 1.41.0 |
| Command: rm -rf flowPeaks.buildbin-libdir && mkdir flowPeaks.buildbin-libdir && D:\biocbuild\bbs-3.15-bioc\R\bin\R.exe CMD INSTALL --build --library=flowPeaks.buildbin-libdir flowPeaks_1.41.0.tar.gz |
| StartedAt: 2022-03-17 21:08:42 -0400 (Thu, 17 Mar 2022) |
| EndedAt: 2022-03-17 21:09:57 -0400 (Thu, 17 Mar 2022) |
| EllapsedTime: 74.8 seconds |
| RetCode: 0 |
| Status: OK |
| PackageFile: flowPeaks_1.41.0.zip |
| PackageFileSize: 2.097 MiB |
##############################################################################
##############################################################################
###
### Running command:
###
### rm -rf flowPeaks.buildbin-libdir && mkdir flowPeaks.buildbin-libdir && D:\biocbuild\bbs-3.15-bioc\R\bin\R.exe CMD INSTALL --build --library=flowPeaks.buildbin-libdir flowPeaks_1.41.0.tar.gz
###
##############################################################################
##############################################################################
* installing *source* package 'flowPeaks' ...
** using staged installation
** libs
rm -f flowPeaks.dll Rpack.o Rregistrate.o VoronoiDiagramGenerator.o flowPeaks.o func_collect.o func_collect_supp.o gvector_gmatrix.o kd_tree.o kmns.o
"D:/biocbuild/bbs-3.15-bioc/R/bin/x64/Rscript.exe" "../tools/winlibs.R"
"C:/rtools40/mingw64/bin/"g++ -std=gnu++11 -I"D:/biocbuild/bbs-3.15-bioc/R/include" -DNDEBUG -I"C:/extsoft/include" -I/src/include -I../windows/gsl-master/include/gsl -O2 -Wall -mfpmath=sse -msse2 -mstackrealign -fno-reorder-blocks-and-partition -c Rpack.cpp -o Rpack.o
Rpack.cpp: In function 'void Rpack_relevel(int*, int*, int*, int*, int*, int*)':
Rpack.cpp:141:18: warning: comparison of integer expressions of different signedness: 'std::map<int, int>::size_type' {aka 'long long unsigned int'} and 'int' [-Wsign-compare]
if(levels.size()<(i+1)){
~~~~~~~~~~~~~^~~~~~
"C:/rtools40/mingw64/bin/"g++ -std=gnu++11 -I"D:/biocbuild/bbs-3.15-bioc/R/include" -DNDEBUG -I"C:/extsoft/include" -I/src/include -I../windows/gsl-master/include/gsl -O2 -Wall -mfpmath=sse -msse2 -mstackrealign -fno-reorder-blocks-and-partition -c Rregistrate.cpp -o Rregistrate.o
"C:/rtools40/mingw64/bin/"g++ -std=gnu++11 -I"D:/biocbuild/bbs-3.15-bioc/R/include" -DNDEBUG -I"C:/extsoft/include" -I/src/include -I../windows/gsl-master/include/gsl -O2 -Wall -mfpmath=sse -msse2 -mstackrealign -fno-reorder-blocks-and-partition -c VoronoiDiagramGenerator.cpp -o VoronoiDiagramGenerator.o
VoronoiDiagramGenerator.cpp: In member function 'void VoronoiDiagramGenerator::out_site(Site*)':
VoronoiDiagramGenerator.cpp:803:5: warning: suggest parentheses around operand of '!' or change '&' to '&&' or '!' to '~' [-Wparentheses]
if(!triangulate & plot & !debug)
^~~~~~~~~~~~
"C:/rtools40/mingw64/bin/"g++ -std=gnu++11 -I"D:/biocbuild/bbs-3.15-bioc/R/include" -DNDEBUG -I"C:/extsoft/include" -I/src/include -I../windows/gsl-master/include/gsl -O2 -Wall -mfpmath=sse -msse2 -mstackrealign -fno-reorder-blocks-and-partition -c flowPeaks.cpp -o flowPeaks.o
"C:/rtools40/mingw64/bin/"g++ -std=gnu++11 -I"D:/biocbuild/bbs-3.15-bioc/R/include" -DNDEBUG -I"C:/extsoft/include" -I/src/include -I../windows/gsl-master/include/gsl -O2 -Wall -mfpmath=sse -msse2 -mstackrealign -fno-reorder-blocks-and-partition -c func_collect.cpp -o func_collect.o
"C:/rtools40/mingw64/bin/"g++ -std=gnu++11 -I"D:/biocbuild/bbs-3.15-bioc/R/include" -DNDEBUG -I"C:/extsoft/include" -I/src/include -I../windows/gsl-master/include/gsl -O2 -Wall -mfpmath=sse -msse2 -mstackrealign -fno-reorder-blocks-and-partition -c func_collect_supp.cpp -o func_collect_supp.o
"C:/rtools40/mingw64/bin/"g++ -std=gnu++11 -I"D:/biocbuild/bbs-3.15-bioc/R/include" -DNDEBUG -I"C:/extsoft/include" -I/src/include -I../windows/gsl-master/include/gsl -O2 -Wall -mfpmath=sse -msse2 -mstackrealign -fno-reorder-blocks-and-partition -c gvector_gmatrix.cpp -o gvector_gmatrix.o
"C:/rtools40/mingw64/bin/"g++ -std=gnu++11 -I"D:/biocbuild/bbs-3.15-bioc/R/include" -DNDEBUG -I"C:/extsoft/include" -I/src/include -I../windows/gsl-master/include/gsl -O2 -Wall -mfpmath=sse -msse2 -mstackrealign -fno-reorder-blocks-and-partition -c kd_tree.cpp -o kd_tree.o
"C:/rtools40/mingw64/bin/"g++ -std=gnu++11 -I"D:/biocbuild/bbs-3.15-bioc/R/include" -DNDEBUG -I"C:/extsoft/include" -I/src/include -I../windows/gsl-master/include/gsl -O2 -Wall -mfpmath=sse -msse2 -mstackrealign -fno-reorder-blocks-and-partition -c kmns.cpp -o kmns.o
C:/rtools40/mingw64/bin/g++ -std=gnu++11 -shared -s -static-libgcc -o flowPeaks.dll tmp.def Rpack.o Rregistrate.o VoronoiDiagramGenerator.o flowPeaks.o func_collect.o func_collect_supp.o gvector_gmatrix.o kd_tree.o kmns.o -L../windows/gsl-master/lib/x64 -lgsl -lgslcblas -lm -LC:/extsoft/lib/x64 -LC:/extsoft/lib -LD:/biocbuild/bbs-3.15-bioc/R/bin/x64 -lR
installing to D:/biocbuild/bbs-3.15-bioc/meat/flowPeaks.buildbin-libdir/00LOCK-flowPeaks/00new/flowPeaks/libs/x64
** R
** data
** inst
** byte-compile and prepare package for lazy loading
** help
*** installing help indices
converting help for package 'flowPeaks'
finding HTML links ... done
adjust.flowPeaks html
assign.flowPeaks html
barcode html
concave html
evalCluster html
flowPeaks html
plot.flowPeaks html
print.flowPeaks html
summary.flowPeaks html
** building package indices
** installing vignettes
** testing if installed package can be loaded from temporary location
** testing if installed package can be loaded from final location
** testing if installed package keeps a record of temporary installation path
* MD5 sums
packaged installation of 'flowPeaks' as flowPeaks_1.41.0.zip
* DONE (flowPeaks)