| Back to Multiple platform build/check report for BioC 3.15 |
|
This page was generated on 2022-10-19 13:21:30 -0400 (Wed, 19 Oct 2022).
| Hostname | OS | Arch (*) | R version | Installed pkgs |
|---|---|---|---|---|
| nebbiolo1 | Linux (Ubuntu 20.04.5 LTS) | x86_64 | 4.2.1 (2022-06-23) -- "Funny-Looking Kid" | 4386 |
| palomino3 | Windows Server 2022 Datacenter | x64 | 4.2.1 (2022-06-23 ucrt) -- "Funny-Looking Kid" | 4138 |
| merida1 | macOS 10.14.6 Mojave | x86_64 | 4.2.1 (2022-06-23) -- "Funny-Looking Kid" | 4205 |
| Click on any hostname to see more info about the system (e.g. compilers) (*) as reported by 'uname -p', except on Windows and Mac OS X | ||||
|
To the developers/maintainers of the flowGraph package: - Please allow up to 24 hours (and sometimes 48 hours) for your latest push to git@git.bioconductor.org:packages/flowGraph.git to reflect on this report. See How and When does the builder pull? When will my changes propagate? for more information. - Make sure to use the following settings in order to reproduce any error or warning you see on this page. |
| Package 683/2140 | Hostname | OS / Arch | INSTALL | BUILD | CHECK | BUILD BIN | ||||||||
| flowGraph 1.4.0 (landing page) Alice Yue
| nebbiolo1 | Linux (Ubuntu 20.04.5 LTS) / x86_64 | OK | OK | OK | |||||||||
| palomino3 | Windows Server 2022 Datacenter / x64 | OK | OK | OK | OK | |||||||||
| merida1 | macOS 10.14.6 Mojave / x86_64 | OK | OK | OK | OK | |||||||||
| Package: flowGraph |
| Version: 1.4.0 |
| Command: F:\biocbuild\bbs-3.15-bioc\R\bin\R.exe CMD check --no-multiarch --install=check:flowGraph.install-out.txt --library=F:\biocbuild\bbs-3.15-bioc\R\library --no-vignettes --timings flowGraph_1.4.0.tar.gz |
| StartedAt: 2022-10-19 00:17:48 -0400 (Wed, 19 Oct 2022) |
| EndedAt: 2022-10-19 00:22:09 -0400 (Wed, 19 Oct 2022) |
| EllapsedTime: 261.3 seconds |
| RetCode: 0 |
| Status: OK |
| CheckDir: flowGraph.Rcheck |
| Warnings: 0 |
##############################################################################
##############################################################################
###
### Running command:
###
### F:\biocbuild\bbs-3.15-bioc\R\bin\R.exe CMD check --no-multiarch --install=check:flowGraph.install-out.txt --library=F:\biocbuild\bbs-3.15-bioc\R\library --no-vignettes --timings flowGraph_1.4.0.tar.gz
###
##############################################################################
##############################################################################
* using log directory 'F:/biocbuild/bbs-3.15-bioc/meat/flowGraph.Rcheck'
* using R version 4.2.1 (2022-06-23 ucrt)
* using platform: x86_64-w64-mingw32 (64-bit)
* using session charset: UTF-8
* using option '--no-vignettes'
* checking for file 'flowGraph/DESCRIPTION' ... OK
* checking extension type ... Package
* this is package 'flowGraph' version '1.4.0'
* checking package namespace information ... OK
* checking package dependencies ... OK
* checking if this is a source package ... OK
* checking if there is a namespace ... OK
* checking for hidden files and directories ... OK
* checking for portable file names ... OK
* checking whether package 'flowGraph' can be installed ... OK
* checking installed package size ... OK
* checking package directory ... OK
* checking 'build' directory ... OK
* checking DESCRIPTION meta-information ... OK
* checking top-level files ... OK
* checking for left-over files ... OK
* checking index information ... OK
* checking package subdirectories ... OK
* checking R files for non-ASCII characters ... OK
* checking R files for syntax errors ... OK
* checking whether the package can be loaded ... OK
* checking whether the package can be loaded with stated dependencies ... OK
* checking whether the package can be unloaded cleanly ... OK
* checking whether the namespace can be loaded with stated dependencies ... OK
* checking whether the namespace can be unloaded cleanly ... OK
* checking dependencies in R code ... OK
* checking S3 generic/method consistency ... OK
* checking replacement functions ... OK
* checking foreign function calls ... OK
* checking R code for possible problems ... NOTE
get_child: no visible binding for global variable 'no_cores'
get_paren: no visible binding for global variable 'no_cores'
ms_psig: no visible binding for global variable 'meta'
Undefined global functions or variables:
meta no_cores
* checking Rd files ... OK
* checking Rd metadata ... OK
* checking Rd cross-references ... OK
* checking for missing documentation entries ... OK
* checking for code/documentation mismatches ... OK
* checking Rd \usage sections ... OK
* checking Rd contents ... OK
* checking for unstated dependencies in examples ... OK
* checking contents of 'data' directory ... OK
* checking data for non-ASCII characters ... OK
* checking data for ASCII and uncompressed saves ... OK
* checking files in 'vignettes' ... OK
* checking examples ... OK
Examples with CPU (user + system) or elapsed time > 5s
user system elapsed
fg_save_plots 45.17 0.50 45.68
fg_save 43.73 0.51 44.25
fg_load 43.27 0.58 43.88
* checking for unstated dependencies in 'tests' ... OK
* checking tests ...
Running 'testthat.R'
OK
* checking for unstated dependencies in vignettes ... OK
* checking package vignettes in 'inst/doc' ... OK
* checking running R code from vignettes ... SKIPPED
* checking re-building of vignette outputs ... SKIPPED
* checking PDF version of manual ... OK
* DONE
Status: 1 NOTE
See
'F:/biocbuild/bbs-3.15-bioc/meat/flowGraph.Rcheck/00check.log'
for details.
flowGraph.Rcheck/00install.out
############################################################################## ############################################################################## ### ### Running command: ### ### F:\biocbuild\bbs-3.15-bioc\R\bin\R.exe CMD INSTALL flowGraph ### ############################################################################## ############################################################################## * installing to library 'F:/biocbuild/bbs-3.15-bioc/R/library' * installing *source* package 'flowGraph' ... ** using staged installation ** R ** data ** inst ** byte-compile and prepare package for lazy loading ** help Loading required namespace: flowGraph *** installing help indices ** building package indices ** installing vignettes ** testing if installed package can be loaded from temporary location ** testing if installed package can be loaded from final location ** testing if installed package keeps a record of temporary installation path * DONE (flowGraph)
flowGraph.Rcheck/tests/testthat.Rout
R version 4.2.1 (2022-06-23 ucrt) -- "Funny-Looking Kid"
Copyright (C) 2022 The R Foundation for Statistical Computing
Platform: x86_64-w64-mingw32/x64 (64-bit)
R is free software and comes with ABSOLUTELY NO WARRANTY.
You are welcome to redistribute it under certain conditions.
Type 'license()' or 'licence()' for distribution details.
R is a collaborative project with many contributors.
Type 'contributors()' for more information and
'citation()' on how to cite R or R packages in publications.
Type 'demo()' for some demos, 'help()' for on-line help, or
'help.start()' for an HTML browser interface to help.
Type 'q()' to quit R.
> library(testthat)
> library(flowGraph)
>
> test_check("flowGraph")
[ FAIL 0 | WARN 0 | SKIP 0 | PASS 34 ]
>
> proc.time()
user system elapsed
5.75 0.50 6.23
flowGraph.Rcheck/flowGraph-Ex.timings
| name | user | system | elapsed | |
| cell_type_layers | 0 | 0 | 0 | |
| fg_add_feature | 0.40 | 0.04 | 0.44 | |
| fg_add_summary | 0.87 | 0.03 | 0.91 | |
| fg_clean_phen | 0 | 0 | 0 | |
| fg_clear_features | 0.77 | 0.00 | 0.77 | |
| fg_clear_summary | 0.34 | 0.00 | 0.34 | |
| fg_extract_phenotypes | 0.25 | 0.00 | 0.25 | |
| fg_extract_raw | 0.83 | 0.01 | 0.84 | |
| fg_extract_samples | 0.31 | 0.02 | 0.33 | |
| fg_feat_cumsum | 0.21 | 0.01 | 0.22 | |
| fg_feat_edge_specenr | 0.54 | 0.00 | 0.55 | |
| fg_feat_mean_class | 0.30 | 0.00 | 0.29 | |
| fg_feat_node_prop | 0.22 | 0.00 | 0.22 | |
| fg_feat_node_specenr | 0.33 | 0.00 | 0.33 | |
| fg_feat_prop_edge | 0.22 | 0.00 | 0.21 | |
| fg_get_feature | 0.23 | 0.00 | 0.24 | |
| fg_get_feature_desc | 0.77 | 0.03 | 0.80 | |
| fg_get_feature_means | 1.31 | 0.00 | 1.31 | |
| fg_get_graph | 0.25 | 0.00 | 0.25 | |
| fg_get_markers | 0.22 | 0.00 | 0.22 | |
| fg_get_meta | 0.20 | 0.02 | 0.22 | |
| fg_get_summary | 1.89 | 0.02 | 1.91 | |
| fg_get_summary_desc | 1.05 | 0.01 | 1.06 | |
| fg_get_summary_index | 1.81 | 0.07 | 1.88 | |
| fg_get_summary_tables | 1.20 | 0.01 | 1.21 | |
| fg_gsub_ids | 0.19 | 0.02 | 0.21 | |
| fg_gsub_markers | 0.34 | 0.00 | 0.34 | |
| fg_load | 43.27 | 0.58 | 43.88 | |
| fg_merge | 0.38 | 0.03 | 0.40 | |
| fg_merge_samples | 0.41 | 0.00 | 0.40 | |
| fg_plot | 0.43 | 0.01 | 0.46 | |
| fg_plot_box | 0.80 | 0.00 | 0.79 | |
| fg_plot_pVSdiff | 0.49 | 0.00 | 0.49 | |
| fg_plot_qq | 1.45 | 0.02 | 1.72 | |
| fg_replace_meta | 0.3 | 0.0 | 0.3 | |
| fg_rm_feature | 1.06 | 0.03 | 1.09 | |
| fg_rm_summary | 0.46 | 0.00 | 0.46 | |
| fg_save | 43.73 | 0.51 | 44.25 | |
| fg_save_plots | 45.17 | 0.50 | 45.68 | |
| fg_set_layout | 0.22 | 0.02 | 0.24 | |
| fg_summary | 0.31 | 0.00 | 0.31 | |
| flowGraph-class | 0 | 0 | 0 | |
| flowGraph | 1.11 | 0.00 | 1.11 | |
| flowGraphSubset | 0 | 0 | 0 | |
| flowGraphSubset_summary_adjust | 0 | 0 | 0 | |
| flowGraphSubset_summary_pars | 0 | 0 | 0 | |
| get_phen_list | 0.02 | 0.00 | 0.02 | |
| get_phen_meta | 0 | 0 | 0 | |
| ggdf | 0.28 | 0.03 | 0.31 | |
| loop_ind_f | 0 | 0 | 0 | |
| meandiff | 0 | 0 | 0 | |
| plot_gr | 1.56 | 0.10 | 2.01 | |
| set_layout_graph | 0.32 | 0.03 | 0.35 | |
| summary_table | 0 | 0 | 0 | |
| time_output | 0 | 0 | 0 | |
| tstr | 0 | 0 | 0 | |