| Back to Multiple platform build/check report for BioC 3.15 |
|
This page was generated on 2022-03-18 11:07:30 -0400 (Fri, 18 Mar 2022).
| Hostname | OS | Arch (*) | R version | Installed pkgs |
|---|---|---|---|---|
| nebbiolo1 | Linux (Ubuntu 20.04.4 LTS) | x86_64 | R Under development (unstable) (2022-02-17 r81757) -- "Unsuffered Consequences" | 4334 |
| riesling1 | Windows Server 2019 Standard | x64 | R Under development (unstable) (2021-11-21 r81221) -- "Unsuffered Consequences" | 4097 |
| palomino3 | Windows Server 2022 Datacenter | x64 | R Under development (unstable) (2022-02-17 r81757 ucrt) -- "Unsuffered Consequences" | 4083 |
| merida1 | macOS 10.14.6 Mojave | x86_64 | R Under development (unstable) (2022-03-02 r81842) -- "Unsuffered Consequences" | 4134 |
| Click on any hostname to see more info about the system (e.g. compilers) (*) as reported by 'uname -p', except on Windows and Mac OS X | ||||
|
To the developers/maintainers of the ffpe package: - Please allow up to 24 hours (and sometimes 48 hours) for your latest push to git@git.bioconductor.org:packages/ffpe.git to reflect on this report. See How and When does the builder pull? When will my changes propagate? here for more information. - Make sure to use the following settings in order to reproduce any error or warning you see on this page. |
| Package 640/2090 | Hostname | OS / Arch | INSTALL | BUILD | CHECK | BUILD BIN | ||||||||
| ffpe 1.39.0 (landing page) Levi Waldron
| nebbiolo1 | Linux (Ubuntu 20.04.4 LTS) / x86_64 | OK | OK | OK | |||||||||
| riesling1 | Windows Server 2019 Standard / x64 | OK | OK | OK | OK | |||||||||
| palomino3 | Windows Server 2022 Datacenter / x64 | OK | OK | OK | OK | |||||||||
| merida1 | macOS 10.14.6 Mojave / x86_64 | OK | OK | OK | OK | |||||||||
| Package: ffpe |
| Version: 1.39.0 |
| Command: D:\biocbuild\bbs-3.15-bioc\R\bin\R.exe CMD check --no-multiarch --install=check:ffpe.install-out.txt --library=D:\biocbuild\bbs-3.15-bioc\R\library --no-vignettes --timings ffpe_1.39.0.tar.gz |
| StartedAt: 2022-03-17 19:05:20 -0400 (Thu, 17 Mar 2022) |
| EndedAt: 2022-03-17 19:09:39 -0400 (Thu, 17 Mar 2022) |
| EllapsedTime: 258.8 seconds |
| RetCode: 0 |
| Status: OK |
| CheckDir: ffpe.Rcheck |
| Warnings: 0 |
##############################################################################
##############################################################################
###
### Running command:
###
### D:\biocbuild\bbs-3.15-bioc\R\bin\R.exe CMD check --no-multiarch --install=check:ffpe.install-out.txt --library=D:\biocbuild\bbs-3.15-bioc\R\library --no-vignettes --timings ffpe_1.39.0.tar.gz
###
##############################################################################
##############################################################################
* using log directory 'D:/biocbuild/bbs-3.15-bioc/meat/ffpe.Rcheck'
* using R Under development (unstable) (2021-11-21 r81221)
* using platform: x86_64-w64-mingw32 (64-bit)
* using session charset: ISO8859-1
* using option '--no-vignettes'
* checking for file 'ffpe/DESCRIPTION' ... OK
* checking extension type ... Package
* this is package 'ffpe' version '1.39.0'
* checking package namespace information ... OK
* checking package dependencies ... OK
* checking if this is a source package ... OK
* checking if there is a namespace ... OK
* checking for hidden files and directories ... OK
* checking for portable file names ... OK
* checking whether package 'ffpe' can be installed ... OK
* checking installed package size ... OK
* checking package directory ... OK
* checking 'build' directory ... OK
* checking DESCRIPTION meta-information ... OK
* checking top-level files ... OK
* checking for left-over files ... OK
* checking index information ... OK
* checking package subdirectories ... OK
* checking R files for non-ASCII characters ... OK
* checking R files for syntax errors ... OK
* checking whether the package can be loaded ... OK
* checking whether the package can be loaded with stated dependencies ... OK
* checking whether the package can be unloaded cleanly ... OK
* checking whether the namespace can be loaded with stated dependencies ... OK
* checking whether the namespace can be unloaded cleanly ... OK
* checking dependencies in R code ... OK
* checking S3 generic/method consistency ... OK
* checking replacement functions ... OK
* checking foreign function calls ... OK
* checking R code for possible problems ... NOTE
CATplot: no visible global function definition for 'abline'
sampleQC,matrix : makeplots: no visible global function definition for
'cor'
sampleQC,matrix : makeplots: no visible global function definition for
'median'
sampleQC,matrix : makeplots: no visible binding for global variable
'median'
sampleQC,matrix : makeplots: no visible global function definition for
'na.omit'
sampleQC,matrix : makeplots: no visible global function definition for
'loess'
sampleQC,matrix : makeplots: no visible global function definition for
'predict'
sampleQC,matrix : makeplots: no visible global function definition for
'IQR'
sampleQC,matrix : makeplots: no visible global function definition for
'abline'
sampleQC,matrix : makeplots: no visible global function definition for
'legend'
sampleQC,matrix : makeplots: no visible global function definition for
'lines'
sampleQC,matrix: no visible binding for global variable 'IQR'
sampleQC,matrix: no visible global function definition for 'na.omit'
sortedIqrPlot,matrix: no visible binding for global variable 'quantile'
sortedIqrPlot,matrix: no visible global function definition for
'segments'
sortedIqrPlot,matrix: no visible binding for global variable 'IQR'
Undefined global functions or variables:
IQR abline cor legend lines loess median na.omit predict quantile
segments
Consider adding
importFrom("graphics", "abline", "legend", "lines", "segments")
importFrom("stats", "IQR", "cor", "loess", "median", "na.omit",
"predict", "quantile")
to your NAMESPACE file.
* checking Rd files ... OK
* checking Rd metadata ... OK
* checking Rd cross-references ... OK
* checking for missing documentation entries ... OK
* checking for code/documentation mismatches ... OK
* checking Rd \usage sections ... OK
* checking Rd contents ... OK
* checking for unstated dependencies in examples ... OK
* checking files in 'vignettes' ... OK
* checking examples ... OK
* checking for unstated dependencies in vignettes ... OK
* checking package vignettes in 'inst/doc' ... OK
* checking running R code from vignettes ... SKIPPED
* checking re-building of vignette outputs ... SKIPPED
* checking PDF version of manual ... OK
* DONE
Status: 1 NOTE
See
'D:/biocbuild/bbs-3.15-bioc/meat/ffpe.Rcheck/00check.log'
for details.
ffpe.Rcheck/00install.out
##############################################################################
##############################################################################
###
### Running command:
###
### D:\biocbuild\bbs-3.15-bioc\R\bin\R.exe CMD INSTALL ffpe
###
##############################################################################
##############################################################################
* installing to library 'D:/biocbuild/bbs-3.15-bioc/R/library'
* installing *source* package 'ffpe' ...
** using staged installation
** R
** inst
** byte-compile and prepare package for lazy loading
No methods found in package 'RSQLite' for request: 'dbListFields' when loading 'lumi'
** help
*** installing help indices
converting help for package 'ffpe'
finding HTML links ... done
CATplot html
ffpe-package html
sampleQC html
sortedIqrPlot html
** building package indices
** installing vignettes
** testing if installed package can be loaded from temporary location
No methods found in package 'RSQLite' for request: 'dbListFields' when loading 'lumi'
** testing if installed package can be loaded from final location
No methods found in package 'RSQLite' for request: 'dbListFields' when loading 'lumi'
** testing if installed package keeps a record of temporary installation path
* DONE (ffpe)
Making 'packages.html' ... done
ffpe.Rcheck/ffpe-Ex.timings
| name | user | system | elapsed | |
| CATplot | 4.03 | 0.25 | 4.28 | |
| ffpe-package | 3.30 | 0.24 | 3.53 | |
| sampleQC | 2.39 | 0.14 | 2.53 | |
| sortedIqrPlot | 1.61 | 0.11 | 1.72 | |